BEGIN:VCALENDAR
VERSION:2.0
PRODID:-//Střelecký Klub Horní Beřkovice - ECPv6.15.17.1//NONSGML v1.0//EN
CALSCALE:GREGORIAN
METHOD:PUBLISH
X-WR-CALNAME:Střelecký Klub Horní Beřkovice
X-ORIGINAL-URL:https://www.skhb.cz
X-WR-CALDESC:Akce na Střelecký Klub Horní Beřkovice
REFRESH-INTERVAL;VALUE=DURATION:PT1H
X-Robots-Tag:noindex
X-PUBLISHED-TTL:PT1H
BEGIN:VTIMEZONE
TZID:Europe/Prague
BEGIN:DAYLIGHT
TZOFFSETFROM:+0100
TZOFFSETTO:+0200
TZNAME:CEST
DTSTART:20210328T010000
END:DAYLIGHT
BEGIN:STANDARD
TZOFFSETFROM:+0200
TZOFFSETTO:+0100
TZNAME:CET
DTSTART:20211031T010000
END:STANDARD
BEGIN:DAYLIGHT
TZOFFSETFROM:+0100
TZOFFSETTO:+0200
TZNAME:CEST
DTSTART:20220327T010000
END:DAYLIGHT
BEGIN:STANDARD
TZOFFSETFROM:+0200
TZOFFSETTO:+0100
TZNAME:CET
DTSTART:20221030T010000
END:STANDARD
BEGIN:DAYLIGHT
TZOFFSETFROM:+0100
TZOFFSETTO:+0200
TZNAME:CEST
DTSTART:20230326T010000
END:DAYLIGHT
BEGIN:STANDARD
TZOFFSETFROM:+0200
TZOFFSETTO:+0100
TZNAME:CET
DTSTART:20231029T010000
END:STANDARD
END:VTIMEZONE
BEGIN:VEVENT
DTSTART;TZID=Europe/Prague:20220820T090000
DTEND;TZID=Europe/Prague:20220820T140000
DTSTAMP:20260423T065501
CREATED:20220804T051529Z
LAST-MODIFIED:20220804T051529Z
UID:4452-1660986000-1661004000@www.skhb.cz
SUMMARY:Lomis Brůža
DESCRIPTION:
URL:https://www.skhb.cz/kalendar-akci/lomis-bruza-2/
END:VEVENT
BEGIN:VEVENT
DTSTART;TZID=Europe/Prague:20220804T150000
DTEND;TZID=Europe/Prague:20220804T190000
DTSTAMP:20260423T065501
CREATED:20220718T043149Z
LAST-MODIFIED:20220718T043149Z
UID:4432-1659625200-1659639600@www.skhb.cz
SUMMARY:rezervace David
DESCRIPTION:
URL:https://www.skhb.cz/kalendar-akci/rezervace-david-139/
END:VEVENT
BEGIN:VEVENT
DTSTART;TZID=Europe/Prague:20220803T150000
DTEND;TZID=Europe/Prague:20220803T170000
DTSTAMP:20260423T065501
CREATED:20220801T183410Z
LAST-MODIFIED:20220801T183410Z
UID:4443-1659538800-1659546000@www.skhb.cz
SUMMARY:Rezervace Buzak
DESCRIPTION:Rezervace Buzak
URL:https://www.skhb.cz/kalendar-akci/rezervace-buzak-5/
END:VEVENT
BEGIN:VEVENT
DTSTART;TZID=Europe/Prague:20220731T080000
DTEND;TZID=Europe/Prague:20220731T123000
DTSTAMP:20260423T065501
CREATED:20220727T170717Z
LAST-MODIFIED:20220727T170717Z
UID:4437-1659254400-1659270600@www.skhb.cz
SUMMARY:Rezervace Čvančar
DESCRIPTION:
URL:https://www.skhb.cz/kalendar-akci/rezervace-cvancar/
END:VEVENT
BEGIN:VEVENT
DTSTART;TZID=Europe/Prague:20220727T150000
DTEND;TZID=Europe/Prague:20220727T200000
DTSTAMP:20260423T065501
CREATED:20220718T043100Z
LAST-MODIFIED:20220718T043100Z
UID:4430-1658934000-1658952000@www.skhb.cz
SUMMARY:rezervace David
DESCRIPTION:
URL:https://www.skhb.cz/kalendar-akci/rezervace-david-138/
END:VEVENT
BEGIN:VEVENT
DTSTART;TZID=Europe/Prague:20220724T120000
DTEND;TZID=Europe/Prague:20220724T160000
DTSTAMP:20260423T065501
CREATED:20220625T100239Z
LAST-MODIFIED:20220625T100239Z
UID:4422-1658664000-1658678400@www.skhb.cz
SUMMARY:rezervace David
DESCRIPTION:
URL:https://www.skhb.cz/kalendar-akci/rezervace-david-137/
END:VEVENT
BEGIN:VEVENT
DTSTART;TZID=Europe/Prague:20220723T090000
DTEND;TZID=Europe/Prague:20220723T113000
DTSTAMP:20260423T065501
CREATED:20220720T083741Z
LAST-MODIFIED:20220720T083741Z
UID:4435-1658566800-1658575800@www.skhb.cz
SUMMARY:Rezervace Bělaška
DESCRIPTION:Údržba a střelba
URL:https://www.skhb.cz/kalendar-akci/rezervace-belaska-4/
END:VEVENT
BEGIN:VEVENT
DTSTART;TZID=Europe/Prague:20220721T150000
DTEND;TZID=Europe/Prague:20220721T190000
DTSTAMP:20260423T065501
CREATED:20220625T100012Z
LAST-MODIFIED:20220625T100012Z
UID:4420-1658415600-1658430000@www.skhb.cz
SUMMARY:rezervace David
DESCRIPTION:
URL:https://www.skhb.cz/kalendar-akci/rezervace-david-136/
END:VEVENT
BEGIN:VEVENT
DTSTART;TZID=Europe/Prague:20220719T150000
DTEND;TZID=Europe/Prague:20220719T190000
DTSTAMP:20260423T065501
CREATED:20220718T042904Z
LAST-MODIFIED:20220718T042904Z
UID:4428-1658242800-1658257200@www.skhb.cz
SUMMARY:rezervace židovska obec
DESCRIPTION:
URL:https://www.skhb.cz/kalendar-akci/rezervace-zidovska-obec-3/
END:VEVENT
BEGIN:VEVENT
DTSTART;TZID=Europe/Prague:20220717T090000
DTEND;TZID=Europe/Prague:20220717T130000
DTSTAMP:20260423T065501
CREATED:20220625T095856Z
LAST-MODIFIED:20220625T095856Z
UID:4418-1658048400-1658062800@www.skhb.cz
SUMMARY:PČR
DESCRIPTION:
URL:https://www.skhb.cz/kalendar-akci/pcr-58/
END:VEVENT
BEGIN:VEVENT
DTSTART;TZID=Europe/Prague:20220716T080000
DTEND;TZID=Europe/Prague:20220716T150000
DTSTAMP:20260423T065501
CREATED:20220625T095719Z
LAST-MODIFIED:20220625T095719Z
UID:4416-1657958400-1657983600@www.skhb.cz
SUMMARY:Lomis Bruza
DESCRIPTION:
URL:https://www.skhb.cz/kalendar-akci/lomis-bruza/
END:VEVENT
BEGIN:VEVENT
DTSTART;TZID=Europe/Prague:20220714T150000
DTEND;TZID=Europe/Prague:20220714T190000
DTSTAMP:20260423T065501
CREATED:20220625T095631Z
LAST-MODIFIED:20220625T095631Z
UID:4414-1657810800-1657825200@www.skhb.cz
SUMMARY:rezervace David
DESCRIPTION:
URL:https://www.skhb.cz/kalendar-akci/rezervace-david-135/
END:VEVENT
BEGIN:VEVENT
DTSTART;TZID=Europe/Prague:20220705T100000
DTEND;TZID=Europe/Prague:20220705T140000
DTSTAMP:20260423T065501
CREATED:20220527T133028Z
LAST-MODIFIED:20220527T133028Z
UID:4397-1657015200-1657029600@www.skhb.cz
SUMMARY:rezervace Bruza - Lomis
DESCRIPTION:
URL:https://www.skhb.cz/kalendar-akci/rezervace-bruza-lomis/
END:VEVENT
BEGIN:VEVENT
DTSTART;TZID=Europe/Prague:20220704T090000
DTEND;TZID=Europe/Prague:20220704T140000
DTSTAMP:20260423T065501
CREATED:20220522T093124Z
LAST-MODIFIED:20220522T093124Z
UID:4394-1656925200-1656943200@www.skhb.cz
SUMMARY:Rezervace - Loomis
DESCRIPTION:Brůža
URL:https://www.skhb.cz/kalendar-akci/rezervace-loomis-2/
END:VEVENT
BEGIN:VEVENT
DTSTART;TZID=Europe/Prague:20220703T080000
DTEND;TZID=Europe/Prague:20220703T130000
DTSTAMP:20260423T065501
CREATED:20220625T163439Z
LAST-MODIFIED:20220625T163439Z
UID:4424-1656835200-1656853200@www.skhb.cz
SUMMARY:Rezervace Šmíd
DESCRIPTION:
URL:https://www.skhb.cz/kalendar-akci/rezervace-smid-10/
END:VEVENT
BEGIN:VEVENT
DTSTART;TZID=Europe/Prague:20220629T150000
DTEND;TZID=Europe/Prague:20220629T190000
DTSTAMP:20260423T065501
CREATED:20220625T095531Z
LAST-MODIFIED:20220625T095531Z
UID:4412-1656514800-1656529200@www.skhb.cz
SUMMARY:rezervace David
DESCRIPTION:
URL:https://www.skhb.cz/kalendar-akci/rezervace-david-134/
END:VEVENT
BEGIN:VEVENT
DTSTART;TZID=Europe/Prague:20220628T150000
DTEND;TZID=Europe/Prague:20220628T190000
DTSTAMP:20260423T065501
CREATED:20220607T182215Z
LAST-MODIFIED:20220607T182215Z
UID:4407-1656428400-1656442800@www.skhb.cz
SUMMARY:židovská obec
DESCRIPTION:
URL:https://www.skhb.cz/kalendar-akci/zidovska-obec-31/
END:VEVENT
BEGIN:VEVENT
DTSTART;TZID=Europe/Prague:20220621T150000
DTEND;TZID=Europe/Prague:20220621T190000
DTSTAMP:20260423T065501
CREATED:20220527T133752Z
LAST-MODIFIED:20220527T133752Z
UID:4403-1655823600-1655838000@www.skhb.cz
SUMMARY:rezervace David
DESCRIPTION:
URL:https://www.skhb.cz/kalendar-akci/rezervace-david-133/
END:VEVENT
BEGIN:VEVENT
DTSTART;TZID=Europe/Prague:20220618T090000
DTEND;TZID=Europe/Prague:20220618T140000
DTSTAMP:20260423T065501
CREATED:20220522T093043Z
LAST-MODIFIED:20220522T093043Z
UID:4392-1655542800-1655560800@www.skhb.cz
SUMMARY:Rezervace - Loomis
DESCRIPTION:Brůža
URL:https://www.skhb.cz/kalendar-akci/rezervace-loomis/
END:VEVENT
BEGIN:VEVENT
DTSTART;TZID=Europe/Prague:20220616T150000
DTEND;TZID=Europe/Prague:20220616T190000
DTSTAMP:20260423T065501
CREATED:20220527T133714Z
LAST-MODIFIED:20220527T133714Z
UID:4401-1655391600-1655406000@www.skhb.cz
SUMMARY:rezervace David
DESCRIPTION:
URL:https://www.skhb.cz/kalendar-akci/rezervace-david-129/
END:VEVENT
BEGIN:VEVENT
DTSTART;TZID=Europe/Prague:20220612T090000
DTEND;TZID=Europe/Prague:20220612T150000
DTSTAMP:20260423T065501
CREATED:20220508T132705Z
LAST-MODIFIED:20220607T182147Z
UID:4380-1655024400-1655046000@www.skhb.cz
SUMMARY:rezervace David
DESCRIPTION:
URL:https://www.skhb.cz/kalendar-akci/rezervace-david-132/
END:VEVENT
BEGIN:VEVENT
DTSTART;TZID=Europe/Prague:20220611T100000
DTEND;TZID=Europe/Prague:20220611T140000
DTSTAMP:20260423T065501
CREATED:20220610T105419Z
LAST-MODIFIED:20220610T105419Z
UID:4410-1654941600-1654956000@www.skhb.cz
SUMMARY:Rezervace brigády - Bělaška
DESCRIPTION:Úpravy na střelišti
URL:https://www.skhb.cz/kalendar-akci/rezervace-brigady-belaska/
END:VEVENT
BEGIN:VEVENT
DTSTART;TZID=Europe/Prague:20220610T150000
DTEND;TZID=Europe/Prague:20220610T190000
DTSTAMP:20260423T065501
CREATED:20220527T133349Z
LAST-MODIFIED:20220527T133349Z
UID:4399-1654873200-1654887600@www.skhb.cz
SUMMARY:rezervace Bruza
DESCRIPTION:
URL:https://www.skhb.cz/kalendar-akci/rezervace-bruza-3/
END:VEVENT
BEGIN:VEVENT
DTSTART;TZID=Europe/Prague:20220601T160000
DTEND;TZID=Europe/Prague:20220601T190000
DTSTAMP:20260423T065501
CREATED:20220508T132544Z
LAST-MODIFIED:20220508T132544Z
UID:4378-1654099200-1654110000@www.skhb.cz
SUMMARY:rezervace David
DESCRIPTION:
URL:https://www.skhb.cz/kalendar-akci/rezervace-david-131/
END:VEVENT
BEGIN:VEVENT
DTSTART;TZID=Europe/Prague:20220531T150000
DTEND;TZID=Europe/Prague:20220531T190000
DTSTAMP:20260423T065501
CREATED:20220428T044514Z
LAST-MODIFIED:20220428T044514Z
UID:4361-1654009200-1654023600@www.skhb.cz
SUMMARY:židovská obec
DESCRIPTION:
URL:https://www.skhb.cz/kalendar-akci/zidovska-obec-30/
END:VEVENT
BEGIN:VEVENT
DTSTART;TZID=Europe/Prague:20220527T150000
DTEND;TZID=Europe/Prague:20220527T200000
DTSTAMP:20260423T065501
CREATED:20220429T162730Z
LAST-MODIFIED:20220429T162905Z
UID:4365-1653663600-1653681600@www.skhb.cz
SUMMARY:pronajem
DESCRIPTION:
URL:https://www.skhb.cz/kalendar-akci/pronajem-david/
END:VEVENT
BEGIN:VEVENT
DTSTART;TZID=Europe/Prague:20220525T160000
DTEND;TZID=Europe/Prague:20220525T190000
DTSTAMP:20260423T065501
CREATED:20220508T132500Z
LAST-MODIFIED:20220508T132500Z
UID:4376-1653494400-1653505200@www.skhb.cz
SUMMARY:rezervace David
DESCRIPTION:
URL:https://www.skhb.cz/kalendar-akci/rezervace-david-130/
END:VEVENT
BEGIN:VEVENT
DTSTART;TZID=Europe/Prague:20220524T150000
DTEND;TZID=Europe/Prague:20220524T190000
DTSTAMP:20260423T065501
CREATED:20220428T044414Z
LAST-MODIFIED:20220428T044414Z
UID:4359-1653404400-1653418800@www.skhb.cz
SUMMARY:židovská obec
DESCRIPTION:
URL:https://www.skhb.cz/kalendar-akci/zidovska-obec-29/
END:VEVENT
BEGIN:VEVENT
DTSTART;TZID=Europe/Prague:20220522T100000
DTEND;TZID=Europe/Prague:20220522T140000
DTSTAMP:20260423T065501
CREATED:20220503T203858Z
LAST-MODIFIED:20220503T203858Z
UID:4370-1653213600-1653228000@www.skhb.cz
SUMMARY:rezervace David
DESCRIPTION:
URL:https://www.skhb.cz/kalendar-akci/rezervace-david-128/
END:VEVENT
BEGIN:VEVENT
DTSTART;TZID=Europe/Prague:20220521T080000
DTEND;TZID=Europe/Prague:20220521T113000
DTSTAMP:20260423T065501
CREATED:20220517T083054Z
LAST-MODIFIED:20220517T083054Z
UID:4384-1653120000-1653132600@www.skhb.cz
SUMMARY:Rezervace L. Čvančar
DESCRIPTION:
URL:https://www.skhb.cz/kalendar-akci/rezervace-l-cvancar/
END:VEVENT
END:VCALENDAR