BEGIN:VCALENDAR
VERSION:2.0
PRODID:-//Střelecký Klub Horní Beřkovice - ECPv6.15.17.1//NONSGML v1.0//EN
CALSCALE:GREGORIAN
METHOD:PUBLISH
X-WR-CALNAME:Střelecký Klub Horní Beřkovice
X-ORIGINAL-URL:https://www.skhb.cz
X-WR-CALDESC:Akce na Střelecký Klub Horní Beřkovice
REFRESH-INTERVAL;VALUE=DURATION:PT1H
X-Robots-Tag:noindex
X-PUBLISHED-TTL:PT1H
BEGIN:VTIMEZONE
TZID:Europe/Prague
BEGIN:DAYLIGHT
TZOFFSETFROM:+0100
TZOFFSETTO:+0200
TZNAME:CEST
DTSTART:20200329T010000
END:DAYLIGHT
BEGIN:STANDARD
TZOFFSETFROM:+0200
TZOFFSETTO:+0100
TZNAME:CET
DTSTART:20201025T010000
END:STANDARD
BEGIN:DAYLIGHT
TZOFFSETFROM:+0100
TZOFFSETTO:+0200
TZNAME:CEST
DTSTART:20210328T010000
END:DAYLIGHT
BEGIN:STANDARD
TZOFFSETFROM:+0200
TZOFFSETTO:+0100
TZNAME:CET
DTSTART:20211031T010000
END:STANDARD
BEGIN:DAYLIGHT
TZOFFSETFROM:+0100
TZOFFSETTO:+0200
TZNAME:CEST
DTSTART:20220327T010000
END:DAYLIGHT
BEGIN:STANDARD
TZOFFSETFROM:+0200
TZOFFSETTO:+0100
TZNAME:CET
DTSTART:20221030T010000
END:STANDARD
END:VTIMEZONE
BEGIN:VEVENT
DTSTART;TZID=Europe/Prague:20211017T163000
DTEND;TZID=Europe/Prague:20211017T183000
DTSTAMP:20260423T231941
CREATED:20210916T072058Z
LAST-MODIFIED:20210916T072058Z
UID:4118-1634488200-1634495400@www.skhb.cz
SUMMARY:Rezervace Buzák
DESCRIPTION:
URL:https://www.skhb.cz/kalendar-akci/rezervace-buzak-4/
END:VEVENT
BEGIN:VEVENT
DTSTART;TZID=Europe/Prague:20211016T080000
DTEND;TZID=Europe/Prague:20211016T140000
DTSTAMP:20260423T231941
CREATED:20210918T103655Z
LAST-MODIFIED:20210918T103655Z
UID:4121-1634371200-1634392800@www.skhb.cz
SUMMARY:Rezervace Brůža
DESCRIPTION:
URL:https://www.skhb.cz/kalendar-akci/rezervace-bruza-2/
END:VEVENT
BEGIN:VEVENT
DTSTART;TZID=Europe/Prague:20211013T150000
DTEND;TZID=Europe/Prague:20211013T190000
DTSTAMP:20260423T231941
CREATED:20211004T175219Z
LAST-MODIFIED:20211004T175219Z
UID:4145-1634137200-1634151600@www.skhb.cz
SUMMARY:rezervace David
DESCRIPTION:
URL:https://www.skhb.cz/kalendar-akci/rezervace-david-101/
END:VEVENT
BEGIN:VEVENT
DTSTART;TZID=Europe/Prague:20211010T100000
DTEND;TZID=Europe/Prague:20211010T133000
DTSTAMP:20260423T231941
CREATED:20210916T071037Z
LAST-MODIFIED:20210916T071037Z
UID:4114-1633860000-1633872600@www.skhb.cz
SUMMARY:Rezervace Buzak
DESCRIPTION:
URL:https://www.skhb.cz/kalendar-akci/rezervace-buzak-3/
END:VEVENT
BEGIN:VEVENT
DTSTART;TZID=Europe/Prague:20211009T130000
DTEND;TZID=Europe/Prague:20211009T150000
DTSTAMP:20260423T231941
CREATED:20211005T122536Z
LAST-MODIFIED:20211009T084136Z
UID:4149-1633784400-1633791600@www.skhb.cz
SUMMARY:Úprava střeliště - Bělaška
DESCRIPTION:
URL:https://www.skhb.cz/kalendar-akci/uprava-streliste-belaska/
CATEGORIES:Akce člena
END:VEVENT
BEGIN:VEVENT
DTSTART;TZID=Europe/Prague:20211006T160000
DTEND;TZID=Europe/Prague:20211006T190000
DTSTAMP:20260423T231941
CREATED:20211004T174556Z
LAST-MODIFIED:20211004T174556Z
UID:4139-1633536000-1633546800@www.skhb.cz
SUMMARY:rezervace David
DESCRIPTION:
URL:https://www.skhb.cz/kalendar-akci/rezervace-david-98/
END:VEVENT
BEGIN:VEVENT
DTSTART;TZID=Europe/Prague:20211003T160000
DTEND;TZID=Europe/Prague:20211003T190000
DTSTAMP:20260423T231941
CREATED:20210920T074653Z
LAST-MODIFIED:20210920T074653Z
UID:4123-1633276800-1633287600@www.skhb.cz
SUMMARY:rezervace David
DESCRIPTION:
URL:https://www.skhb.cz/kalendar-akci/rezervace-david-95/
END:VEVENT
BEGIN:VEVENT
DTSTART;TZID=Europe/Prague:20210929T160000
DTEND;TZID=Europe/Prague:20210929T190000
DTSTAMP:20260423T231942
CREATED:20210923T191203Z
LAST-MODIFIED:20210923T191203Z
UID:4128-1632931200-1632942000@www.skhb.cz
SUMMARY:rezervce David
DESCRIPTION:
URL:https://www.skhb.cz/kalendar-akci/rezervce-david/
END:VEVENT
BEGIN:VEVENT
DTSTART;TZID=Europe/Prague:20210925T080000
DTEND;TZID=Europe/Prague:20210925T123000
DTSTAMP:20260423T231942
CREATED:20210923T050056Z
LAST-MODIFIED:20210923T050056Z
UID:4126-1632556800-1632573000@www.skhb.cz
SUMMARY:Rezervace Šmíd
DESCRIPTION:
URL:https://www.skhb.cz/kalendar-akci/rezervace-smid-7/
END:VEVENT
BEGIN:VEVENT
DTSTART;TZID=Europe/Prague:20210919T090000
DTEND;TZID=Europe/Prague:20210919T140000
DTSTAMP:20260423T231942
CREATED:20210915T195006Z
LAST-MODIFIED:20210915T195006Z
UID:4109-1632042000-1632060000@www.skhb.cz
SUMMARY:Hajný\, Hajná rezervace
DESCRIPTION:
URL:https://www.skhb.cz/kalendar-akci/hajny-hajna-rezervace/
END:VEVENT
BEGIN:VEVENT
DTSTART;TZID=Europe/Prague:20210918T080000
DTEND;TZID=Europe/Prague:20210918T170000
DTSTAMP:20260423T231942
CREATED:20210821T150508Z
LAST-MODIFIED:20210821T150508Z
UID:4039-1631952000-1631984400@www.skhb.cz
SUMMARY:Rezervace Brůza-Loomis
DESCRIPTION:
URL:https://www.skhb.cz/kalendar-akci/rezervace-bruza-loomis-3/
END:VEVENT
BEGIN:VEVENT
DTSTART;TZID=Europe/Prague:20210913T150000
DTEND;TZID=Europe/Prague:20210913T180000
DTSTAMP:20260423T231942
CREATED:20210828T055711Z
LAST-MODIFIED:20210828T055711Z
UID:4052-1631545200-1631556000@www.skhb.cz
SUMMARY:Rezervace Bejček
DESCRIPTION:
URL:https://www.skhb.cz/kalendar-akci/rezervace-bejcek-13/
END:VEVENT
BEGIN:VEVENT
DTSTART;TZID=Europe/Prague:20210912T090000
DTEND;TZID=Europe/Prague:20210912T150000
DTSTAMP:20260423T231942
CREATED:20210829T184008Z
LAST-MODIFIED:20210829T184008Z
UID:4054-1631437200-1631458800@www.skhb.cz
SUMMARY:rezervace David
DESCRIPTION:
URL:https://www.skhb.cz/kalendar-akci/rezervace-david-94/
END:VEVENT
BEGIN:VEVENT
DTSTART;TZID=Europe/Prague:20210908T150000
DTEND;TZID=Europe/Prague:20210908T190000
DTSTAMP:20260423T231942
CREATED:20210831T042956Z
LAST-MODIFIED:20210831T042956Z
UID:4056-1631113200-1631127600@www.skhb.cz
SUMMARY:rezervace David
DESCRIPTION:
URL:https://www.skhb.cz/kalendar-akci/rezervace-david-91/
END:VEVENT
BEGIN:VEVENT
DTSTART;TZID=Europe/Prague:20210907T150000
DTEND;TZID=Europe/Prague:20210907T190000
DTSTAMP:20260423T231942
CREATED:20210826T161357Z
LAST-MODIFIED:20210826T161357Z
UID:4049-1631026800-1631041200@www.skhb.cz
SUMMARY:rezervace David
DESCRIPTION:
URL:https://www.skhb.cz/kalendar-akci/rezervace-david-93/
END:VEVENT
BEGIN:VEVENT
DTSTART;TZID=Europe/Prague:20210904T080000
DTEND;TZID=Europe/Prague:20210904T120000
DTSTAMP:20260423T231942
CREATED:20210825T132837Z
LAST-MODIFIED:20210825T132837Z
UID:4047-1630742400-1630756800@www.skhb.cz
SUMMARY:Členská schůze 2021
DESCRIPTION:
URL:https://www.skhb.cz/kalendar-akci/clenska-schuze-2021/
END:VEVENT
BEGIN:VEVENT
DTSTART;TZID=Europe/Prague:20210831T150000
DTEND;TZID=Europe/Prague:20210831T190000
DTSTAMP:20260423T231942
CREATED:20210724T182010Z
LAST-MODIFIED:20210724T182010Z
UID:4018-1630422000-1630436400@www.skhb.cz
SUMMARY:židovská obec
DESCRIPTION:
URL:https://www.skhb.cz/kalendar-akci/zidovska-obec-13/
END:VEVENT
BEGIN:VEVENT
DTSTART;TZID=Europe/Prague:20210823T170000
DTEND;TZID=Europe/Prague:20210823T180000
DTSTAMP:20260423T231942
CREATED:20210822T192251Z
LAST-MODIFIED:20210822T192251Z
UID:4041-1629738000-1629741600@www.skhb.cz
SUMMARY:rezervace David
DESCRIPTION:
URL:https://www.skhb.cz/kalendar-akci/rezervace-david-92/
END:VEVENT
BEGIN:VEVENT
DTSTART;TZID=Europe/Prague:20210821T080000
DTEND;TZID=Europe/Prague:20210821T170000
DTSTAMP:20260423T231942
CREATED:20210706T094850Z
LAST-MODIFIED:20210706T094850Z
UID:4004-1629532800-1629565200@www.skhb.cz
SUMMARY:Rezervace Brůža
DESCRIPTION:
URL:https://www.skhb.cz/kalendar-akci/rezervace-bruza/
END:VEVENT
BEGIN:VEVENT
DTSTART;TZID=Europe/Prague:20210818T150000
DTEND;TZID=Europe/Prague:20210818T190000
DTSTAMP:20260423T231942
CREATED:20210724T181904Z
LAST-MODIFIED:20210724T181904Z
UID:4016-1629298800-1629313200@www.skhb.cz
SUMMARY:židovská obec
DESCRIPTION:
URL:https://www.skhb.cz/kalendar-akci/zidovska-obec-12/
END:VEVENT
BEGIN:VEVENT
DTSTART;TZID=Europe/Prague:20210817T123000
DTEND;TZID=Europe/Prague:20210823T133000
DTSTAMP:20260423T231942
CREATED:20210823T073613Z
LAST-MODIFIED:20210823T073613Z
UID:4043-1629203400-1629725400@www.skhb.cz
SUMMARY:SEKÁNÍ TRÁVY
DESCRIPTION:
URL:https://www.skhb.cz/kalendar-akci/sekani-travy/
END:VEVENT
BEGIN:VEVENT
DTSTART;TZID=Europe/Prague:20210815T080000
DTEND;TZID=Europe/Prague:20210815T100000
DTSTAMP:20260423T231942
CREATED:20210801T062427Z
LAST-MODIFIED:20210801T062427Z
UID:4024-1629014400-1629021600@www.skhb.cz
SUMMARY:rezervace David
DESCRIPTION:
URL:https://www.skhb.cz/kalendar-akci/rezervace-david-90/
END:VEVENT
BEGIN:VEVENT
DTSTART;TZID=Europe/Prague:20210814T080000
DTEND;TZID=Europe/Prague:20210814T130000
DTSTAMP:20260423T231942
CREATED:20210808T172349Z
LAST-MODIFIED:20210808T172349Z
UID:4032-1628928000-1628946000@www.skhb.cz
SUMMARY:Rezervace Václav Šmíd
DESCRIPTION:
URL:https://www.skhb.cz/kalendar-akci/rezervace-vaclav-smid-2/
END:VEVENT
BEGIN:VEVENT
DTSTART;TZID=Europe/Prague:20210812T150000
DTEND;TZID=Europe/Prague:20210812T190000
DTSTAMP:20260423T231942
CREATED:20210724T182118Z
LAST-MODIFIED:20210724T182118Z
UID:4020-1628780400-1628794800@www.skhb.cz
SUMMARY:rezervace David
DESCRIPTION:
URL:https://www.skhb.cz/kalendar-akci/rezervace-david-89/
END:VEVENT
BEGIN:VEVENT
DTSTART;TZID=Europe/Prague:20210806T090000
DTEND;TZID=Europe/Prague:20210806T130000
DTSTAMP:20260423T231942
CREATED:20210803T151015Z
LAST-MODIFIED:20210805T094747Z
UID:4027-1628240400-1628254800@www.skhb.cz
SUMMARY:Rezervace Laňka
DESCRIPTION:Rezervace Laňka
URL:https://www.skhb.cz/kalendar-akci/rezervace-lanka-2/
CATEGORIES:Akce člena
END:VEVENT
BEGIN:VEVENT
DTSTART;TZID=Europe/Prague:20210804T150000
DTEND;TZID=Europe/Prague:20210804T190000
DTSTAMP:20260423T231942
CREATED:20210728T153826Z
LAST-MODIFIED:20210728T153826Z
UID:4022-1628089200-1628103600@www.skhb.cz
SUMMARY:rezervace David
DESCRIPTION:
URL:https://www.skhb.cz/kalendar-akci/rezervace-david-86/
END:VEVENT
BEGIN:VEVENT
DTSTART;TZID=Europe/Prague:20210727T150000
DTEND;TZID=Europe/Prague:20210727T190000
DTSTAMP:20260423T231942
CREATED:20210702T072309Z
LAST-MODIFIED:20210702T072309Z
UID:3988-1627398000-1627412400@www.skhb.cz
SUMMARY:židovská obec
DESCRIPTION:
URL:https://www.skhb.cz/kalendar-akci/zidovska-obec-11/
END:VEVENT
BEGIN:VEVENT
DTSTART;TZID=Europe/Prague:20210725T090000
DTEND;TZID=Europe/Prague:20210725T170000
DTSTAMP:20260423T231942
CREATED:20210702T072530Z
LAST-MODIFIED:20210714T200041Z
UID:3992-1627203600-1627232400@www.skhb.cz
SUMMARY:rezervace David
DESCRIPTION:
URL:https://www.skhb.cz/kalendar-akci/rezervace-david-87/
END:VEVENT
BEGIN:VEVENT
DTSTART;TZID=Europe/Prague:20210724T090000
DTEND;TZID=Europe/Prague:20210724T130000
DTSTAMP:20260423T231942
CREATED:20210719T133330Z
LAST-MODIFIED:20210719T133330Z
UID:4012-1627117200-1627131600@www.skhb.cz
SUMMARY:Brigáda - Bělaška
DESCRIPTION:Probíhající brigáda
URL:https://www.skhb.cz/kalendar-akci/brigada-belaska/
END:VEVENT
BEGIN:VEVENT
DTSTART;TZID=Europe/Prague:20210722T150000
DTEND;TZID=Europe/Prague:20210722T190000
DTSTAMP:20260423T231942
CREATED:20210702T072241Z
LAST-MODIFIED:20210702T072241Z
UID:3986-1626966000-1626980400@www.skhb.cz
SUMMARY:židovská obec
DESCRIPTION:
URL:https://www.skhb.cz/kalendar-akci/zidovska-obec-10/
END:VEVENT
END:VCALENDAR