BEGIN:VCALENDAR
VERSION:2.0
PRODID:-//Střelecký Klub Horní Beřkovice - ECPv6.15.17.1//NONSGML v1.0//EN
CALSCALE:GREGORIAN
METHOD:PUBLISH
X-WR-CALNAME:Střelecký Klub Horní Beřkovice
X-ORIGINAL-URL:https://www.skhb.cz
X-WR-CALDESC:Akce na Střelecký Klub Horní Beřkovice
REFRESH-INTERVAL;VALUE=DURATION:PT1H
X-Robots-Tag:noindex
X-PUBLISHED-TTL:PT1H
BEGIN:VTIMEZONE
TZID:Europe/Prague
BEGIN:DAYLIGHT
TZOFFSETFROM:+0100
TZOFFSETTO:+0200
TZNAME:CEST
DTSTART:20220327T010000
END:DAYLIGHT
BEGIN:STANDARD
TZOFFSETFROM:+0200
TZOFFSETTO:+0100
TZNAME:CET
DTSTART:20221030T010000
END:STANDARD
BEGIN:DAYLIGHT
TZOFFSETFROM:+0100
TZOFFSETTO:+0200
TZNAME:CEST
DTSTART:20230326T010000
END:DAYLIGHT
BEGIN:STANDARD
TZOFFSETFROM:+0200
TZOFFSETTO:+0100
TZNAME:CET
DTSTART:20231029T010000
END:STANDARD
BEGIN:DAYLIGHT
TZOFFSETFROM:+0100
TZOFFSETTO:+0200
TZNAME:CEST
DTSTART:20240331T010000
END:DAYLIGHT
BEGIN:STANDARD
TZOFFSETFROM:+0200
TZOFFSETTO:+0100
TZNAME:CET
DTSTART:20241027T010000
END:STANDARD
END:VTIMEZONE
BEGIN:VEVENT
DTSTART;TZID=Europe/Prague:20231118T100000
DTEND;TZID=Europe/Prague:20231118T120000
DTSTAMP:20260420T173003
CREATED:20231108T190050Z
LAST-MODIFIED:20231108T190050Z
UID:4870-1700301600-1700308800@www.skhb.cz
SUMMARY:rezervace Boledovic
DESCRIPTION:
URL:https://www.skhb.cz/kalendar-akci/rezervace-boledovic/
END:VEVENT
BEGIN:VEVENT
DTSTART;TZID=Europe/Prague:20231117T160000
DTEND;TZID=Europe/Prague:20231117T190000
DTSTAMP:20260420T173003
CREATED:20231022T182402Z
LAST-MODIFIED:20231022T182402Z
UID:4855-1700236800-1700247600@www.skhb.cz
SUMMARY:rezervace David
DESCRIPTION:
URL:https://www.skhb.cz/kalendar-akci/rezervace-david-186/
END:VEVENT
BEGIN:VEVENT
DTSTART;TZID=Europe/Prague:20231112T130000
DTEND;TZID=Europe/Prague:20231112T170000
DTSTAMP:20260420T173003
CREATED:20231020T183907Z
LAST-MODIFIED:20231020T183907Z
UID:4852-1699794000-1699808400@www.skhb.cz
SUMMARY:Rezervace Bejček
DESCRIPTION:
URL:https://www.skhb.cz/kalendar-akci/rezervace-bejcek-22/
END:VEVENT
BEGIN:VEVENT
DTSTART;TZID=Europe/Prague:20231111T120000
DTEND;TZID=Europe/Prague:20231111T160000
DTSTAMP:20260420T173003
CREATED:20231019T174302Z
LAST-MODIFIED:20231019T174302Z
UID:4846-1699704000-1699718400@www.skhb.cz
SUMMARY:rezervace David¨
DESCRIPTION:
URL:https://www.skhb.cz/kalendar-akci/rezervace-david%c2%a8/
END:VEVENT
BEGIN:VEVENT
DTSTART;TZID=Europe/Prague:20231110T150000
DTEND;TZID=Europe/Prague:20231110T170000
DTSTAMP:20260420T173003
CREATED:20231025T171249Z
LAST-MODIFIED:20231025T171249Z
UID:4857-1699628400-1699635600@www.skhb.cz
SUMMARY:Zamrzla rezervace 15-17 h.
DESCRIPTION:
URL:https://www.skhb.cz/kalendar-akci/zamrzla-rezervace-15-17-h/
END:VEVENT
BEGIN:VEVENT
DTSTART;TZID=Europe/Prague:20231108T130000
DTEND;TZID=Europe/Prague:20231108T160000
DTSTAMP:20260420T173003
CREATED:20231108T100839Z
LAST-MODIFIED:20231108T100839Z
UID:4868-1699448400-1699459200@www.skhb.cz
SUMMARY:Rezervace Laňka
DESCRIPTION:
URL:https://www.skhb.cz/kalendar-akci/rezervace-lanka-3/
END:VEVENT
BEGIN:VEVENT
DTSTART;TZID=Europe/Prague:20231029T080000
DTEND;TZID=Europe/Prague:20231029T120000
DTSTAMP:20260420T173003
CREATED:20231009T175401Z
LAST-MODIFIED:20231009T175401Z
UID:4835-1698566400-1698580800@www.skhb.cz
SUMMARY:Rezervace - Šmíd
DESCRIPTION:
URL:https://www.skhb.cz/kalendar-akci/rezervace-smid-14/
END:VEVENT
BEGIN:VEVENT
DTSTART;TZID=Europe/Prague:20231028T090000
DTEND;TZID=Europe/Prague:20231028T170000
DTSTAMP:20260420T173003
CREATED:20230919T095911Z
LAST-MODIFIED:20230919T100626Z
UID:4814-1698483600-1698512400@www.skhb.cz
SUMMARY:Láďa rezervace
DESCRIPTION:
URL:https://www.skhb.cz/kalendar-akci/lada-rezervace/
END:VEVENT
BEGIN:VEVENT
DTSTART;TZID=Europe/Prague:20231023T150000
DTEND;TZID=Europe/Prague:20231023T190000
DTSTAMP:20260420T173003
CREATED:20231013T051233Z
LAST-MODIFIED:20231013T051233Z
UID:4844-1698073200-1698087600@www.skhb.cz
SUMMARY:zidovska obec
DESCRIPTION:
URL:https://www.skhb.cz/kalendar-akci/zidovska-obec-62/
END:VEVENT
BEGIN:VEVENT
DTSTART;TZID=Europe/Prague:20231022T090000
DTEND;TZID=Europe/Prague:20231022T150000
DTSTAMP:20260420T173003
CREATED:20230930T090558Z
LAST-MODIFIED:20231003T203921Z
UID:4831-1697965200-1697986800@www.skhb.cz
SUMMARY:rezervace David
DESCRIPTION:
URL:https://www.skhb.cz/kalendar-akci/rezervace-david-183/
END:VEVENT
BEGIN:VEVENT
DTSTART;TZID=Europe/Prague:20231021T150000
DTEND;TZID=Europe/Prague:20231021T190000
DTSTAMP:20260420T173003
CREATED:20231011T085156Z
LAST-MODIFIED:20231011T085156Z
UID:4837-1697900400-1697914800@www.skhb.cz
SUMMARY:rezervace David
DESCRIPTION:
URL:https://www.skhb.cz/kalendar-akci/rezervace-david-185/
END:VEVENT
BEGIN:VEVENT
DTSTART;TZID=Europe/Prague:20231021T090000
DTEND;TZID=Europe/Prague:20231021T150000
DTSTAMP:20260420T173003
CREATED:20230921T082716Z
LAST-MODIFIED:20230921T082716Z
UID:4823-1697878800-1697900400@www.skhb.cz
SUMMARY:Bruza Lomis
DESCRIPTION:
URL:https://www.skhb.cz/kalendar-akci/bruza-lomis/
END:VEVENT
BEGIN:VEVENT
DTSTART;TZID=Europe/Prague:20231020T090000
DTEND;TZID=Europe/Prague:20231020T160000
DTSTAMP:20260420T173003
CREATED:20230926T092117Z
LAST-MODIFIED:20230926T092117Z
UID:4827-1697792400-1697817600@www.skhb.cz
SUMMARY:Rezervace Hajný
DESCRIPTION:
URL:https://www.skhb.cz/kalendar-akci/rezervace-hajny-11/
END:VEVENT
BEGIN:VEVENT
DTSTART;TZID=Europe/Prague:20231019T150000
DTEND;TZID=Europe/Prague:20231019T170000
DTSTAMP:20260420T173003
CREATED:20231011T172900Z
LAST-MODIFIED:20231011T173351Z
UID:4839-1697727600-1697734800@www.skhb.cz
SUMMARY:Zamrzla rezervace 15-17 h.
DESCRIPTION:
URL:https://www.skhb.cz/kalendar-akci/zamrzla-5/
END:VEVENT
BEGIN:VEVENT
DTSTART;TZID=Europe/Prague:20231018T150000
DTEND;TZID=Europe/Prague:20231018T190000
DTSTAMP:20260420T173003
CREATED:20231003T203846Z
LAST-MODIFIED:20231003T203846Z
UID:4833-1697641200-1697655600@www.skhb.cz
SUMMARY:rezervace David
DESCRIPTION:
URL:https://www.skhb.cz/kalendar-akci/rezervace-david-184/
END:VEVENT
BEGIN:VEVENT
DTSTART;TZID=Europe/Prague:20231011T160000
DTEND;TZID=Europe/Prague:20231011T190000
DTSTAMP:20260420T173003
CREATED:20230930T090139Z
LAST-MODIFIED:20230930T090139Z
UID:4829-1697040000-1697050800@www.skhb.cz
SUMMARY:rezervace David
DESCRIPTION:
URL:https://www.skhb.cz/kalendar-akci/rezervace-david-182/
END:VEVENT
BEGIN:VEVENT
DTSTART;TZID=Europe/Prague:20231009T150000
DTEND;TZID=Europe/Prague:20231009T190000
DTSTAMP:20260420T173003
CREATED:20230925T154212Z
LAST-MODIFIED:20230925T154212Z
UID:4825-1696863600-1696878000@www.skhb.cz
SUMMARY:zidovska obec
DESCRIPTION:
URL:https://www.skhb.cz/kalendar-akci/zidovska-obec-61/
END:VEVENT
BEGIN:VEVENT
DTSTART;TZID=Europe/Prague:20230928T090000
DTEND;TZID=Europe/Prague:20230928T140000
DTSTAMP:20260420T173003
CREATED:20230731T182308Z
LAST-MODIFIED:20230731T182308Z
UID:4765-1695891600-1695909600@www.skhb.cz
SUMMARY:Rezervace Bruza
DESCRIPTION:
URL:https://www.skhb.cz/kalendar-akci/rezervace-bruza-7/
END:VEVENT
BEGIN:VEVENT
DTSTART;TZID=Europe/Prague:20230927T150000
DTEND;TZID=Europe/Prague:20230927T190000
DTSTAMP:20260420T173003
CREATED:20230903T164401Z
LAST-MODIFIED:20230903T164401Z
UID:4803-1695826800-1695841200@www.skhb.cz
SUMMARY:rezervace David
DESCRIPTION:
URL:https://www.skhb.cz/kalendar-akci/rezervace-david-180/
END:VEVENT
BEGIN:VEVENT
DTSTART;TZID=Europe/Prague:20230925T150000
DTEND;TZID=Europe/Prague:20230925T190000
DTSTAMP:20260420T173003
CREATED:20230909T101632Z
LAST-MODIFIED:20230909T101632Z
UID:4808-1695654000-1695668400@www.skhb.cz
SUMMARY:Zidovska obec
DESCRIPTION:
URL:https://www.skhb.cz/kalendar-akci/zidovska-obec-54/
END:VEVENT
BEGIN:VEVENT
DTSTART;TZID=Europe/Prague:20230921T150000
DTEND;TZID=Europe/Prague:20230921T170000
DTSTAMP:20260420T173003
CREATED:20230919T145515Z
LAST-MODIFIED:20230919T145515Z
UID:4818-1695308400-1695315600@www.skhb.cz
SUMMARY:Zamrzla +Zděnek
DESCRIPTION:
URL:https://www.skhb.cz/kalendar-akci/zamrzla-zdenek-2/
END:VEVENT
BEGIN:VEVENT
DTSTART;TZID=Europe/Prague:20230918T160000
DTEND;TZID=Europe/Prague:20230918T180000
DTSTAMP:20260420T173003
CREATED:20230906T113602Z
LAST-MODIFIED:20230906T113602Z
UID:4806-1695052800-1695060000@www.skhb.cz
SUMMARY:rezervace David
DESCRIPTION:
URL:https://www.skhb.cz/kalendar-akci/rezervace-david-181/
END:VEVENT
BEGIN:VEVENT
DTSTART;TZID=Europe/Prague:20230917T140000
DTEND;TZID=Europe/Prague:20230917T180000
DTSTAMP:20260420T173003
CREATED:20230830T200153Z
LAST-MODIFIED:20230903T164504Z
UID:4796-1694959200-1694973600@www.skhb.cz
SUMMARY:rezervace David
DESCRIPTION:
URL:https://www.skhb.cz/kalendar-akci/rezervace-david-177/
END:VEVENT
BEGIN:VEVENT
DTSTART;TZID=Europe/Prague:20230916T090000
DTEND;TZID=Europe/Prague:20230916T150000
DTSTAMP:20260420T173003
CREATED:20230826T160653Z
LAST-MODIFIED:20230826T160653Z
UID:4787-1694854800-1694876400@www.skhb.cz
SUMMARY:Lomis Bruza
DESCRIPTION:
URL:https://www.skhb.cz/kalendar-akci/lomis-bruza-6/
END:VEVENT
BEGIN:VEVENT
DTSTART;TZID=Europe/Prague:20230914T150000
DTEND;TZID=Europe/Prague:20230914T190000
DTSTAMP:20260420T173003
CREATED:20230825T185839Z
LAST-MODIFIED:20230825T185839Z
UID:4780-1694703600-1694718000@www.skhb.cz
SUMMARY:zidovska obec
DESCRIPTION:
URL:https://www.skhb.cz/kalendar-akci/zidovska-obec-53/
END:VEVENT
BEGIN:VEVENT
DTSTART;TZID=Europe/Prague:20230913T150000
DTEND;TZID=Europe/Prague:20230913T190000
DTSTAMP:20260420T173003
CREATED:20230903T164227Z
LAST-MODIFIED:20230903T164227Z
UID:4801-1694617200-1694631600@www.skhb.cz
SUMMARY:rezervace David
DESCRIPTION:
URL:https://www.skhb.cz/kalendar-akci/rezervace-david-179/
END:VEVENT
BEGIN:VEVENT
DTSTART;TZID=Europe/Prague:20230912T150000
DTEND;TZID=Europe/Prague:20230912T190000
DTSTAMP:20260420T173003
CREATED:20230825T185808Z
LAST-MODIFIED:20230825T185808Z
UID:4778-1694530800-1694545200@www.skhb.cz
SUMMARY:zidovska obec
DESCRIPTION:
URL:https://www.skhb.cz/kalendar-akci/zidovska-obec-50/
END:VEVENT
BEGIN:VEVENT
DTSTART;TZID=Europe/Prague:20230910T100000
DTEND;TZID=Europe/Prague:20230910T130000
DTSTAMP:20260420T173003
CREATED:20230831T153038Z
LAST-MODIFIED:20230831T153038Z
UID:4799-1694340000-1694350800@www.skhb.cz
SUMMARY:Rezervace Bejček
DESCRIPTION:
URL:https://www.skhb.cz/kalendar-akci/rezervace-bejcek-21/
END:VEVENT
BEGIN:VEVENT
DTSTART;TZID=Europe/Prague:20230909T090000
DTEND;TZID=Europe/Prague:20230909T130000
DTSTAMP:20260420T173003
CREATED:20230824T114607Z
LAST-MODIFIED:20230824T114607Z
UID:4776-1694250000-1694264400@www.skhb.cz
SUMMARY:Rezervace Láďa
DESCRIPTION:
URL:https://www.skhb.cz/kalendar-akci/rezervace-lada-4/
END:VEVENT
BEGIN:VEVENT
DTSTART;TZID=Europe/Prague:20230901T150000
DTEND;TZID=Europe/Prague:20230901T170000
DTSTAMP:20260420T173003
CREATED:20230830T194239Z
LAST-MODIFIED:20230830T194239Z
UID:4792-1693580400-1693587600@www.skhb.cz
SUMMARY:rezervace Zamrzla 15-17.h
DESCRIPTION:
URL:https://www.skhb.cz/kalendar-akci/rezervace-zamrzla-15-17-h/
END:VEVENT
END:VCALENDAR