BEGIN:VCALENDAR
VERSION:2.0
PRODID:-//Střelecký Klub Horní Beřkovice - ECPv6.15.17.1//NONSGML v1.0//EN
CALSCALE:GREGORIAN
METHOD:PUBLISH
X-ORIGINAL-URL:https://www.skhb.cz
X-WR-CALDESC:Akce na Střelecký Klub Horní Beřkovice
REFRESH-INTERVAL;VALUE=DURATION:PT1H
X-Robots-Tag:noindex
X-PUBLISHED-TTL:PT1H
BEGIN:VTIMEZONE
TZID:Europe/Prague
BEGIN:DAYLIGHT
TZOFFSETFROM:+0100
TZOFFSETTO:+0200
TZNAME:CEST
DTSTART:20210328T010000
END:DAYLIGHT
BEGIN:STANDARD
TZOFFSETFROM:+0200
TZOFFSETTO:+0100
TZNAME:CET
DTSTART:20211031T010000
END:STANDARD
BEGIN:DAYLIGHT
TZOFFSETFROM:+0100
TZOFFSETTO:+0200
TZNAME:CEST
DTSTART:20220327T010000
END:DAYLIGHT
BEGIN:STANDARD
TZOFFSETFROM:+0200
TZOFFSETTO:+0100
TZNAME:CET
DTSTART:20221030T010000
END:STANDARD
BEGIN:DAYLIGHT
TZOFFSETFROM:+0100
TZOFFSETTO:+0200
TZNAME:CEST
DTSTART:20230326T010000
END:DAYLIGHT
BEGIN:STANDARD
TZOFFSETFROM:+0200
TZOFFSETTO:+0100
TZNAME:CET
DTSTART:20231029T010000
END:STANDARD
END:VTIMEZONE
BEGIN:VEVENT
DTSTART;TZID=Europe/Prague:20220224T150000
DTEND;TZID=Europe/Prague:20220224T190000
DTSTAMP:20260423T140852
CREATED:20220127T193451Z
LAST-MODIFIED:20220127T193451Z
UID:4283-1645714800-1645729200@www.skhb.cz
SUMMARY:židovská obec
DESCRIPTION:
URL:https://www.skhb.cz/kalendar-akci/zidovska-obec-23/
END:VEVENT
BEGIN:VEVENT
DTSTART;TZID=Europe/Prague:20220227T083000
DTEND;TZID=Europe/Prague:20220227T143000
DTSTAMP:20260423T140852
CREATED:20220223T141528Z
LAST-MODIFIED:20220223T141528Z
UID:4293-1645950600-1645972200@www.skhb.cz
SUMMARY:rezervace Hajný
DESCRIPTION:
URL:https://www.skhb.cz/kalendar-akci/rezervace-hajny-6/
END:VEVENT
BEGIN:VEVENT
DTSTART;TZID=Europe/Prague:20220303T150000
DTEND;TZID=Europe/Prague:20220303T190000
DTSTAMP:20260423T140852
CREATED:20220303T054802Z
LAST-MODIFIED:20220303T054802Z
UID:4302-1646319600-1646334000@www.skhb.cz
SUMMARY:rezervace David
DESCRIPTION:
URL:https://www.skhb.cz/kalendar-akci/rezervace-david-113/
END:VEVENT
BEGIN:VEVENT
DTSTART;TZID=Europe/Prague:20220305T080000
DTEND;TZID=Europe/Prague:20220305T130000
DTSTAMP:20260423T140852
CREATED:20220228T193125Z
LAST-MODIFIED:20220228T193125Z
UID:4300-1646467200-1646485200@www.skhb.cz
SUMMARY:Rezervace Šmíd
DESCRIPTION:
URL:https://www.skhb.cz/kalendar-akci/rezervace-smid-9/
END:VEVENT
BEGIN:VEVENT
DTSTART;TZID=Europe/Prague:20220306T100000
DTEND;TZID=Europe/Prague:20220306T140000
DTSTAMP:20260423T140852
CREATED:20220227T173638Z
LAST-MODIFIED:20220227T173638Z
UID:4298-1646560800-1646575200@www.skhb.cz
SUMMARY:rezervace David
DESCRIPTION:
URL:https://www.skhb.cz/kalendar-akci/rezervace-david-112/
END:VEVENT
BEGIN:VEVENT
DTSTART;TZID=Europe/Prague:20220312T123000
DTEND;TZID=Europe/Prague:20220312T170000
DTSTAMP:20260423T140852
CREATED:20220227T090411Z
LAST-MODIFIED:20220227T090411Z
UID:4296-1647088200-1647104400@www.skhb.cz
SUMMARY:Rezervace Bejček
DESCRIPTION:
URL:https://www.skhb.cz/kalendar-akci/rezervace-bejcek-18/
END:VEVENT
BEGIN:VEVENT
DTSTART;TZID=Europe/Prague:20220320T100000
DTEND;TZID=Europe/Prague:20220320T140000
DTSTAMP:20260423T140852
CREATED:20220309T084646Z
LAST-MODIFIED:20220309T084646Z
UID:4311-1647770400-1647784800@www.skhb.cz
SUMMARY:Rezerva Buzák/Vidím
DESCRIPTION:
URL:https://www.skhb.cz/kalendar-akci/rezerva-buzak-vidim/
END:VEVENT
BEGIN:VEVENT
DTSTART;TZID=Europe/Prague:20220323T150000
DTEND;TZID=Europe/Prague:20220323T190000
DTSTAMP:20260423T140852
CREATED:20220303T055054Z
LAST-MODIFIED:20220303T055054Z
UID:4308-1648047600-1648062000@www.skhb.cz
SUMMARY:rezervace David
DESCRIPTION:
URL:https://www.skhb.cz/kalendar-akci/rezervace-david-114/
END:VEVENT
BEGIN:VEVENT
DTSTART;TZID=Europe/Prague:20220324T150000
DTEND;TZID=Europe/Prague:20220324T190000
DTSTAMP:20260423T140852
CREATED:20220303T054855Z
LAST-MODIFIED:20220303T054855Z
UID:4304-1648134000-1648148400@www.skhb.cz
SUMMARY:židovská obec
DESCRIPTION:
URL:https://www.skhb.cz/kalendar-akci/zidovska-obec-24/
END:VEVENT
BEGIN:VEVENT
DTSTART;TZID=Europe/Prague:20220326T140000
DTEND;TZID=Europe/Prague:20220326T160000
DTSTAMP:20260423T140852
CREATED:20220310T163240Z
LAST-MODIFIED:20220310T163240Z
UID:4315-1648303200-1648310400@www.skhb.cz
SUMMARY:rezervace David
DESCRIPTION:
URL:https://www.skhb.cz/kalendar-akci/rezervace-david-115/
END:VEVENT
BEGIN:VEVENT
DTSTART;TZID=Europe/Prague:20220329T160000
DTEND;TZID=Europe/Prague:20220329T190000
DTSTAMP:20260423T140852
CREATED:20220317T165417Z
LAST-MODIFIED:20220329T045550Z
UID:4320-1648569600-1648580400@www.skhb.cz
SUMMARY:rezervace David
DESCRIPTION:
URL:https://www.skhb.cz/kalendar-akci/rezervace-david-117/
END:VEVENT
BEGIN:VEVENT
DTSTART;TZID=Europe/Prague:20220330T150000
DTEND;TZID=Europe/Prague:20220330T190000
DTSTAMP:20260423T140852
CREATED:20220317T165452Z
LAST-MODIFIED:20220317T165452Z
UID:4322-1648652400-1648666800@www.skhb.cz
SUMMARY:rezervace David
DESCRIPTION:
URL:https://www.skhb.cz/kalendar-akci/rezervace-david-118/
END:VEVENT
BEGIN:VEVENT
DTSTART;TZID=Europe/Prague:20220331T150000
DTEND;TZID=Europe/Prague:20220331T190000
DTSTAMP:20260423T140852
CREATED:20220303T054929Z
LAST-MODIFIED:20220303T054929Z
UID:4306-1648738800-1648753200@www.skhb.cz
SUMMARY:židovská obec
DESCRIPTION:
URL:https://www.skhb.cz/kalendar-akci/zidovska-obec-25/
END:VEVENT
BEGIN:VEVENT
DTSTART;TZID=Europe/Prague:20220402T080000
DTEND;TZID=Europe/Prague:20220402T120000
DTSTAMP:20260423T140852
CREATED:20220326T112905Z
LAST-MODIFIED:20220326T112905Z
UID:4330-1648886400-1648900800@www.skhb.cz
SUMMARY:Rezervace Václav Šmíd
DESCRIPTION:
URL:https://www.skhb.cz/kalendar-akci/rezervace-vaclav-smid-4/
END:VEVENT
BEGIN:VEVENT
DTSTART;TZID=Europe/Prague:20220403T100000
DTEND;TZID=Europe/Prague:20220403T150000
DTSTAMP:20260423T140852
CREATED:20220310T163321Z
LAST-MODIFIED:20220324T055709Z
UID:4317-1648980000-1648998000@www.skhb.cz
SUMMARY:rezervace David
DESCRIPTION:
URL:https://www.skhb.cz/kalendar-akci/rezervace-david-116/
END:VEVENT
BEGIN:VEVENT
DTSTART;TZID=Europe/Prague:20220406T160000
DTEND;TZID=Europe/Prague:20220406T190000
DTSTAMP:20260423T140852
CREATED:20220324T055514Z
LAST-MODIFIED:20220324T055514Z
UID:4324-1649260800-1649271600@www.skhb.cz
SUMMARY:rezervace David
DESCRIPTION:
URL:https://www.skhb.cz/kalendar-akci/rezervace-david-119/
END:VEVENT
BEGIN:VEVENT
DTSTART;TZID=Europe/Prague:20220407T160000
DTEND;TZID=Europe/Prague:20220407T190000
DTSTAMP:20260423T140852
CREATED:20220324T055543Z
LAST-MODIFIED:20220324T055543Z
UID:4326-1649347200-1649358000@www.skhb.cz
SUMMARY:rezervace David
DESCRIPTION:
URL:https://www.skhb.cz/kalendar-akci/rezervace-david-120/
END:VEVENT
BEGIN:VEVENT
DTSTART;TZID=Europe/Prague:20220409T090000
DTEND;TZID=Europe/Prague:20220409T120000
DTSTAMP:20260423T140852
CREATED:20220405T143942Z
LAST-MODIFIED:20220405T144045Z
UID:4339-1649494800-1649505600@www.skhb.cz
SUMMARY:Bělaška - Údržba
DESCRIPTION:Brigádnická činnost
URL:https://www.skhb.cz/kalendar-akci/belaska-udrzba/
END:VEVENT
BEGIN:VEVENT
DTSTART;TZID=Europe/Prague:20220415T080000
DTEND;TZID=Europe/Prague:20220415T143000
DTSTAMP:20260423T140852
CREATED:20220412T104302Z
LAST-MODIFIED:20220412T104302Z
UID:4353-1650009600-1650033000@www.skhb.cz
SUMMARY:rezervace Hajný
DESCRIPTION:
URL:https://www.skhb.cz/kalendar-akci/rezervace-hajny-7/
END:VEVENT
BEGIN:VEVENT
DTSTART;TZID=Europe/Prague:20220416T080000
DTEND;TZID=Europe/Prague:20220416T170000
DTSTAMP:20260423T140852
CREATED:20220326T122350Z
LAST-MODIFIED:20220326T122350Z
UID:4332-1650096000-1650128400@www.skhb.cz
SUMMARY:Rezervace Brůža - Loomis
DESCRIPTION:
URL:https://www.skhb.cz/kalendar-akci/rezervace-bruza-loomis-4/
END:VEVENT
BEGIN:VEVENT
DTSTART;TZID=Europe/Prague:20220417T090000
DTEND;TZID=Europe/Prague:20220417T150000
DTSTAMP:20260423T140852
CREATED:20220324T055639Z
LAST-MODIFIED:20220324T055639Z
UID:4328-1650186000-1650207600@www.skhb.cz
SUMMARY:rezervace David
DESCRIPTION:
URL:https://www.skhb.cz/kalendar-akci/rezervace-david-121/
END:VEVENT
BEGIN:VEVENT
DTSTART;TZID=Europe/Prague:20220419T153000
DTEND;TZID=Europe/Prague:20220419T190000
DTSTAMP:20260423T140852
CREATED:20220410T101222Z
LAST-MODIFIED:20220410T101222Z
UID:4345-1650382200-1650394800@www.skhb.cz
SUMMARY:rezervace David
DESCRIPTION:
URL:https://www.skhb.cz/kalendar-akci/rezervace-david-123/
END:VEVENT
BEGIN:VEVENT
DTSTART;TZID=Europe/Prague:20220420T150000
DTEND;TZID=Europe/Prague:20220420T190000
DTSTAMP:20260423T140852
CREATED:20220330T200002Z
LAST-MODIFIED:20220330T200002Z
UID:4334-1650466800-1650481200@www.skhb.cz
SUMMARY:židovská obec
DESCRIPTION:
URL:https://www.skhb.cz/kalendar-akci/zidovska-obec-26/
END:VEVENT
BEGIN:VEVENT
DTSTART;TZID=Europe/Prague:20220421T160000
DTEND;TZID=Europe/Prague:20220421T200000
DTSTAMP:20260423T140852
CREATED:20220410T083952Z
LAST-MODIFIED:20220410T083952Z
UID:4341-1650556800-1650571200@www.skhb.cz
SUMMARY:rezervace David
DESCRIPTION:
URL:https://www.skhb.cz/kalendar-akci/rezervace-david-122/
END:VEVENT
BEGIN:VEVENT
DTSTART;TZID=Europe/Prague:20220425T150000
DTEND;TZID=Europe/Prague:20220425T180000
DTSTAMP:20260423T140852
CREATED:20220410T084047Z
LAST-MODIFIED:20220410T084047Z
UID:4343-1650898800-1650909600@www.skhb.cz
SUMMARY:židovská obec
DESCRIPTION:
URL:https://www.skhb.cz/kalendar-akci/zidovska-obec-28/
END:VEVENT
BEGIN:VEVENT
DTSTART;TZID=Europe/Prague:20220426T150000
DTEND;TZID=Europe/Prague:20220426T190000
DTSTAMP:20260423T140852
CREATED:20220330T200034Z
LAST-MODIFIED:20220330T200034Z
UID:4336-1650985200-1650999600@www.skhb.cz
SUMMARY:židovská obec
DESCRIPTION:
URL:https://www.skhb.cz/kalendar-akci/zidovska-obec-27/
END:VEVENT
BEGIN:VEVENT
DTSTART;TZID=Europe/Prague:20220501T100000
DTEND;TZID=Europe/Prague:20220501T140000
DTSTAMP:20260423T140852
CREATED:20220410T101446Z
LAST-MODIFIED:20220410T101446Z
UID:4351-1651399200-1651413600@www.skhb.cz
SUMMARY:rezervace David
DESCRIPTION:
URL:https://www.skhb.cz/kalendar-akci/rezervace-david-126/
END:VEVENT
BEGIN:VEVENT
DTSTART;TZID=Europe/Prague:20220504T160000
DTEND;TZID=Europe/Prague:20220504T200000
DTSTAMP:20260423T140852
CREATED:20220428T044742Z
LAST-MODIFIED:20220429T152819Z
UID:4363-1651680000-1651694400@www.skhb.cz
SUMMARY:rezervace David
DESCRIPTION:
URL:https://www.skhb.cz/kalendar-akci/rezervace-david-127/
END:VEVENT
BEGIN:VEVENT
DTSTART;TZID=Europe/Prague:20220505T160000
DTEND;TZID=Europe/Prague:20220505T190000
DTSTAMP:20260423T140852
CREATED:20220410T101326Z
LAST-MODIFIED:20220410T101326Z
UID:4347-1651766400-1651777200@www.skhb.cz
SUMMARY:rezervace David
DESCRIPTION:
URL:https://www.skhb.cz/kalendar-akci/rezervace-david-124/
END:VEVENT
BEGIN:VEVENT
DTSTART;TZID=Europe/Prague:20220512T160000
DTEND;TZID=Europe/Prague:20220512T190000
DTSTAMP:20260423T140852
CREATED:20220410T101411Z
LAST-MODIFIED:20220410T101411Z
UID:4349-1652371200-1652382000@www.skhb.cz
SUMMARY:rezervace David
DESCRIPTION:
URL:https://www.skhb.cz/kalendar-akci/rezervace-david-125/
END:VEVENT
END:VCALENDAR