BEGIN:VCALENDAR
VERSION:2.0
PRODID:-//Střelecký Klub Horní Beřkovice - ECPv6.15.17.1//NONSGML v1.0//EN
CALSCALE:GREGORIAN
METHOD:PUBLISH
X-WR-CALNAME:Střelecký Klub Horní Beřkovice
X-ORIGINAL-URL:https://www.skhb.cz
X-WR-CALDESC:Akce na Střelecký Klub Horní Beřkovice
REFRESH-INTERVAL;VALUE=DURATION:PT1H
X-Robots-Tag:noindex
X-PUBLISHED-TTL:PT1H
BEGIN:VTIMEZONE
TZID:Europe/Prague
BEGIN:DAYLIGHT
TZOFFSETFROM:+0100
TZOFFSETTO:+0200
TZNAME:CEST
DTSTART:20220327T010000
END:DAYLIGHT
BEGIN:STANDARD
TZOFFSETFROM:+0200
TZOFFSETTO:+0100
TZNAME:CET
DTSTART:20221030T010000
END:STANDARD
BEGIN:DAYLIGHT
TZOFFSETFROM:+0100
TZOFFSETTO:+0200
TZNAME:CEST
DTSTART:20230326T010000
END:DAYLIGHT
BEGIN:STANDARD
TZOFFSETFROM:+0200
TZOFFSETTO:+0100
TZNAME:CET
DTSTART:20231029T010000
END:STANDARD
BEGIN:DAYLIGHT
TZOFFSETFROM:+0100
TZOFFSETTO:+0200
TZNAME:CEST
DTSTART:20240331T010000
END:DAYLIGHT
BEGIN:STANDARD
TZOFFSETFROM:+0200
TZOFFSETTO:+0100
TZNAME:CET
DTSTART:20241027T010000
END:STANDARD
END:VTIMEZONE
BEGIN:VEVENT
DTSTART;TZID=Europe/Prague:20230921T150000
DTEND;TZID=Europe/Prague:20230921T170000
DTSTAMP:20260421T001250
CREATED:20230919T145515Z
LAST-MODIFIED:20230919T145515Z
UID:4818-1695308400-1695315600@www.skhb.cz
SUMMARY:Zamrzla +Zděnek
DESCRIPTION:
URL:https://www.skhb.cz/kalendar-akci/zamrzla-zdenek-2/
END:VEVENT
BEGIN:VEVENT
DTSTART;TZID=Europe/Prague:20230918T160000
DTEND;TZID=Europe/Prague:20230918T180000
DTSTAMP:20260421T001250
CREATED:20230906T113602Z
LAST-MODIFIED:20230906T113602Z
UID:4806-1695052800-1695060000@www.skhb.cz
SUMMARY:rezervace David
DESCRIPTION:
URL:https://www.skhb.cz/kalendar-akci/rezervace-david-181/
END:VEVENT
BEGIN:VEVENT
DTSTART;TZID=Europe/Prague:20230917T140000
DTEND;TZID=Europe/Prague:20230917T180000
DTSTAMP:20260421T001250
CREATED:20230830T200153Z
LAST-MODIFIED:20230903T164504Z
UID:4796-1694959200-1694973600@www.skhb.cz
SUMMARY:rezervace David
DESCRIPTION:
URL:https://www.skhb.cz/kalendar-akci/rezervace-david-177/
END:VEVENT
BEGIN:VEVENT
DTSTART;TZID=Europe/Prague:20230916T090000
DTEND;TZID=Europe/Prague:20230916T150000
DTSTAMP:20260421T001250
CREATED:20230826T160653Z
LAST-MODIFIED:20230826T160653Z
UID:4787-1694854800-1694876400@www.skhb.cz
SUMMARY:Lomis Bruza
DESCRIPTION:
URL:https://www.skhb.cz/kalendar-akci/lomis-bruza-6/
END:VEVENT
BEGIN:VEVENT
DTSTART;TZID=Europe/Prague:20230914T150000
DTEND;TZID=Europe/Prague:20230914T190000
DTSTAMP:20260421T001250
CREATED:20230825T185839Z
LAST-MODIFIED:20230825T185839Z
UID:4780-1694703600-1694718000@www.skhb.cz
SUMMARY:zidovska obec
DESCRIPTION:
URL:https://www.skhb.cz/kalendar-akci/zidovska-obec-53/
END:VEVENT
BEGIN:VEVENT
DTSTART;TZID=Europe/Prague:20230913T150000
DTEND;TZID=Europe/Prague:20230913T190000
DTSTAMP:20260421T001250
CREATED:20230903T164227Z
LAST-MODIFIED:20230903T164227Z
UID:4801-1694617200-1694631600@www.skhb.cz
SUMMARY:rezervace David
DESCRIPTION:
URL:https://www.skhb.cz/kalendar-akci/rezervace-david-179/
END:VEVENT
BEGIN:VEVENT
DTSTART;TZID=Europe/Prague:20230912T150000
DTEND;TZID=Europe/Prague:20230912T190000
DTSTAMP:20260421T001250
CREATED:20230825T185808Z
LAST-MODIFIED:20230825T185808Z
UID:4778-1694530800-1694545200@www.skhb.cz
SUMMARY:zidovska obec
DESCRIPTION:
URL:https://www.skhb.cz/kalendar-akci/zidovska-obec-50/
END:VEVENT
BEGIN:VEVENT
DTSTART;TZID=Europe/Prague:20230910T100000
DTEND;TZID=Europe/Prague:20230910T130000
DTSTAMP:20260421T001250
CREATED:20230831T153038Z
LAST-MODIFIED:20230831T153038Z
UID:4799-1694340000-1694350800@www.skhb.cz
SUMMARY:Rezervace Bejček
DESCRIPTION:
URL:https://www.skhb.cz/kalendar-akci/rezervace-bejcek-21/
END:VEVENT
BEGIN:VEVENT
DTSTART;TZID=Europe/Prague:20230909T090000
DTEND;TZID=Europe/Prague:20230909T130000
DTSTAMP:20260421T001250
CREATED:20230824T114607Z
LAST-MODIFIED:20230824T114607Z
UID:4776-1694250000-1694264400@www.skhb.cz
SUMMARY:Rezervace Láďa
DESCRIPTION:
URL:https://www.skhb.cz/kalendar-akci/rezervace-lada-4/
END:VEVENT
BEGIN:VEVENT
DTSTART;TZID=Europe/Prague:20230901T150000
DTEND;TZID=Europe/Prague:20230901T170000
DTSTAMP:20260421T001250
CREATED:20230830T194239Z
LAST-MODIFIED:20230830T194239Z
UID:4792-1693580400-1693587600@www.skhb.cz
SUMMARY:rezervace Zamrzla 15-17.h
DESCRIPTION:
URL:https://www.skhb.cz/kalendar-akci/rezervace-zamrzla-15-17-h/
END:VEVENT
BEGIN:VEVENT
DTSTART;TZID=Europe/Prague:20230830T150000
DTEND;TZID=Europe/Prague:20230830T200000
DTSTAMP:20260421T001250
CREATED:20230702T112801Z
LAST-MODIFIED:20230702T112801Z
UID:4748-1693407600-1693425600@www.skhb.cz
SUMMARY:rezervace David
DESCRIPTION:
URL:https://www.skhb.cz/kalendar-akci/rezervace-david-175/
END:VEVENT
BEGIN:VEVENT
DTSTART;TZID=Europe/Prague:20230826T090000
DTEND;TZID=Europe/Prague:20230826T153000
DTSTAMP:20260421T001250
CREATED:20230826T131945Z
LAST-MODIFIED:20230826T131945Z
UID:4782-1693040400-1693063800@www.skhb.cz
SUMMARY:Rezervace Hajný
DESCRIPTION:Vy
URL:https://www.skhb.cz/kalendar-akci/rezervace-hajny-10/
END:VEVENT
BEGIN:VEVENT
DTSTART;TZID=Europe/Prague:20230826T090000
DTEND;TZID=Europe/Prague:20230826T150000
DTSTAMP:20260421T001250
CREATED:20230805T120117Z
LAST-MODIFIED:20230805T120117Z
UID:4769-1693040400-1693062000@www.skhb.cz
SUMMARY:rezervace Bruza
DESCRIPTION:
URL:https://www.skhb.cz/kalendar-akci/rezervace-bruza-8/
END:VEVENT
BEGIN:VEVENT
DTSTART;TZID=Europe/Prague:20230823T150000
DTEND;TZID=Europe/Prague:20230823T190000
DTSTAMP:20260421T001250
CREATED:20230722T072237Z
LAST-MODIFIED:20230722T072237Z
UID:4761-1692802800-1692817200@www.skhb.cz
SUMMARY:rezervace David
DESCRIPTION:
URL:https://www.skhb.cz/kalendar-akci/rezervace-david-178/
END:VEVENT
BEGIN:VEVENT
DTSTART;TZID=Europe/Prague:20230821T150000
DTEND;TZID=Europe/Prague:20230821T190000
DTSTAMP:20260421T001250
CREATED:20230710T172755Z
LAST-MODIFIED:20230710T172755Z
UID:4754-1692630000-1692644400@www.skhb.cz
SUMMARY:Zidovska obec
DESCRIPTION:
URL:https://www.skhb.cz/kalendar-akci/zidovska-obec-51/
END:VEVENT
BEGIN:VEVENT
DTSTART;TZID=Europe/Prague:20230819T080000
DTEND;TZID=Europe/Prague:20230819T123000
DTSTAMP:20260421T001250
CREATED:20230809T132354Z
LAST-MODIFIED:20230809T132354Z
UID:4771-1692432000-1692448200@www.skhb.cz
SUMMARY:Členská schůze
DESCRIPTION:
URL:https://www.skhb.cz/kalendar-akci/clenska-schuze-3/
END:VEVENT
BEGIN:VEVENT
DTSTART;TZID=Europe/Prague:20230817T080000
DTEND;TZID=Europe/Prague:20230817T170000
DTSTAMP:20260421T001250
CREATED:20230805T081507Z
LAST-MODIFIED:20230805T081652Z
UID:4767-1692259200-1692291600@www.skhb.cz
SUMMARY:Rezervace Šmíd
DESCRIPTION:
URL:https://www.skhb.cz/kalendar-akci/rezervace-smid-13/
END:VEVENT
BEGIN:VEVENT
DTSTART;TZID=Europe/Prague:20230813T100000
DTEND;TZID=Europe/Prague:20230813T140000
DTSTAMP:20260421T001250
CREATED:20230722T072118Z
LAST-MODIFIED:20230722T072118Z
UID:4757-1691920800-1691935200@www.skhb.cz
SUMMARY:rezervace David
DESCRIPTION:
URL:https://www.skhb.cz/kalendar-akci/rezervace-david-176/
END:VEVENT
BEGIN:VEVENT
DTSTART;TZID=Europe/Prague:20230729T100000
DTEND;TZID=Europe/Prague:20230729T150000
DTSTAMP:20260421T001250
CREATED:20230705T093035Z
LAST-MODIFIED:20230705T093035Z
UID:4750-1690624800-1690642800@www.skhb.cz
SUMMARY:Bruza
DESCRIPTION:
URL:https://www.skhb.cz/kalendar-akci/bruza-2/
END:VEVENT
BEGIN:VEVENT
DTSTART;TZID=Europe/Prague:20230720T150000
DTEND;TZID=Europe/Prague:20230720T170000
DTSTAMP:20260421T001250
CREATED:20230702T075359Z
LAST-MODIFIED:20230702T075359Z
UID:4738-1689865200-1689872400@www.skhb.cz
SUMMARY:Rezervace Zamrzla
DESCRIPTION:
URL:https://www.skhb.cz/kalendar-akci/rezervace-zamrzla-7/
END:VEVENT
BEGIN:VEVENT
DTSTART;TZID=Europe/Prague:20230719T150000
DTEND;TZID=Europe/Prague:20230719T190000
DTSTAMP:20260421T001250
CREATED:20230619T191059Z
LAST-MODIFIED:20230619T191059Z
UID:4725-1689778800-1689793200@www.skhb.cz
SUMMARY:rezervace David
DESCRIPTION:
URL:https://www.skhb.cz/kalendar-akci/rezervace-david-173/
END:VEVENT
BEGIN:VEVENT
DTSTART;TZID=Europe/Prague:20230715T100000
DTEND;TZID=Europe/Prague:20230715T140000
DTSTAMP:20260421T001250
CREATED:20230702T112520Z
LAST-MODIFIED:20230702T112520Z
UID:4745-1689415200-1689429600@www.skhb.cz
SUMMARY:rezervace David
DESCRIPTION:
URL:https://www.skhb.cz/kalendar-akci/rezervace-david-174/
END:VEVENT
BEGIN:VEVENT
DTSTART;TZID=Europe/Prague:20230712T150000
DTEND;TZID=Europe/Prague:20230712T170000
DTSTAMP:20260421T001250
CREATED:20230702T075242Z
LAST-MODIFIED:20230702T075242Z
UID:4734-1689174000-1689181200@www.skhb.cz
SUMMARY:Rezervace Zamrzla
DESCRIPTION:
URL:https://www.skhb.cz/kalendar-akci/rezervace-zamrzla-6/
END:VEVENT
BEGIN:VEVENT
DTSTART;TZID=Europe/Prague:20230711T150000
DTEND;TZID=Europe/Prague:20230711T190000
DTSTAMP:20260421T001250
CREATED:20230601T192739Z
LAST-MODIFIED:20230601T192739Z
UID:4709-1689087600-1689102000@www.skhb.cz
SUMMARY:rezervace David
DESCRIPTION:
URL:https://www.skhb.cz/kalendar-akci/rezervace-david-170/
END:VEVENT
BEGIN:VEVENT
DTSTART;TZID=Europe/Prague:20230708T090000
DTEND;TZID=Europe/Prague:20230708T160000
DTSTAMP:20260421T001250
CREATED:20230528T200202Z
LAST-MODIFIED:20230528T200202Z
UID:4707-1688806800-1688832000@www.skhb.cz
SUMMARY:Rezervace David
DESCRIPTION:
URL:https://www.skhb.cz/kalendar-akci/rezervace-david-171/
END:VEVENT
BEGIN:VEVENT
DTSTART;TZID=Europe/Prague:20230706T100000
DTEND;TZID=Europe/Prague:20230706T130000
DTSTAMP:20260421T001250
CREATED:20230702T112221Z
LAST-MODIFIED:20230702T112221Z
UID:4743-1688637600-1688648400@www.skhb.cz
SUMMARY:brigada
DESCRIPTION:
URL:https://www.skhb.cz/kalendar-akci/brigada/
END:VEVENT
BEGIN:VEVENT
DTSTART;TZID=Europe/Prague:20230705T100000
DTEND;TZID=Europe/Prague:20230705T150000
DTSTAMP:20260421T001250
CREATED:20230407T161451Z
LAST-MODIFIED:20230407T161451Z
UID:4648-1688551200-1688569200@www.skhb.cz
SUMMARY:Lomis
DESCRIPTION:
URL:https://www.skhb.cz/kalendar-akci/lomis-13/
END:VEVENT
BEGIN:VEVENT
DTSTART;TZID=Europe/Prague:20230704T150000
DTEND;TZID=Europe/Prague:20230704T190000
DTSTAMP:20260421T001250
CREATED:20230619T191022Z
LAST-MODIFIED:20230619T191022Z
UID:4723-1688482800-1688497200@www.skhb.cz
SUMMARY:rezervace David
DESCRIPTION:
URL:https://www.skhb.cz/kalendar-akci/rezervace-david-172/
END:VEVENT
BEGIN:VEVENT
DTSTART;TZID=Europe/Prague:20230701T130000
DTEND;TZID=Europe/Prague:20230701T170000
DTSTAMP:20260421T001250
CREATED:20230629T062658Z
LAST-MODIFIED:20230629T062658Z
UID:4728-1688216400-1688230800@www.skhb.cz
SUMMARY:Rezervace Bejček
DESCRIPTION:
URL:https://www.skhb.cz/kalendar-akci/rezervace-bejcek-20/
END:VEVENT
BEGIN:VEVENT
DTSTART;TZID=Europe/Prague:20230629T150000
DTEND;TZID=Europe/Prague:20230629T190000
DTSTAMP:20260421T001250
CREATED:20230524T164600Z
LAST-MODIFIED:20230524T164600Z
UID:4703-1688050800-1688065200@www.skhb.cz
SUMMARY:Zidovska obec
DESCRIPTION:
URL:https://www.skhb.cz/kalendar-akci/zidovska-obec-60/
END:VEVENT
END:VCALENDAR