BEGIN:VCALENDAR
VERSION:2.0
PRODID:-//Střelecký Klub Horní Beřkovice - ECPv6.15.17.1//NONSGML v1.0//EN
CALSCALE:GREGORIAN
METHOD:PUBLISH
X-WR-CALNAME:Střelecký Klub Horní Beřkovice
X-ORIGINAL-URL:https://www.skhb.cz
X-WR-CALDESC:Akce na Střelecký Klub Horní Beřkovice
REFRESH-INTERVAL;VALUE=DURATION:PT1H
X-Robots-Tag:noindex
X-PUBLISHED-TTL:PT1H
BEGIN:VTIMEZONE
TZID:Europe/Prague
BEGIN:DAYLIGHT
TZOFFSETFROM:+0100
TZOFFSETTO:+0200
TZNAME:CEST
DTSTART:20210328T010000
END:DAYLIGHT
BEGIN:STANDARD
TZOFFSETFROM:+0200
TZOFFSETTO:+0100
TZNAME:CET
DTSTART:20211031T010000
END:STANDARD
BEGIN:DAYLIGHT
TZOFFSETFROM:+0100
TZOFFSETTO:+0200
TZNAME:CEST
DTSTART:20220327T010000
END:DAYLIGHT
BEGIN:STANDARD
TZOFFSETFROM:+0200
TZOFFSETTO:+0100
TZNAME:CET
DTSTART:20221030T010000
END:STANDARD
BEGIN:DAYLIGHT
TZOFFSETFROM:+0100
TZOFFSETTO:+0200
TZNAME:CEST
DTSTART:20230326T010000
END:DAYLIGHT
BEGIN:STANDARD
TZOFFSETFROM:+0200
TZOFFSETTO:+0100
TZNAME:CET
DTSTART:20231029T010000
END:STANDARD
BEGIN:DAYLIGHT
TZOFFSETFROM:+0100
TZOFFSETTO:+0200
TZNAME:CEST
DTSTART:20240331T010000
END:DAYLIGHT
BEGIN:STANDARD
TZOFFSETFROM:+0200
TZOFFSETTO:+0100
TZNAME:CET
DTSTART:20241027T010000
END:STANDARD
END:VTIMEZONE
BEGIN:VEVENT
DTSTART;TZID=Europe/Prague:20230115T080000
DTEND;TZID=Europe/Prague:20230115T120000
DTSTAMP:20260422T235338
CREATED:20230113T132857Z
LAST-MODIFIED:20230113T132857Z
UID:4583-1673769600-1673784000@www.skhb.cz
SUMMARY:Rezervace L. Čvančar
DESCRIPTION:
URL:https://www.skhb.cz/kalendar-akci/rezervace-l-cvancar-2/
END:VEVENT
BEGIN:VEVENT
DTSTART;TZID=Europe/Prague:20230111T150000
DTEND;TZID=Europe/Prague:20230111T190000
DTSTAMP:20260422T235338
CREATED:20230102T221141Z
LAST-MODIFIED:20230102T221141Z
UID:4574-1673449200-1673463600@www.skhb.cz
SUMMARY:rezervace David
DESCRIPTION:
URL:https://www.skhb.cz/kalendar-akci/rezervace-david-158/
END:VEVENT
BEGIN:VEVENT
DTSTART;TZID=Europe/Prague:20221229T080000
DTEND;TZID=Europe/Prague:20221229T120000
DTSTAMP:20260422T235338
CREATED:20221220T182947Z
LAST-MODIFIED:20221220T182947Z
UID:4569-1672300800-1672315200@www.skhb.cz
SUMMARY:Rezervace Čvančar
DESCRIPTION:
URL:https://www.skhb.cz/kalendar-akci/rezervace-cvancar-2/
END:VEVENT
BEGIN:VEVENT
DTSTART;TZID=Europe/Prague:20221228T150000
DTEND;TZID=Europe/Prague:20221228T190000
DTSTAMP:20260422T235338
CREATED:20221220T215610Z
LAST-MODIFIED:20221220T215610Z
UID:4571-1672239600-1672254000@www.skhb.cz
SUMMARY:rezervace židovska obec
DESCRIPTION:
URL:https://www.skhb.cz/kalendar-akci/rezervace-zidovska-obec-4/
END:VEVENT
BEGIN:VEVENT
DTSTART;TZID=Europe/Prague:20221227T130000
DTEND;TZID=Europe/Prague:20221227T170000
DTSTAMP:20260422T235338
CREATED:20221214T181716Z
LAST-MODIFIED:20221214T181716Z
UID:4566-1672146000-1672160400@www.skhb.cz
SUMMARY:Rezervace V.Mataj
DESCRIPTION:
URL:https://www.skhb.cz/kalendar-akci/rezervace-v-mataj-2/
CATEGORIES:Akce člena
END:VEVENT
BEGIN:VEVENT
DTSTART;TZID=Europe/Prague:20221217T130000
DTEND;TZID=Europe/Prague:20221217T170000
DTSTAMP:20260422T235338
CREATED:20221227T181510Z
LAST-MODIFIED:20221214T181610Z
UID:4564-1671282000-1671296400@www.skhb.cz
SUMMARY:Rezervace V.Mataj
DESCRIPTION:
URL:https://www.skhb.cz/kalendar-akci/rezervace-v-mataj/
CATEGORIES:Akce člena
END:VEVENT
BEGIN:VEVENT
DTSTART;TZID=Europe/Prague:20221213T150000
DTEND;TZID=Europe/Prague:20221213T190000
DTSTAMP:20260422T235338
CREATED:20221120T083250Z
LAST-MODIFIED:20221120T083250Z
UID:4552-1670943600-1670958000@www.skhb.cz
SUMMARY:rezervace David
DESCRIPTION:
URL:https://www.skhb.cz/kalendar-akci/rezervace-david-157/
END:VEVENT
BEGIN:VEVENT
DTSTART;TZID=Europe/Prague:20221211T100000
DTEND;TZID=Europe/Prague:20221211T140000
DTSTAMP:20260422T235338
CREATED:20221210T184504Z
LAST-MODIFIED:20221210T184504Z
UID:4560-1670752800-1670767200@www.skhb.cz
SUMMARY:Hajný - rezervace
DESCRIPTION:
URL:https://www.skhb.cz/kalendar-akci/hajny-rezervace-2/
END:VEVENT
BEGIN:VEVENT
DTSTART;TZID=Europe/Prague:20221206T150000
DTEND;TZID=Europe/Prague:20221206T190000
DTSTAMP:20260422T235338
CREATED:20221126T180159Z
LAST-MODIFIED:20221126T180159Z
UID:4556-1670338800-1670353200@www.skhb.cz
SUMMARY:židovská obec
DESCRIPTION:
URL:https://www.skhb.cz/kalendar-akci/zidovska-obec-41/
END:VEVENT
BEGIN:VEVENT
DTSTART;TZID=Europe/Prague:20221204T120000
DTEND;TZID=Europe/Prague:20221204T160000
DTSTAMP:20260422T235338
CREATED:20221119T131445Z
LAST-MODIFIED:20221204T091240Z
UID:4550-1670155200-1670169600@www.skhb.cz
SUMMARY:rezervace David
DESCRIPTION:
URL:https://www.skhb.cz/kalendar-akci/rezervace-david-156/
END:VEVENT
BEGIN:VEVENT
DTSTART;TZID=Europe/Prague:20221201T150000
DTEND;TZID=Europe/Prague:20221201T190000
DTSTAMP:20260422T235338
CREATED:20221126T180129Z
LAST-MODIFIED:20221126T180129Z
UID:4554-1669906800-1669921200@www.skhb.cz
SUMMARY:židovská obec
DESCRIPTION:
URL:https://www.skhb.cz/kalendar-akci/zidovska-obec-40/
END:VEVENT
BEGIN:VEVENT
DTSTART;TZID=Europe/Prague:20221129T150000
DTEND;TZID=Europe/Prague:20221129T190000
DTSTAMP:20260422T235338
CREATED:20221101T194236Z
LAST-MODIFIED:20221101T194236Z
UID:4539-1669734000-1669748400@www.skhb.cz
SUMMARY:židovská obec
DESCRIPTION:
URL:https://www.skhb.cz/kalendar-akci/zidovska-obec-38/
END:VEVENT
BEGIN:VEVENT
DTSTART;TZID=Europe/Prague:20221127T093000
DTEND;TZID=Europe/Prague:20221127T160000
DTSTAMP:20260422T235338
CREATED:20221119T131359Z
LAST-MODIFIED:20221119T131359Z
UID:4548-1669541400-1669564800@www.skhb.cz
SUMMARY:rezervace David
DESCRIPTION:
URL:https://www.skhb.cz/kalendar-akci/rezervace-david-155/
END:VEVENT
BEGIN:VEVENT
DTSTART;TZID=Europe/Prague:20221122T150000
DTEND;TZID=Europe/Prague:20221122T190000
DTSTAMP:20260422T235338
CREATED:20221101T194207Z
LAST-MODIFIED:20221101T194207Z
UID:4537-1669129200-1669143600@www.skhb.cz
SUMMARY:židovska obec
DESCRIPTION:
URL:https://www.skhb.cz/kalendar-akci/zidovska-obec-37/
END:VEVENT
BEGIN:VEVENT
DTSTART;TZID=Europe/Prague:20221121T150000
DTEND;TZID=Europe/Prague:20221121T190000
DTSTAMP:20260422T235338
CREATED:20221119T131257Z
LAST-MODIFIED:20221119T131321Z
UID:4546-1669042800-1669057200@www.skhb.cz
SUMMARY:židovská obec
DESCRIPTION:
URL:https://www.skhb.cz/kalendar-akci/zidovska-obec-39/
END:VEVENT
BEGIN:VEVENT
DTSTART;TZID=Europe/Prague:20221118T160000
DTEND;TZID=Europe/Prague:20221118T190000
DTSTAMP:20260422T235338
CREATED:20221101T194034Z
LAST-MODIFIED:20221101T194034Z
UID:4535-1668787200-1668798000@www.skhb.cz
SUMMARY:rezervace David
DESCRIPTION:
URL:https://www.skhb.cz/kalendar-akci/rezervace-david-154/
END:VEVENT
BEGIN:VEVENT
DTSTART;TZID=Europe/Prague:20221117T080000
DTEND;TZID=Europe/Prague:20221117T170000
DTSTAMP:20260422T235338
CREATED:20220804T051705Z
LAST-MODIFIED:20220804T051705Z
UID:4457-1668672000-1668704400@www.skhb.cz
SUMMARY:Lomis Brůža
DESCRIPTION:
URL:https://www.skhb.cz/kalendar-akci/lomis-bruza-4/
END:VEVENT
BEGIN:VEVENT
DTSTART;TZID=Europe/Prague:20221115T160000
DTEND;TZID=Europe/Prague:20221115T190000
DTSTAMP:20260422T235338
CREATED:20221101T194005Z
LAST-MODIFIED:20221101T194005Z
UID:4533-1668528000-1668538800@www.skhb.cz
SUMMARY:rezervace David
DESCRIPTION:
URL:https://www.skhb.cz/kalendar-akci/rezervace-david-153/
END:VEVENT
BEGIN:VEVENT
DTSTART;TZID=Europe/Prague:20221113T080000
DTEND;TZID=Europe/Prague:20221113T120000
DTSTAMP:20260422T235338
CREATED:20221109T182757Z
LAST-MODIFIED:20221109T182757Z
UID:4541-1668326400-1668340800@www.skhb.cz
SUMMARY:Rezervace Václav Šmíd
DESCRIPTION:
URL:https://www.skhb.cz/kalendar-akci/rezervace-vaclav-smid-7/
END:VEVENT
BEGIN:VEVENT
DTSTART;TZID=Europe/Prague:20221112T090000
DTEND;TZID=Europe/Prague:20221112T120000
DTSTAMP:20260422T235338
CREATED:20221111T190119Z
LAST-MODIFIED:20221111T190119Z
UID:4544-1668243600-1668254400@www.skhb.cz
SUMMARY:rezervace Hajný
DESCRIPTION:
URL:https://www.skhb.cz/kalendar-akci/rezervace-hajny-8/
END:VEVENT
BEGIN:VEVENT
DTSTART;TZID=Europe/Prague:20221030T103000
DTEND;TZID=Europe/Prague:20221030T133000
DTSTAMP:20260422T235338
CREATED:20221025T181014Z
LAST-MODIFIED:20221025T181014Z
UID:4531-1667125800-1667136600@www.skhb.cz
SUMMARY:Rezervace Buzák Vidím
DESCRIPTION: 
URL:https://www.skhb.cz/kalendar-akci/rezervace-buzak-vidim/
END:VEVENT
BEGIN:VEVENT
DTSTART;TZID=Europe/Prague:20221029T090000
DTEND;TZID=Europe/Prague:20221029T110000
DTSTAMP:20260422T235338
CREATED:20221025T122804Z
LAST-MODIFIED:20221025T122804Z
UID:4524-1667034000-1667041200@www.skhb.cz
SUMMARY:Rezervace Bělaška
DESCRIPTION:
URL:https://www.skhb.cz/kalendar-akci/rezervace-belaska-7/
END:VEVENT
BEGIN:VEVENT
DTSTART;TZID=Europe/Prague:20221028T100000
DTEND;TZID=Europe/Prague:20221028T140000
DTSTAMP:20260422T235338
CREATED:20221004T144651Z
LAST-MODIFIED:20221004T144651Z
UID:4518-1666951200-1666965600@www.skhb.cz
SUMMARY:rezervace Bruza
DESCRIPTION:
URL:https://www.skhb.cz/kalendar-akci/rezervace-bruza-5/
END:VEVENT
BEGIN:VEVENT
DTSTART;TZID=Europe/Prague:20221026T150000
DTEND;TZID=Europe/Prague:20221026T190000
DTSTAMP:20260422T235338
CREATED:20221004T144559Z
LAST-MODIFIED:20221004T144559Z
UID:4516-1666796400-1666810800@www.skhb.cz
SUMMARY:rezervace Bruza
DESCRIPTION:
URL:https://www.skhb.cz/kalendar-akci/rezervace-bruza-4/
END:VEVENT
BEGIN:VEVENT
DTSTART;TZID=Europe/Prague:20221024T150000
DTEND;TZID=Europe/Prague:20221024T200000
DTSTAMP:20260422T235338
CREATED:20220922T173321Z
LAST-MODIFIED:20220922T173321Z
UID:4502-1666623600-1666641600@www.skhb.cz
SUMMARY:židovská obec
DESCRIPTION:
URL:https://www.skhb.cz/kalendar-akci/zidovska-obec-36/
END:VEVENT
BEGIN:VEVENT
DTSTART;TZID=Europe/Prague:20221023T120000
DTEND;TZID=Europe/Prague:20221023T140000
DTSTAMP:20260422T235338
CREATED:20221003T052840Z
LAST-MODIFIED:20221003T052840Z
UID:4512-1666526400-1666533600@www.skhb.cz
SUMMARY:rezervace David
DESCRIPTION:
URL:https://www.skhb.cz/kalendar-akci/rezervace-david-150/
END:VEVENT
BEGIN:VEVENT
DTSTART;TZID=Europe/Prague:20221019T150000
DTEND;TZID=Europe/Prague:20221019T190000
DTSTAMP:20260422T235338
CREATED:20221004T144527Z
LAST-MODIFIED:20221004T144527Z
UID:4514-1666191600-1666206000@www.skhb.cz
SUMMARY:rezervace David
DESCRIPTION:
URL:https://www.skhb.cz/kalendar-akci/rezervace-david-151/
END:VEVENT
BEGIN:VEVENT
DTSTART;TZID=Europe/Prague:20221018T150000
DTEND;TZID=Europe/Prague:20221018T190000
DTSTAMP:20260422T235338
CREATED:20221013T093431Z
LAST-MODIFIED:20221013T093431Z
UID:4520-1666105200-1666119600@www.skhb.cz
SUMMARY:rezervace David
DESCRIPTION:
URL:https://www.skhb.cz/kalendar-akci/rezervace-david-152/
END:VEVENT
BEGIN:VEVENT
DTSTART;TZID=Europe/Prague:20221011T150000
DTEND;TZID=Europe/Prague:20221011T190000
DTSTAMP:20260422T235338
CREATED:20220922T173142Z
LAST-MODIFIED:20220922T173142Z
UID:4498-1665500400-1665514800@www.skhb.cz
SUMMARY:rezervace David
DESCRIPTION:
URL:https://www.skhb.cz/kalendar-akci/rezervace-david-149/
END:VEVENT
BEGIN:VEVENT
DTSTART;TZID=Europe/Prague:20221006T150000
DTEND;TZID=Europe/Prague:20221006T190000
DTSTAMP:20260422T235338
CREATED:20220922T173100Z
LAST-MODIFIED:20220922T173100Z
UID:4496-1665068400-1665082800@www.skhb.cz
SUMMARY:rezervace David
DESCRIPTION:
URL:https://www.skhb.cz/kalendar-akci/rezervace-david-148/
END:VEVENT
END:VCALENDAR