BEGIN:VCALENDAR
VERSION:2.0
PRODID:-//Střelecký Klub Horní Beřkovice - ECPv6.15.17.1//NONSGML v1.0//EN
CALSCALE:GREGORIAN
METHOD:PUBLISH
X-ORIGINAL-URL:https://www.skhb.cz
X-WR-CALDESC:Akce na Střelecký Klub Horní Beřkovice
REFRESH-INTERVAL;VALUE=DURATION:PT1H
X-Robots-Tag:noindex
X-PUBLISHED-TTL:PT1H
BEGIN:VTIMEZONE
TZID:Europe/Prague
BEGIN:DAYLIGHT
TZOFFSETFROM:+0100
TZOFFSETTO:+0200
TZNAME:CEST
DTSTART:20180325T010000
END:DAYLIGHT
BEGIN:STANDARD
TZOFFSETFROM:+0200
TZOFFSETTO:+0100
TZNAME:CET
DTSTART:20181028T010000
END:STANDARD
BEGIN:DAYLIGHT
TZOFFSETFROM:+0100
TZOFFSETTO:+0200
TZNAME:CEST
DTSTART:20190331T010000
END:DAYLIGHT
BEGIN:STANDARD
TZOFFSETFROM:+0200
TZOFFSETTO:+0100
TZNAME:CET
DTSTART:20191027T010000
END:STANDARD
BEGIN:DAYLIGHT
TZOFFSETFROM:+0100
TZOFFSETTO:+0200
TZNAME:CEST
DTSTART:20200329T010000
END:DAYLIGHT
BEGIN:STANDARD
TZOFFSETFROM:+0200
TZOFFSETTO:+0100
TZNAME:CET
DTSTART:20201025T010000
END:STANDARD
BEGIN:DAYLIGHT
TZOFFSETFROM:+0100
TZOFFSETTO:+0200
TZNAME:CEST
DTSTART:20210328T010000
END:DAYLIGHT
BEGIN:STANDARD
TZOFFSETFROM:+0200
TZOFFSETTO:+0100
TZNAME:CET
DTSTART:20211031T010000
END:STANDARD
END:VTIMEZONE
BEGIN:VEVENT
DTSTART;TZID=Europe/Prague:20190901T100000
DTEND;TZID=Europe/Prague:20190901T130000
DTSTAMP:20260425T163914
CREATED:20190821T075728Z
LAST-MODIFIED:20190822T084252Z
UID:3278-1567332000-1567342800@www.skhb.cz
SUMMARY:Rezervace David
DESCRIPTION:
URL:https://www.skhb.cz/kalendar-akci/rezervace-david-6/
END:VEVENT
BEGIN:VEVENT
DTSTART;TZID=Europe/Prague:20190911T120000
DTEND;TZID=Europe/Prague:20190911T190000
DTSTAMP:20260425T163914
CREATED:20190906T071441Z
LAST-MODIFIED:20190906T071441Z
UID:3285-1568203200-1568228400@www.skhb.cz
SUMMARY:Rezervace David
DESCRIPTION:
URL:https://www.skhb.cz/kalendar-akci/rezervace-david-8/
END:VEVENT
BEGIN:VEVENT
DTSTART;TZID=Europe/Prague:20190914T100000
DTEND;TZID=Europe/Prague:20190914T140000
DTSTAMP:20260425T163914
CREATED:20190822T084403Z
LAST-MODIFIED:20190822T084403Z
UID:3281-1568455200-1568469600@www.skhb.cz
SUMMARY:LOMIS
DESCRIPTION:Akce firmy Lomis
URL:https://www.skhb.cz/kalendar-akci/lomis-6/
CATEGORIES:Akce veřejnosti
END:VEVENT
BEGIN:VEVENT
DTSTART;VALUE=DATE:20190915
DTEND;VALUE=DATE:20190916
DTSTAMP:20260425T163914
CREATED:20190911T143836Z
LAST-MODIFIED:20190911T143851Z
UID:3297-1568505600-1568591999@www.skhb.cz
SUMMARY:rezervace Z.Zamrzla
DESCRIPTION:
URL:https://www.skhb.cz/kalendar-akci/rezervace-z-zamrzla/
END:VEVENT
BEGIN:VEVENT
DTSTART;TZID=Europe/Prague:20190920T130000
DTEND;TZID=Europe/Prague:20190920T150000
DTSTAMP:20260425T163914
CREATED:20190917T141407Z
LAST-MODIFIED:20190917T141407Z
UID:3315-1568984400-1568991600@www.skhb.cz
SUMMARY:Rezervace Zamrzla
DESCRIPTION:
URL:https://www.skhb.cz/kalendar-akci/rezervace-zamrzla-2/
END:VEVENT
BEGIN:VEVENT
DTSTART;TZID=Europe/Prague:20190928T100000
DTEND;TZID=Europe/Prague:20190928T140000
DTSTAMP:20260425T163914
CREATED:20190819T113847Z
LAST-MODIFIED:20190819T113847Z
UID:3274-1569664800-1569679200@www.skhb.cz
SUMMARY:LOMIS
DESCRIPTION:Akce firmy Lomis
URL:https://www.skhb.cz/kalendar-akci/lomis-5/
CATEGORIES:Akce veřejnosti
END:VEVENT
BEGIN:VEVENT
DTSTART;TZID=Europe/Prague:20191009T160000
DTEND;TZID=Europe/Prague:20191009T160000
DTSTAMP:20260425T163914
CREATED:20191005T075112Z
LAST-MODIFIED:20191005T075112Z
UID:3333-1570636800-1570636800@www.skhb.cz
SUMMARY:rezervace David
DESCRIPTION:
URL:https://www.skhb.cz/kalendar-akci/rezervace-david-9/
END:VEVENT
BEGIN:VEVENT
DTSTART;TZID=Europe/Prague:20191013T100000
DTEND;TZID=Europe/Prague:20191013T130000
DTSTAMP:20260425T163914
CREATED:20191005T075246Z
LAST-MODIFIED:20191005T075246Z
UID:3335-1570960800-1570971600@www.skhb.cz
SUMMARY:rezrvace David
DESCRIPTION:
URL:https://www.skhb.cz/kalendar-akci/rezrvace-david/
END:VEVENT
BEGIN:VEVENT
DTSTART;TZID=Europe/Prague:20191013T150000
DTEND;TZID=Europe/Prague:20191013T170000
DTSTAMP:20260425T163914
CREATED:20191012T100631Z
LAST-MODIFIED:20191012T100631Z
UID:3338-1570978800-1570986000@www.skhb.cz
SUMMARY:Rezervace Laňka
DESCRIPTION:
URL:https://www.skhb.cz/kalendar-akci/rezervace-lanka/
END:VEVENT
BEGIN:VEVENT
DTSTART;TZID=Europe/Prague:20191023T150000
DTEND;TZID=Europe/Prague:20191023T180000
DTSTAMP:20260425T163914
CREATED:20191019T074412Z
LAST-MODIFIED:20191019T074412Z
UID:3344-1571842800-1571853600@www.skhb.cz
SUMMARY:rezervace David
DESCRIPTION:
URL:https://www.skhb.cz/kalendar-akci/rezervace-david-10/
END:VEVENT
BEGIN:VEVENT
DTSTART;TZID=Europe/Prague:20191024T110000
DTEND;TZID=Europe/Prague:20191024T150000
DTSTAMP:20260425T163914
CREATED:20191016T175223Z
LAST-MODIFIED:20191016T175223Z
UID:3340-1571914800-1571929200@www.skhb.cz
SUMMARY:Zamrzla rezervace a sekání střelnice
DESCRIPTION:
URL:https://www.skhb.cz/kalendar-akci/zamrzla-rezervace-a-sekani-strelnice/
END:VEVENT
BEGIN:VEVENT
DTSTART;TZID=Europe/Prague:20191026T100000
DTEND;TZID=Europe/Prague:20191026T140000
DTSTAMP:20260425T163914
CREATED:20190920T111158Z
LAST-MODIFIED:20190920T111227Z
UID:3328-1572084000-1572098400@www.skhb.cz
SUMMARY:LOMIS
DESCRIPTION:Akce firmy LOMIS
URL:https://www.skhb.cz/kalendar-akci/akce-lomis/
CATEGORIES:Akce veřejnosti
END:VEVENT
BEGIN:VEVENT
DTSTART;TZID=Europe/Prague:20191103T100000
DTEND;TZID=Europe/Prague:20191103T130000
DTSTAMP:20260425T163914
CREATED:20191019T074521Z
LAST-MODIFIED:20191019T074521Z
UID:3346-1572775200-1572786000@www.skhb.cz
SUMMARY:rezervace David
DESCRIPTION:
URL:https://www.skhb.cz/kalendar-akci/rezervace-david-11/
END:VEVENT
BEGIN:VEVENT
DTSTART;TZID=Europe/Prague:20191115T130000
DTEND;TZID=Europe/Prague:20191115T163000
DTSTAMP:20260425T163914
CREATED:20191107T234619Z
LAST-MODIFIED:20191107T234619Z
UID:3353-1573822800-1573835400@www.skhb.cz
SUMMARY:rezervace Zamrzla
DESCRIPTION:rezervace Zamrzla 13-16\,30
URL:https://www.skhb.cz/kalendar-akci/rezervace-zamrzla/
LOCATION:Střelnice – Horní Beřkovice
END:VEVENT
BEGIN:VEVENT
DTSTART;TZID=Europe/Prague:20191118T150000
DTEND;TZID=Europe/Prague:20191118T190000
DTSTAMP:20260425T163914
CREATED:20191118T203556Z
LAST-MODIFIED:20191118T203556Z
UID:3361-1574089200-1574103600@www.skhb.cz
SUMMARY:rezervace David
DESCRIPTION:
URL:https://www.skhb.cz/kalendar-akci/rezervace-david-14/
END:VEVENT
BEGIN:VEVENT
DTSTART;TZID=Europe/Prague:20191122T090000
DTEND;TZID=Europe/Prague:20191122T120000
DTSTAMP:20260425T163914
CREATED:20191111T185507Z
LAST-MODIFIED:20191111T185507Z
UID:3357-1574413200-1574424000@www.skhb.cz
SUMMARY:Rezervace David
DESCRIPTION:
URL:https://www.skhb.cz/kalendar-akci/rezervace-david-12/
END:VEVENT
BEGIN:VEVENT
DTSTART;TZID=Europe/Prague:20191123T100000
DTEND;TZID=Europe/Prague:20191123T140000
DTSTAMP:20260425T163914
CREATED:20191029T090954Z
LAST-MODIFIED:20191029T091032Z
UID:3351-1574503200-1574517600@www.skhb.cz
SUMMARY:LOMIS
DESCRIPTION:Akce firmy LOMIS
URL:https://www.skhb.cz/kalendar-akci/lomis-7/
CATEGORIES:Akce veřejnosti
END:VEVENT
BEGIN:VEVENT
DTSTART;TZID=Europe/Prague:20191125T140000
DTEND;TZID=Europe/Prague:20191125T190000
DTSTAMP:20260425T163914
CREATED:20191111T185553Z
LAST-MODIFIED:20191111T185553Z
UID:3359-1574690400-1574708400@www.skhb.cz
SUMMARY:Rezervace David
DESCRIPTION:
URL:https://www.skhb.cz/kalendar-akci/rezervace-david-13/
END:VEVENT
BEGIN:VEVENT
DTSTART;TZID=Europe/Prague:20191127T140000
DTEND;TZID=Europe/Prague:20191127T170000
DTSTAMP:20260425T163914
CREATED:20191127T071454Z
LAST-MODIFIED:20191127T071454Z
UID:3365-1574863200-1574874000@www.skhb.cz
SUMMARY:rezervace David
DESCRIPTION:
URL:https://www.skhb.cz/kalendar-akci/rezervace-david-16/
END:VEVENT
BEGIN:VEVENT
DTSTART;TZID=Europe/Prague:20191201T090000
DTEND;TZID=Europe/Prague:20191201T130000
DTSTAMP:20260425T163914
CREATED:20191118T203657Z
LAST-MODIFIED:20191118T203657Z
UID:3363-1575190800-1575205200@www.skhb.cz
SUMMARY:rezervace David
DESCRIPTION:
URL:https://www.skhb.cz/kalendar-akci/rezervace-david-15/
END:VEVENT
BEGIN:VEVENT
DTSTART;TZID=Europe/Prague:20191205T123000
DTEND;TZID=Europe/Prague:20191205T163000
DTSTAMP:20260425T163914
CREATED:20191130T065008Z
LAST-MODIFIED:20191130T065008Z
UID:3374-1575549000-1575563400@www.skhb.cz
SUMMARY:Rezervace Zamrzla
DESCRIPTION:
URL:https://www.skhb.cz/kalendar-akci/rezervace-zamrzla-3/
END:VEVENT
BEGIN:VEVENT
DTSTART;TZID=Europe/Prague:20191209T150000
DTEND;TZID=Europe/Prague:20191209T190000
DTSTAMP:20260425T163914
CREATED:20191204T212257Z
LAST-MODIFIED:20191204T212257Z
UID:3378-1575903600-1575918000@www.skhb.cz
SUMMARY:rezervace David
DESCRIPTION:
URL:https://www.skhb.cz/kalendar-akci/rezervace-david-17/
END:VEVENT
BEGIN:VEVENT
DTSTART;TZID=Europe/Prague:20200122T150000
DTEND;TZID=Europe/Prague:20200122T190000
DTSTAMP:20260425T163914
CREATED:20200108T195356Z
LAST-MODIFIED:20200108T195356Z
UID:3401-1579705200-1579719600@www.skhb.cz
SUMMARY:rezervace David
DESCRIPTION:
URL:https://www.skhb.cz/kalendar-akci/rezervace-david-18/
END:VEVENT
BEGIN:VEVENT
DTSTART;TZID=Europe/Prague:20200123T150000
DTEND;TZID=Europe/Prague:20200123T190000
DTSTAMP:20260425T163914
CREATED:20200108T195428Z
LAST-MODIFIED:20200108T195428Z
UID:3403-1579791600-1579806000@www.skhb.cz
SUMMARY:rezervace David
DESCRIPTION:
URL:https://www.skhb.cz/kalendar-akci/rezervace-david-19/
END:VEVENT
BEGIN:VEVENT
DTSTART;TZID=Europe/Prague:20200126T090000
DTEND;TZID=Europe/Prague:20200126T130000
DTSTAMP:20260425T163914
CREATED:20200109T164638Z
LAST-MODIFIED:20200109T164638Z
UID:3405-1580029200-1580043600@www.skhb.cz
SUMMARY:rezervace David
DESCRIPTION:
URL:https://www.skhb.cz/kalendar-akci/rezervace-david-20/
END:VEVENT
BEGIN:VEVENT
DTSTART;TZID=Europe/Prague:20200202T090000
DTEND;TZID=Europe/Prague:20200202T120000
DTSTAMP:20260425T163914
CREATED:20200125T201321Z
LAST-MODIFIED:20200125T201321Z
UID:3428-1580634000-1580644800@www.skhb.cz
SUMMARY:rezervace Zamrzla
DESCRIPTION:
URL:https://www.skhb.cz/kalendar-akci/rezervace-zamrzla-4/
END:VEVENT
BEGIN:VEVENT
DTSTART;TZID=Europe/Prague:20200206T080000
DTEND;TZID=Europe/Prague:20200206T120000
DTSTAMP:20260425T163914
CREATED:20200205T171256Z
LAST-MODIFIED:20200205T171256Z
UID:3438-1580976000-1580990400@www.skhb.cz
SUMMARY:Rezervace David - ozbr. složka
DESCRIPTION:
URL:https://www.skhb.cz/kalendar-akci/rezervace-david-ozbr-slozka/
END:VEVENT
BEGIN:VEVENT
DTSTART;TZID=Europe/Prague:20200208T083000
DTEND;TZID=Europe/Prague:20200208T140000
DTSTAMP:20260425T163914
CREATED:20200120T112849Z
LAST-MODIFIED:20200120T112849Z
UID:3419-1581150600-1581170400@www.skhb.cz
SUMMARY:rezervace Helcl
DESCRIPTION:
URL:https://www.skhb.cz/kalendar-akci/rezervace-helcl-2/
CATEGORIES:Akce člena
END:VEVENT
BEGIN:VEVENT
DTSTART;TZID=Europe/Prague:20200226T150000
DTEND;TZID=Europe/Prague:20200226T190000
DTSTAMP:20260425T163914
CREATED:20200214T194024Z
LAST-MODIFIED:20200214T194024Z
UID:3450-1582729200-1582743600@www.skhb.cz
SUMMARY:rezervace David
DESCRIPTION:
URL:https://www.skhb.cz/kalendar-akci/rezervace-david-21/
END:VEVENT
BEGIN:VEVENT
DTSTART;TZID=Europe/Prague:20200301T090000
DTEND;TZID=Europe/Prague:20200301T110000
DTSTAMP:20260425T163914
CREATED:20200228T195545Z
LAST-MODIFIED:20200228T195545Z
UID:3456-1583053200-1583060400@www.skhb.cz
SUMMARY:rezervace David
DESCRIPTION:
URL:https://www.skhb.cz/kalendar-akci/rezervace-david-22/
END:VEVENT
END:VCALENDAR