BEGIN:VCALENDAR
VERSION:2.0
PRODID:-//Střelecký Klub Horní Beřkovice - ECPv6.15.17.1//NONSGML v1.0//EN
CALSCALE:GREGORIAN
METHOD:PUBLISH
X-WR-CALNAME:Střelecký Klub Horní Beřkovice
X-ORIGINAL-URL:https://www.skhb.cz
X-WR-CALDESC:Akce na Střelecký Klub Horní Beřkovice
REFRESH-INTERVAL;VALUE=DURATION:PT1H
X-Robots-Tag:noindex
X-PUBLISHED-TTL:PT1H
BEGIN:VTIMEZONE
TZID:Europe/Prague
BEGIN:DAYLIGHT
TZOFFSETFROM:+0100
TZOFFSETTO:+0200
TZNAME:CEST
DTSTART:20200329T010000
END:DAYLIGHT
BEGIN:STANDARD
TZOFFSETFROM:+0200
TZOFFSETTO:+0100
TZNAME:CET
DTSTART:20201025T010000
END:STANDARD
BEGIN:DAYLIGHT
TZOFFSETFROM:+0100
TZOFFSETTO:+0200
TZNAME:CEST
DTSTART:20210328T010000
END:DAYLIGHT
BEGIN:STANDARD
TZOFFSETFROM:+0200
TZOFFSETTO:+0100
TZNAME:CET
DTSTART:20211031T010000
END:STANDARD
BEGIN:DAYLIGHT
TZOFFSETFROM:+0100
TZOFFSETTO:+0200
TZNAME:CEST
DTSTART:20220327T010000
END:DAYLIGHT
BEGIN:STANDARD
TZOFFSETFROM:+0200
TZOFFSETTO:+0100
TZNAME:CET
DTSTART:20221030T010000
END:STANDARD
BEGIN:DAYLIGHT
TZOFFSETFROM:+0100
TZOFFSETTO:+0200
TZNAME:CEST
DTSTART:20230326T010000
END:DAYLIGHT
BEGIN:STANDARD
TZOFFSETFROM:+0200
TZOFFSETTO:+0100
TZNAME:CET
DTSTART:20231029T010000
END:STANDARD
END:VTIMEZONE
BEGIN:VEVENT
DTSTART;TZID=Europe/Prague:20211207T150000
DTEND;TZID=Europe/Prague:20211207T190000
DTSTAMP:20260423T140001
CREATED:20211128T152412Z
LAST-MODIFIED:20211128T152412Z
UID:4210-1638889200-1638903600@www.skhb.cz
SUMMARY:židovská obec
DESCRIPTION:
URL:https://www.skhb.cz/kalendar-akci/zidovska-obec-18/
END:VEVENT
BEGIN:VEVENT
DTSTART;TZID=Europe/Prague:20211214T150000
DTEND;TZID=Europe/Prague:20211214T190000
DTSTAMP:20260423T140001
CREATED:20211209T160751Z
LAST-MODIFIED:20211209T160751Z
UID:4245-1639494000-1639508400@www.skhb.cz
SUMMARY:rezervace David
DESCRIPTION:
URL:https://www.skhb.cz/kalendar-akci/rezervace-david-100/
END:VEVENT
BEGIN:VEVENT
DTSTART;TZID=Europe/Prague:20211221T150000
DTEND;TZID=Europe/Prague:20211221T190000
DTSTAMP:20260423T140001
CREATED:20211128T152506Z
LAST-MODIFIED:20211128T152506Z
UID:4212-1640098800-1640113200@www.skhb.cz
SUMMARY:židovská obec
DESCRIPTION:
URL:https://www.skhb.cz/kalendar-akci/zidovska-obec-19/
END:VEVENT
BEGIN:VEVENT
DTSTART;TZID=Europe/Prague:20220102T090000
DTEND;TZID=Europe/Prague:20220102T140000
DTSTAMP:20260423T140001
CREATED:20211227T202158Z
LAST-MODIFIED:20211227T202158Z
UID:4258-1641114000-1641132000@www.skhb.cz
SUMMARY:Rezervace Hajný
DESCRIPTION:
URL:https://www.skhb.cz/kalendar-akci/rezervace-hajny-5/
END:VEVENT
BEGIN:VEVENT
DTSTART;TZID=Europe/Prague:20220102T140000
DTEND;TZID=Europe/Prague:20220102T170000
DTSTAMP:20260423T140001
CREATED:20211229T195814Z
LAST-MODIFIED:20211229T195814Z
UID:4263-1641132000-1641142800@www.skhb.cz
SUMMARY:Rezervace Bejček
DESCRIPTION:
URL:https://www.skhb.cz/kalendar-akci/rezervace-bejcek-16/
END:VEVENT
BEGIN:VEVENT
DTSTART;TZID=Europe/Prague:20220106T150000
DTEND;TZID=Europe/Prague:20220106T190000
DTSTAMP:20260423T140001
CREATED:20211221T121635Z
LAST-MODIFIED:20211221T121635Z
UID:4252-1641481200-1641495600@www.skhb.cz
SUMMARY:židovská obec
DESCRIPTION:
URL:https://www.skhb.cz/kalendar-akci/zidovska-obec-20/
END:VEVENT
BEGIN:VEVENT
DTSTART;TZID=Europe/Prague:20220111T150000
DTEND;TZID=Europe/Prague:20220111T190000
DTSTAMP:20260423T140001
CREATED:20220109T115220Z
LAST-MODIFIED:20220109T115220Z
UID:4267-1641913200-1641927600@www.skhb.cz
SUMMARY:rezervace David
DESCRIPTION:
URL:https://www.skhb.cz/kalendar-akci/rezervace-david-106/
END:VEVENT
BEGIN:VEVENT
DTSTART;TZID=Europe/Prague:20220113T150000
DTEND;TZID=Europe/Prague:20220113T190000
DTSTAMP:20260423T140001
CREATED:20211221T121702Z
LAST-MODIFIED:20211221T121702Z
UID:4254-1642086000-1642100400@www.skhb.cz
SUMMARY:židovská obec
DESCRIPTION:
URL:https://www.skhb.cz/kalendar-akci/zidovska-obec-21/
END:VEVENT
BEGIN:VEVENT
DTSTART;TZID=Europe/Prague:20220116T090000
DTEND;TZID=Europe/Prague:20220116T120000
DTSTAMP:20260423T140001
CREATED:20220113T181412Z
LAST-MODIFIED:20220113T181412Z
UID:4270-1642323600-1642334400@www.skhb.cz
SUMMARY:Střelba
DESCRIPTION:
URL:https://www.skhb.cz/kalendar-akci/strelba/
CATEGORIES:Akce člena
END:VEVENT
BEGIN:VEVENT
DTSTART;TZID=Europe/Prague:20220116T090000
DTEND;TZID=Europe/Prague:20220116T120000
DTSTAMP:20260423T140001
CREATED:20220113T181928Z
LAST-MODIFIED:20220113T181928Z
UID:4273-1642323600-1642334400@www.skhb.cz
SUMMARY:rezervace Mataj V.
DESCRIPTION:
URL:https://www.skhb.cz/kalendar-akci/rezervace-mataj-v/
CATEGORIES:Akce člena
END:VEVENT
BEGIN:VEVENT
DTSTART;TZID=Europe/Prague:20220126T150000
DTEND;TZID=Europe/Prague:20220126T190000
DTSTAMP:20260423T140001
CREATED:20220124T053945Z
LAST-MODIFIED:20220124T053945Z
UID:4279-1643209200-1643223600@www.skhb.cz
SUMMARY:rezervace David
DESCRIPTION:
URL:https://www.skhb.cz/kalendar-akci/rezervace-david-109/
END:VEVENT
BEGIN:VEVENT
DTSTART;TZID=Europe/Prague:20220127T160000
DTEND;TZID=Europe/Prague:20220127T180000
DTSTAMP:20260423T140001
CREATED:20220113T201642Z
LAST-MODIFIED:20220113T201642Z
UID:4275-1643299200-1643306400@www.skhb.cz
SUMMARY:rezervace David
DESCRIPTION:
URL:https://www.skhb.cz/kalendar-akci/rezervace-david-107/
END:VEVENT
BEGIN:VEVENT
DTSTART;TZID=Europe/Prague:20220130T090000
DTEND;TZID=Europe/Prague:20220130T130000
DTSTAMP:20260423T140001
CREATED:20220113T201820Z
LAST-MODIFIED:20220113T201820Z
UID:4277-1643533200-1643547600@www.skhb.cz
SUMMARY:rezervace David
DESCRIPTION:
URL:https://www.skhb.cz/kalendar-akci/rezervace-david-108/
END:VEVENT
BEGIN:VEVENT
DTSTART;TZID=Europe/Prague:20220205T080000
DTEND;TZID=Europe/Prague:20220205T123000
DTSTAMP:20260423T140001
CREATED:20220131T124038Z
LAST-MODIFIED:20220131T124038Z
UID:4285-1644048000-1644064200@www.skhb.cz
SUMMARY:Rezervace Šmíd
DESCRIPTION:
URL:https://www.skhb.cz/kalendar-akci/rezervace-smid-8/
END:VEVENT
BEGIN:VEVENT
DTSTART;TZID=Europe/Prague:20220217T150000
DTEND;TZID=Europe/Prague:20220217T190000
DTSTAMP:20260423T140001
CREATED:20220127T193415Z
LAST-MODIFIED:20220127T193415Z
UID:4281-1645110000-1645124400@www.skhb.cz
SUMMARY:židovská obec
DESCRIPTION:
URL:https://www.skhb.cz/kalendar-akci/zidovska-obec-22/
END:VEVENT
BEGIN:VEVENT
DTSTART;TZID=Europe/Prague:20220218T153000
DTEND;TZID=Europe/Prague:20220218T200000
DTSTAMP:20260423T140001
CREATED:20220215T163944Z
LAST-MODIFIED:20220215T163944Z
UID:4287-1645198200-1645214400@www.skhb.cz
SUMMARY:rezervace David
DESCRIPTION:
URL:https://www.skhb.cz/kalendar-akci/rezervace-david-110/
END:VEVENT
BEGIN:VEVENT
DTSTART;TZID=Europe/Prague:20220222T130000
DTEND;TZID=Europe/Prague:20220222T163000
DTSTAMP:20260423T140001
CREATED:20220218T072144Z
LAST-MODIFIED:20220218T072144Z
UID:4291-1645534800-1645547400@www.skhb.cz
SUMMARY:Rezervace Bejček
DESCRIPTION:
URL:https://www.skhb.cz/kalendar-akci/rezervace-bejcek-17/
END:VEVENT
BEGIN:VEVENT
DTSTART;TZID=Europe/Prague:20220223T150000
DTEND;TZID=Europe/Prague:20220223T190000
DTSTAMP:20260423T140001
CREATED:20220216T222841Z
LAST-MODIFIED:20220216T222841Z
UID:4289-1645628400-1645642800@www.skhb.cz
SUMMARY:rezervace David
DESCRIPTION:
URL:https://www.skhb.cz/kalendar-akci/rezervace-david-111/
END:VEVENT
BEGIN:VEVENT
DTSTART;TZID=Europe/Prague:20220224T150000
DTEND;TZID=Europe/Prague:20220224T190000
DTSTAMP:20260423T140001
CREATED:20220127T193451Z
LAST-MODIFIED:20220127T193451Z
UID:4283-1645714800-1645729200@www.skhb.cz
SUMMARY:židovská obec
DESCRIPTION:
URL:https://www.skhb.cz/kalendar-akci/zidovska-obec-23/
END:VEVENT
BEGIN:VEVENT
DTSTART;TZID=Europe/Prague:20220227T083000
DTEND;TZID=Europe/Prague:20220227T143000
DTSTAMP:20260423T140001
CREATED:20220223T141528Z
LAST-MODIFIED:20220223T141528Z
UID:4293-1645950600-1645972200@www.skhb.cz
SUMMARY:rezervace Hajný
DESCRIPTION:
URL:https://www.skhb.cz/kalendar-akci/rezervace-hajny-6/
END:VEVENT
BEGIN:VEVENT
DTSTART;TZID=Europe/Prague:20220303T150000
DTEND;TZID=Europe/Prague:20220303T190000
DTSTAMP:20260423T140001
CREATED:20220303T054802Z
LAST-MODIFIED:20220303T054802Z
UID:4302-1646319600-1646334000@www.skhb.cz
SUMMARY:rezervace David
DESCRIPTION:
URL:https://www.skhb.cz/kalendar-akci/rezervace-david-113/
END:VEVENT
BEGIN:VEVENT
DTSTART;TZID=Europe/Prague:20220305T080000
DTEND;TZID=Europe/Prague:20220305T130000
DTSTAMP:20260423T140001
CREATED:20220228T193125Z
LAST-MODIFIED:20220228T193125Z
UID:4300-1646467200-1646485200@www.skhb.cz
SUMMARY:Rezervace Šmíd
DESCRIPTION:
URL:https://www.skhb.cz/kalendar-akci/rezervace-smid-9/
END:VEVENT
BEGIN:VEVENT
DTSTART;TZID=Europe/Prague:20220306T100000
DTEND;TZID=Europe/Prague:20220306T140000
DTSTAMP:20260423T140001
CREATED:20220227T173638Z
LAST-MODIFIED:20220227T173638Z
UID:4298-1646560800-1646575200@www.skhb.cz
SUMMARY:rezervace David
DESCRIPTION:
URL:https://www.skhb.cz/kalendar-akci/rezervace-david-112/
END:VEVENT
BEGIN:VEVENT
DTSTART;TZID=Europe/Prague:20220312T123000
DTEND;TZID=Europe/Prague:20220312T170000
DTSTAMP:20260423T140001
CREATED:20220227T090411Z
LAST-MODIFIED:20220227T090411Z
UID:4296-1647088200-1647104400@www.skhb.cz
SUMMARY:Rezervace Bejček
DESCRIPTION:
URL:https://www.skhb.cz/kalendar-akci/rezervace-bejcek-18/
END:VEVENT
BEGIN:VEVENT
DTSTART;TZID=Europe/Prague:20220320T100000
DTEND;TZID=Europe/Prague:20220320T140000
DTSTAMP:20260423T140001
CREATED:20220309T084646Z
LAST-MODIFIED:20220309T084646Z
UID:4311-1647770400-1647784800@www.skhb.cz
SUMMARY:Rezerva Buzák/Vidím
DESCRIPTION:
URL:https://www.skhb.cz/kalendar-akci/rezerva-buzak-vidim/
END:VEVENT
BEGIN:VEVENT
DTSTART;TZID=Europe/Prague:20220323T150000
DTEND;TZID=Europe/Prague:20220323T190000
DTSTAMP:20260423T140001
CREATED:20220303T055054Z
LAST-MODIFIED:20220303T055054Z
UID:4308-1648047600-1648062000@www.skhb.cz
SUMMARY:rezervace David
DESCRIPTION:
URL:https://www.skhb.cz/kalendar-akci/rezervace-david-114/
END:VEVENT
BEGIN:VEVENT
DTSTART;TZID=Europe/Prague:20220324T150000
DTEND;TZID=Europe/Prague:20220324T190000
DTSTAMP:20260423T140001
CREATED:20220303T054855Z
LAST-MODIFIED:20220303T054855Z
UID:4304-1648134000-1648148400@www.skhb.cz
SUMMARY:židovská obec
DESCRIPTION:
URL:https://www.skhb.cz/kalendar-akci/zidovska-obec-24/
END:VEVENT
BEGIN:VEVENT
DTSTART;TZID=Europe/Prague:20220326T140000
DTEND;TZID=Europe/Prague:20220326T160000
DTSTAMP:20260423T140001
CREATED:20220310T163240Z
LAST-MODIFIED:20220310T163240Z
UID:4315-1648303200-1648310400@www.skhb.cz
SUMMARY:rezervace David
DESCRIPTION:
URL:https://www.skhb.cz/kalendar-akci/rezervace-david-115/
END:VEVENT
BEGIN:VEVENT
DTSTART;TZID=Europe/Prague:20220329T160000
DTEND;TZID=Europe/Prague:20220329T190000
DTSTAMP:20260423T140001
CREATED:20220317T165417Z
LAST-MODIFIED:20220329T045550Z
UID:4320-1648569600-1648580400@www.skhb.cz
SUMMARY:rezervace David
DESCRIPTION:
URL:https://www.skhb.cz/kalendar-akci/rezervace-david-117/
END:VEVENT
BEGIN:VEVENT
DTSTART;TZID=Europe/Prague:20220330T150000
DTEND;TZID=Europe/Prague:20220330T190000
DTSTAMP:20260423T140001
CREATED:20220317T165452Z
LAST-MODIFIED:20220317T165452Z
UID:4322-1648652400-1648666800@www.skhb.cz
SUMMARY:rezervace David
DESCRIPTION:
URL:https://www.skhb.cz/kalendar-akci/rezervace-david-118/
END:VEVENT
END:VCALENDAR