BEGIN:VCALENDAR
VERSION:2.0
PRODID:-//Střelecký Klub Horní Beřkovice - ECPv6.15.17.1//NONSGML v1.0//EN
CALSCALE:GREGORIAN
METHOD:PUBLISH
X-WR-CALNAME:Střelecký Klub Horní Beřkovice
X-ORIGINAL-URL:https://www.skhb.cz
X-WR-CALDESC:Akce na Střelecký Klub Horní Beřkovice
REFRESH-INTERVAL;VALUE=DURATION:PT1H
X-Robots-Tag:noindex
X-PUBLISHED-TTL:PT1H
BEGIN:VTIMEZONE
TZID:Europe/Prague
BEGIN:DAYLIGHT
TZOFFSETFROM:+0100
TZOFFSETTO:+0200
TZNAME:CEST
DTSTART:20190331T010000
END:DAYLIGHT
BEGIN:STANDARD
TZOFFSETFROM:+0200
TZOFFSETTO:+0100
TZNAME:CET
DTSTART:20191027T010000
END:STANDARD
BEGIN:DAYLIGHT
TZOFFSETFROM:+0100
TZOFFSETTO:+0200
TZNAME:CEST
DTSTART:20200329T010000
END:DAYLIGHT
BEGIN:STANDARD
TZOFFSETFROM:+0200
TZOFFSETTO:+0100
TZNAME:CET
DTSTART:20201025T010000
END:STANDARD
BEGIN:DAYLIGHT
TZOFFSETFROM:+0100
TZOFFSETTO:+0200
TZNAME:CEST
DTSTART:20210328T010000
END:DAYLIGHT
BEGIN:STANDARD
TZOFFSETFROM:+0200
TZOFFSETTO:+0100
TZNAME:CET
DTSTART:20211031T010000
END:STANDARD
END:VTIMEZONE
BEGIN:VEVENT
DTSTART;TZID=Europe/Prague:20201128T120000
DTEND;TZID=Europe/Prague:20201128T170000
DTSTAMP:20260424T161635
CREATED:20201113T130154Z
LAST-MODIFIED:20201113T130154Z
UID:3709-1606564800-1606582800@www.skhb.cz
SUMMARY:Rezervace Bejček
DESCRIPTION:
URL:https://www.skhb.cz/kalendar-akci/rezervace-bejcek-5/
END:VEVENT
BEGIN:VEVENT
DTSTART;TZID=Europe/Prague:20201128T090000
DTEND;TZID=Europe/Prague:20201128T120000
DTSTAMP:20260424T161635
CREATED:20201122T144841Z
LAST-MODIFIED:20201122T144841Z
UID:3713-1606554000-1606564800@www.skhb.cz
SUMMARY:Rezervace Šmíd
DESCRIPTION:
URL:https://www.skhb.cz/kalendar-akci/rezervace-smid-3/
END:VEVENT
BEGIN:VEVENT
DTSTART;TZID=Europe/Prague:20201126T150000
DTEND;TZID=Europe/Prague:20201126T190000
DTSTAMP:20260424T161635
CREATED:20201023T171920Z
LAST-MODIFIED:20201023T171920Z
UID:3672-1606402800-1606417200@www.skhb.cz
SUMMARY:rezervace židovská obec
DESCRIPTION:
URL:https://www.skhb.cz/kalendar-akci/rezervace-zidovska-obec-2/
END:VEVENT
BEGIN:VEVENT
DTSTART;TZID=Europe/Prague:20201119T150000
DTEND;TZID=Europe/Prague:20201119T190000
DTSTAMP:20260424T161635
CREATED:20201023T171835Z
LAST-MODIFIED:20201023T171835Z
UID:3670-1605798000-1605812400@www.skhb.cz
SUMMARY:rezervace židovská obec
DESCRIPTION:
URL:https://www.skhb.cz/kalendar-akci/rezervace-zidovska-obec/
END:VEVENT
BEGIN:VEVENT
DTSTART;TZID=Europe/Prague:20201118T130000
DTEND;TZID=Europe/Prague:20201118T180000
DTSTAMP:20260424T161635
CREATED:20201104T201535Z
LAST-MODIFIED:20201104T201535Z
UID:3683-1605704400-1605722400@www.skhb.cz
SUMMARY:rezervace David
DESCRIPTION:
URL:https://www.skhb.cz/kalendar-akci/rezervace-david-55/
END:VEVENT
BEGIN:VEVENT
DTSTART;TZID=Europe/Prague:20201117T130000
DTEND;TZID=Europe/Prague:20201117T180000
DTSTAMP:20260424T161635
CREATED:20201104T201624Z
LAST-MODIFIED:20201104T201930Z
UID:3685-1605618000-1605636000@www.skhb.cz
SUMMARY:rezervace David
DESCRIPTION:
URL:https://www.skhb.cz/kalendar-akci/rezervace-david-56/
END:VEVENT
BEGIN:VEVENT
DTSTART;TZID=Europe/Prague:20201115T100000
DTEND;TZID=Europe/Prague:20201115T150000
DTSTAMP:20260424T161635
CREATED:20201104T201812Z
LAST-MODIFIED:20201104T201812Z
UID:3687-1605434400-1605452400@www.skhb.cz
SUMMARY:rezervace David
DESCRIPTION:
URL:https://www.skhb.cz/kalendar-akci/rezervace-david-57/
END:VEVENT
BEGIN:VEVENT
DTSTART;TZID=Europe/Prague:20201114T130000
DTEND;TZID=Europe/Prague:20201114T170000
DTSTAMP:20260424T161635
CREATED:20201031T154726Z
LAST-MODIFIED:20201031T154726Z
UID:3681-1605358800-1605373200@www.skhb.cz
SUMMARY:Rezervace Bejček
DESCRIPTION:
URL:https://www.skhb.cz/kalendar-akci/rezervace-bejcek-4/
END:VEVENT
BEGIN:VEVENT
DTSTART;TZID=Europe/Prague:20201114T090000
DTEND;TZID=Europe/Prague:20201114T120000
DTSTAMP:20260424T161635
CREATED:20201108T081617Z
LAST-MODIFIED:20201108T081617Z
UID:3707-1605344400-1605355200@www.skhb.cz
SUMMARY:Rezervace Šmíd
DESCRIPTION:
URL:https://www.skhb.cz/kalendar-akci/rezervace-smid-2/
END:VEVENT
BEGIN:VEVENT
DTSTART;TZID=Europe/Prague:20201113T090000
DTEND;TZID=Europe/Prague:20201113T120000
DTSTAMP:20260424T161635
CREATED:20201104T203439Z
LAST-MODIFIED:20201104T203439Z
UID:3701-1605258000-1605268800@www.skhb.cz
SUMMARY:PČR
DESCRIPTION:
URL:https://www.skhb.cz/kalendar-akci/pcr-13/
END:VEVENT
BEGIN:VEVENT
DTSTART;TZID=Europe/Prague:20201112T130000
DTEND;TZID=Europe/Prague:20201112T170000
DTSTAMP:20260424T161635
CREATED:20201107T085556Z
LAST-MODIFIED:20201107T085556Z
UID:3704-1605186000-1605200400@www.skhb.cz
SUMMARY:rezervace David
DESCRIPTION:
URL:https://www.skhb.cz/kalendar-akci/rezervace-david-58/
END:VEVENT
BEGIN:VEVENT
DTSTART;TZID=Europe/Prague:20201112T090000
DTEND;TZID=Europe/Prague:20201112T120000
DTSTAMP:20260424T161635
CREATED:20201104T203419Z
LAST-MODIFIED:20201104T203419Z
UID:3699-1605171600-1605182400@www.skhb.cz
SUMMARY:PČR
DESCRIPTION:
URL:https://www.skhb.cz/kalendar-akci/pcr-12/
END:VEVENT
BEGIN:VEVENT
DTSTART;TZID=Europe/Prague:20201111T090000
DTEND;TZID=Europe/Prague:20201111T120000
DTSTAMP:20260424T161635
CREATED:20201104T203352Z
LAST-MODIFIED:20201104T203352Z
UID:3697-1605085200-1605096000@www.skhb.cz
SUMMARY:PČR
DESCRIPTION:
URL:https://www.skhb.cz/kalendar-akci/pcr-11/
END:VEVENT
BEGIN:VEVENT
DTSTART;TZID=Europe/Prague:20201110T090000
DTEND;TZID=Europe/Prague:20201110T120000
DTSTAMP:20260424T161635
CREATED:20201104T203326Z
LAST-MODIFIED:20201104T203326Z
UID:3695-1604998800-1605009600@www.skhb.cz
SUMMARY:PČR
DESCRIPTION:
URL:https://www.skhb.cz/kalendar-akci/pcr-10/
END:VEVENT
BEGIN:VEVENT
DTSTART;TZID=Europe/Prague:20201109T090000
DTEND;TZID=Europe/Prague:20201109T120000
DTSTAMP:20260424T161635
CREATED:20201104T203259Z
LAST-MODIFIED:20201104T203259Z
UID:3693-1604912400-1604923200@www.skhb.cz
SUMMARY:PČR
DESCRIPTION:
URL:https://www.skhb.cz/kalendar-akci/pcr-9/
END:VEVENT
BEGIN:VEVENT
DTSTART;TZID=Europe/Prague:20201106T090000
DTEND;TZID=Europe/Prague:20201106T120000
DTSTAMP:20260424T161635
CREATED:20201104T203207Z
LAST-MODIFIED:20201104T203207Z
UID:3691-1604653200-1604664000@www.skhb.cz
SUMMARY:PČR
DESCRIPTION:
URL:https://www.skhb.cz/kalendar-akci/pcr-8/
END:VEVENT
BEGIN:VEVENT
DTSTART;TZID=Europe/Prague:20201105T090000
DTEND;TZID=Europe/Prague:20201105T120000
DTSTAMP:20260424T161635
CREATED:20201104T203142Z
LAST-MODIFIED:20201104T203142Z
UID:3689-1604566800-1604577600@www.skhb.cz
SUMMARY:PČR
DESCRIPTION:
URL:https://www.skhb.cz/kalendar-akci/pcr-7/
END:VEVENT
BEGIN:VEVENT
DTSTART;TZID=Europe/Prague:20201104T130000
DTEND;TZID=Europe/Prague:20201104T180000
DTSTAMP:20260424T161635
CREATED:20201023T171958Z
LAST-MODIFIED:20201023T171958Z
UID:3674-1604494800-1604512800@www.skhb.cz
SUMMARY:rezervace David
DESCRIPTION:
URL:https://www.skhb.cz/kalendar-akci/rezervace-david-54/
END:VEVENT
BEGIN:VEVENT
DTSTART;TZID=Europe/Prague:20201031T130000
DTEND;TZID=Europe/Prague:20201031T170000
DTSTAMP:20260424T161635
CREATED:20201020T200829Z
LAST-MODIFIED:20201021T061300Z
UID:3666-1604149200-1604163600@www.skhb.cz
SUMMARY:Rezervace Bejček
DESCRIPTION:
URL:https://www.skhb.cz/kalendar-akci/rezervace-bejcek-3/
END:VEVENT
BEGIN:VEVENT
DTSTART;TZID=Europe/Prague:20201031T090000
DTEND;TZID=Europe/Prague:20201031T130000
DTSTAMP:20260424T161635
CREATED:20201027T143819Z
LAST-MODIFIED:20201027T143819Z
UID:3678-1604134800-1604149200@www.skhb.cz
SUMMARY:Šmíd - 9 - 13hod
DESCRIPTION:
URL:https://www.skhb.cz/kalendar-akci/smid-9-13hod/
END:VEVENT
BEGIN:VEVENT
DTSTART;TZID=Europe/Prague:20201029T090000
DTEND;TZID=Europe/Prague:20201029T120000
DTSTAMP:20260424T161635
CREATED:20201019T191426Z
LAST-MODIFIED:20201019T191426Z
UID:3663-1603962000-1603972800@www.skhb.cz
SUMMARY:PČR
DESCRIPTION:
URL:https://www.skhb.cz/kalendar-akci/pcr-6/
END:VEVENT
BEGIN:VEVENT
DTSTART;TZID=Europe/Prague:20201028T080000
DTEND;TZID=Europe/Prague:20201028T130000
DTSTAMP:20260424T161635
CREATED:20201025T131454Z
LAST-MODIFIED:20201025T131454Z
UID:3676-1603872000-1603890000@www.skhb.cz
SUMMARY:Hajný
DESCRIPTION:
URL:https://www.skhb.cz/kalendar-akci/hajny-4/
END:VEVENT
BEGIN:VEVENT
DTSTART;TZID=Europe/Prague:20201027T090000
DTEND;TZID=Europe/Prague:20201027T120000
DTSTAMP:20260424T161635
CREATED:20201019T191406Z
LAST-MODIFIED:20201019T191406Z
UID:3661-1603789200-1603800000@www.skhb.cz
SUMMARY:PČR
DESCRIPTION:
URL:https://www.skhb.cz/kalendar-akci/pcr-5/
END:VEVENT
BEGIN:VEVENT
DTSTART;TZID=Europe/Prague:20201026T090000
DTEND;TZID=Europe/Prague:20201026T120000
DTSTAMP:20260424T161635
CREATED:20201019T191344Z
LAST-MODIFIED:20201019T191344Z
UID:3659-1603702800-1603713600@www.skhb.cz
SUMMARY:PČR
DESCRIPTION:
URL:https://www.skhb.cz/kalendar-akci/pcr-4/
END:VEVENT
BEGIN:VEVENT
DTSTART;TZID=Europe/Prague:20201025T103000
DTEND;TZID=Europe/Prague:20201025T140000
DTSTAMP:20260424T161635
CREATED:20201022T070338Z
LAST-MODIFIED:20201022T070338Z
UID:3668-1603621800-1603634400@www.skhb.cz
SUMMARY:Rezervace P.Buzák + 4
DESCRIPTION:
URL:https://www.skhb.cz/kalendar-akci/rezervace-p-buzak-4/
END:VEVENT
BEGIN:VEVENT
DTSTART;TZID=Europe/Prague:20201024T100000
DTEND;TZID=Europe/Prague:20201024T140000
DTSTAMP:20260424T161635
CREATED:20200905T225242Z
LAST-MODIFIED:20200905T225242Z
UID:3601-1603533600-1603548000@www.skhb.cz
SUMMARY:LOMIS
DESCRIPTION:Akce firmy LOMIS
URL:https://www.skhb.cz/kalendar-akci/lomis-12/
CATEGORIES:Akce veřejnosti
END:VEVENT
BEGIN:VEVENT
DTSTART;TZID=Europe/Prague:20201023T090000
DTEND;TZID=Europe/Prague:20201023T120000
DTSTAMP:20260424T161635
CREATED:20201019T191314Z
LAST-MODIFIED:20201019T191314Z
UID:3657-1603443600-1603454400@www.skhb.cz
SUMMARY:PČR
DESCRIPTION:
URL:https://www.skhb.cz/kalendar-akci/pcr-3/
END:VEVENT
BEGIN:VEVENT
DTSTART;TZID=Europe/Prague:20201022T140000
DTEND;TZID=Europe/Prague:20201022T160000
DTSTAMP:20260424T161635
CREATED:20201009T003926Z
LAST-MODIFIED:20201009T003926Z
UID:3642-1603375200-1603382400@www.skhb.cz
SUMMARY:Zamrzla
DESCRIPTION:
URL:https://www.skhb.cz/kalendar-akci/zamrzla-2/
END:VEVENT
BEGIN:VEVENT
DTSTART;TZID=Europe/Prague:20201022T090000
DTEND;TZID=Europe/Prague:20201022T120000
DTSTAMP:20260424T161635
CREATED:20201019T191242Z
LAST-MODIFIED:20201019T191242Z
UID:3655-1603357200-1603368000@www.skhb.cz
SUMMARY:PČR
DESCRIPTION:
URL:https://www.skhb.cz/kalendar-akci/pcr-2/
END:VEVENT
BEGIN:VEVENT
DTSTART;TZID=Europe/Prague:20201021T150000
DTEND;TZID=Europe/Prague:20201021T190000
DTSTAMP:20260424T161635
CREATED:20201010T075618Z
LAST-MODIFIED:20201010T075618Z
UID:3646-1603292400-1603306800@www.skhb.cz
SUMMARY:rezervace David
DESCRIPTION:
URL:https://www.skhb.cz/kalendar-akci/rezervace-david-52/
END:VEVENT
END:VCALENDAR