BEGIN:VCALENDAR
VERSION:2.0
PRODID:-//Střelecký Klub Horní Beřkovice - ECPv6.15.17.1//NONSGML v1.0//EN
CALSCALE:GREGORIAN
METHOD:PUBLISH
X-ORIGINAL-URL:https://www.skhb.cz
X-WR-CALDESC:Akce na Střelecký Klub Horní Beřkovice
REFRESH-INTERVAL;VALUE=DURATION:PT1H
X-Robots-Tag:noindex
X-PUBLISHED-TTL:PT1H
BEGIN:VTIMEZONE
TZID:Europe/Prague
BEGIN:DAYLIGHT
TZOFFSETFROM:+0100
TZOFFSETTO:+0200
TZNAME:CEST
DTSTART:20230326T010000
END:DAYLIGHT
BEGIN:STANDARD
TZOFFSETFROM:+0200
TZOFFSETTO:+0100
TZNAME:CET
DTSTART:20231029T010000
END:STANDARD
BEGIN:DAYLIGHT
TZOFFSETFROM:+0100
TZOFFSETTO:+0200
TZNAME:CEST
DTSTART:20240331T010000
END:DAYLIGHT
BEGIN:STANDARD
TZOFFSETFROM:+0200
TZOFFSETTO:+0100
TZNAME:CET
DTSTART:20241027T010000
END:STANDARD
BEGIN:DAYLIGHT
TZOFFSETFROM:+0100
TZOFFSETTO:+0200
TZNAME:CEST
DTSTART:20250330T010000
END:DAYLIGHT
BEGIN:STANDARD
TZOFFSETFROM:+0200
TZOFFSETTO:+0100
TZNAME:CET
DTSTART:20251026T010000
END:STANDARD
END:VTIMEZONE
BEGIN:VEVENT
DTSTART;TZID=Europe/Prague:20240218T130000
DTEND;TZID=Europe/Prague:20240218T170000
DTSTAMP:20260421T104631
CREATED:20240214T183254Z
LAST-MODIFIED:20240214T183254Z
UID:4949-1708261200-1708275600@www.skhb.cz
SUMMARY:Rezervace Bělaška
DESCRIPTION:
URL:https://www.skhb.cz/kalendar-akci/rezervace-belaska-10/
CATEGORIES:Akce člena
END:VEVENT
BEGIN:VEVENT
DTSTART;TZID=Europe/Prague:20240224T100000
DTEND;TZID=Europe/Prague:20240224T160000
DTSTAMP:20260421T104631
CREATED:20240211T092936Z
LAST-MODIFIED:20240211T092936Z
UID:4939-1708768800-1708790400@www.skhb.cz
SUMMARY:
DESCRIPTION:
URL:https://www.skhb.cz/kalendar-akci/4939/
LOCATION:Střelnice – Horní Beřkovice
CATEGORIES:Akce člena
END:VEVENT
END:VCALENDAR