BEGIN:VCALENDAR
VERSION:2.0
PRODID:-//Střelecký Klub Horní Beřkovice - ECPv6.15.17.1//NONSGML v1.0//EN
CALSCALE:GREGORIAN
METHOD:PUBLISH
X-WR-CALNAME:Střelecký Klub Horní Beřkovice
X-ORIGINAL-URL:https://www.skhb.cz
X-WR-CALDESC:Akce na Střelecký Klub Horní Beřkovice
REFRESH-INTERVAL;VALUE=DURATION:PT1H
X-Robots-Tag:noindex
X-PUBLISHED-TTL:PT1H
BEGIN:VTIMEZONE
TZID:Europe/Prague
BEGIN:DAYLIGHT
TZOFFSETFROM:+0100
TZOFFSETTO:+0200
TZNAME:CEST
DTSTART:20220327T010000
END:DAYLIGHT
BEGIN:STANDARD
TZOFFSETFROM:+0200
TZOFFSETTO:+0100
TZNAME:CET
DTSTART:20221030T010000
END:STANDARD
BEGIN:DAYLIGHT
TZOFFSETFROM:+0100
TZOFFSETTO:+0200
TZNAME:CEST
DTSTART:20230326T010000
END:DAYLIGHT
BEGIN:STANDARD
TZOFFSETFROM:+0200
TZOFFSETTO:+0100
TZNAME:CET
DTSTART:20231029T010000
END:STANDARD
BEGIN:DAYLIGHT
TZOFFSETFROM:+0100
TZOFFSETTO:+0200
TZNAME:CEST
DTSTART:20240331T010000
END:DAYLIGHT
BEGIN:STANDARD
TZOFFSETFROM:+0200
TZOFFSETTO:+0100
TZNAME:CET
DTSTART:20241027T010000
END:STANDARD
END:VTIMEZONE
BEGIN:VEVENT
DTSTART;TZID=Europe/Prague:20231218T150000
DTEND;TZID=Europe/Prague:20231218T190000
DTSTAMP:20260421T175731
CREATED:20231216T183141Z
LAST-MODIFIED:20231216T183141Z
UID:4886-1702911600-1702926000@www.skhb.cz
SUMMARY:zidovska obec
DESCRIPTION:
URL:https://www.skhb.cz/kalendar-akci/zidovska-obec-69/
END:VEVENT
BEGIN:VEVENT
DTSTART;TZID=Europe/Prague:20231219T150000
DTEND;TZID=Europe/Prague:20231219T190000
DTSTAMP:20260421T175731
CREATED:20231205T103223Z
LAST-MODIFIED:20231205T103223Z
UID:4874-1702998000-1703012400@www.skhb.cz
SUMMARY:zidovska obec
DESCRIPTION:
URL:https://www.skhb.cz/kalendar-akci/zidovska-obec-66/
END:VEVENT
BEGIN:VEVENT
DTSTART;TZID=Europe/Prague:20231221T130000
DTEND;TZID=Europe/Prague:20231221T170000
DTSTAMP:20260421T175731
CREATED:20231205T111723Z
LAST-MODIFIED:20231211T181850Z
UID:4880-1703163600-1703178000@www.skhb.cz
SUMMARY:Rezervace Bejček
DESCRIPTION:
URL:https://www.skhb.cz/kalendar-akci/rezervace-bejcek-23/
END:VEVENT
BEGIN:VEVENT
DTSTART;TZID=Europe/Prague:20231221T150000
DTEND;TZID=Europe/Prague:20231221T190000
DTSTAMP:20260421T175731
CREATED:20231214T085542Z
LAST-MODIFIED:20231214T085542Z
UID:4884-1703170800-1703185200@www.skhb.cz
SUMMARY:rezervace David
DESCRIPTION:
URL:https://www.skhb.cz/kalendar-akci/rezervace-david-187/
END:VEVENT
BEGIN:VEVENT
DTSTART;TZID=Europe/Prague:20231223T090000
DTEND;TZID=Europe/Prague:20231223T130000
DTSTAMP:20260421T175731
CREATED:20231205T190050Z
LAST-MODIFIED:20231205T190050Z
UID:4882-1703322000-1703336400@www.skhb.cz
SUMMARY:Láďa rezervace
DESCRIPTION:
URL:https://www.skhb.cz/kalendar-akci/lada-rezervace-2/
END:VEVENT
BEGIN:VEVENT
DTSTART;TZID=Europe/Prague:20231227T150000
DTEND;TZID=Europe/Prague:20231227T190000
DTSTAMP:20260421T175731
CREATED:20231205T103321Z
LAST-MODIFIED:20231205T103321Z
UID:4876-1703689200-1703703600@www.skhb.cz
SUMMARY:zidovska obec
DESCRIPTION:
URL:https://www.skhb.cz/kalendar-akci/zidovska-obec-67/
END:VEVENT
BEGIN:VEVENT
DTSTART;TZID=Europe/Prague:20231228T080000
DTEND;TZID=Europe/Prague:20231228T190000
DTSTAMP:20260421T175731
CREATED:20231205T103358Z
LAST-MODIFIED:20231205T103358Z
UID:4878-1703750400-1703790000@www.skhb.cz
SUMMARY:zidovska obec
DESCRIPTION:
URL:https://www.skhb.cz/kalendar-akci/zidovska-obec-68/
END:VEVENT
BEGIN:VEVENT
DTSTART;TZID=Europe/Prague:20231230T140000
DTEND;TZID=Europe/Prague:20231230T170000
DTSTAMP:20260421T175731
CREATED:20231221T190941Z
LAST-MODIFIED:20231221T190941Z
UID:4892-1703944800-1703955600@www.skhb.cz
SUMMARY:rezervace David
DESCRIPTION:
URL:https://www.skhb.cz/kalendar-akci/rezervace-david-188/
END:VEVENT
BEGIN:VEVENT
DTSTART;TZID=Europe/Prague:20231231T100000
DTEND;TZID=Europe/Prague:20231231T150000
DTSTAMP:20260421T175731
CREATED:20231221T080645Z
LAST-MODIFIED:20231221T080645Z
UID:4890-1704016800-1704034800@www.skhb.cz
SUMMARY:Rezervace Bělaška
DESCRIPTION:
URL:https://www.skhb.cz/kalendar-akci/rezervace-belaska-9/
END:VEVENT
END:VCALENDAR