BEGIN:VCALENDAR
VERSION:2.0
PRODID:-//Střelecký Klub Horní Beřkovice - ECPv6.15.17.1//NONSGML v1.0//EN
CALSCALE:GREGORIAN
METHOD:PUBLISH
X-WR-CALNAME:Střelecký Klub Horní Beřkovice
X-ORIGINAL-URL:https://www.skhb.cz
X-WR-CALDESC:Akce na Střelecký Klub Horní Beřkovice
REFRESH-INTERVAL;VALUE=DURATION:PT1H
X-Robots-Tag:noindex
X-PUBLISHED-TTL:PT1H
BEGIN:VTIMEZONE
TZID:Europe/Prague
BEGIN:DAYLIGHT
TZOFFSETFROM:+0100
TZOFFSETTO:+0200
TZNAME:CEST
DTSTART:20220327T010000
END:DAYLIGHT
BEGIN:STANDARD
TZOFFSETFROM:+0200
TZOFFSETTO:+0100
TZNAME:CET
DTSTART:20221030T010000
END:STANDARD
BEGIN:DAYLIGHT
TZOFFSETFROM:+0100
TZOFFSETTO:+0200
TZNAME:CEST
DTSTART:20230326T010000
END:DAYLIGHT
BEGIN:STANDARD
TZOFFSETFROM:+0200
TZOFFSETTO:+0100
TZNAME:CET
DTSTART:20231029T010000
END:STANDARD
BEGIN:DAYLIGHT
TZOFFSETFROM:+0100
TZOFFSETTO:+0200
TZNAME:CEST
DTSTART:20240331T010000
END:DAYLIGHT
BEGIN:STANDARD
TZOFFSETFROM:+0200
TZOFFSETTO:+0100
TZNAME:CET
DTSTART:20241027T010000
END:STANDARD
END:VTIMEZONE
BEGIN:VEVENT
DTSTART;TZID=Europe/Prague:20230509T150000
DTEND;TZID=Europe/Prague:20230509T190000
DTSTAMP:20260422T061407
CREATED:20230427T045606Z
LAST-MODIFIED:20230427T045606Z
UID:4654-1683644400-1683658800@www.skhb.cz
SUMMARY:zidovska obec
DESCRIPTION:
URL:https://www.skhb.cz/kalendar-akci/zidovska-obec-58/
END:VEVENT
BEGIN:VEVENT
DTSTART;TZID=Europe/Prague:20230510T150000
DTEND;TZID=Europe/Prague:20230510T190000
DTSTAMP:20260422T061407
CREATED:20230427T205721Z
LAST-MODIFIED:20230427T205721Z
UID:4659-1683730800-1683745200@www.skhb.cz
SUMMARY:zidovska obec
DESCRIPTION:
URL:https://www.skhb.cz/kalendar-akci/zidovska-obec-48/
END:VEVENT
BEGIN:VEVENT
DTSTART;TZID=Europe/Prague:20230511T150000
DTEND;TZID=Europe/Prague:20230511T190000
DTSTAMP:20260422T061407
CREATED:20230427T045640Z
LAST-MODIFIED:20230427T045707Z
UID:4656-1683817200-1683831600@www.skhb.cz
SUMMARY:zidovska obec
DESCRIPTION:
URL:https://www.skhb.cz/kalendar-akci/zidivska-obec/
END:VEVENT
BEGIN:VEVENT
DTSTART;TZID=Europe/Prague:20230513T100000
DTEND;TZID=Europe/Prague:20230513T120000
DTSTAMP:20260422T061407
CREATED:20230510T183746Z
LAST-MODIFIED:20230510T183746Z
UID:4692-1683972000-1683979200@www.skhb.cz
SUMMARY:rezervace Láďa
DESCRIPTION:
URL:https://www.skhb.cz/kalendar-akci/rezervace-lada-3/
END:VEVENT
BEGIN:VEVENT
DTSTART;TZID=Europe/Prague:20230517T150000
DTEND;TZID=Europe/Prague:20230517T190000
DTSTAMP:20260422T061407
CREATED:20230501T073455Z
LAST-MODIFIED:20230501T073455Z
UID:4663-1684335600-1684350000@www.skhb.cz
SUMMARY:rezervace David
DESCRIPTION:
URL:https://www.skhb.cz/kalendar-akci/rezervace-david-166/
END:VEVENT
BEGIN:VEVENT
DTSTART;TZID=Europe/Prague:20230520T090000
DTEND;TZID=Europe/Prague:20230520T133000
DTSTAMP:20260422T061407
CREATED:20230505T145706Z
LAST-MODIFIED:20230505T145706Z
UID:4686-1684573200-1684589400@www.skhb.cz
SUMMARY:Rezervace Láďa
DESCRIPTION:
URL:https://www.skhb.cz/kalendar-akci/rezervace-lada/
LOCATION:Střelnice – Horní Beřkovice
END:VEVENT
BEGIN:VEVENT
DTSTART;TZID=Europe/Prague:20230521T120000
DTEND;TZID=Europe/Prague:20230521T160000
DTSTAMP:20260422T061407
CREATED:20230501T073836Z
LAST-MODIFIED:20230519T192209Z
UID:4670-1684670400-1684684800@www.skhb.cz
SUMMARY:rezervace David
DESCRIPTION:
URL:https://www.skhb.cz/kalendar-akci/rezervace-david-169/
END:VEVENT
BEGIN:VEVENT
DTSTART;TZID=Europe/Prague:20230525T150000
DTEND;TZID=Europe/Prague:20230525T190000
DTSTAMP:20260422T061407
CREATED:20230505T180156Z
LAST-MODIFIED:20230505T180156Z
UID:4690-1685026800-1685041200@www.skhb.cz
SUMMARY:zidovska obec
DESCRIPTION:
URL:https://www.skhb.cz/kalendar-akci/zidovska-obec-59/
END:VEVENT
BEGIN:VEVENT
DTSTART;TZID=Europe/Prague:20230527T080000
DTEND;TZID=Europe/Prague:20230527T120000
DTSTAMP:20260422T061407
CREATED:20230429T095645Z
LAST-MODIFIED:20230429T095645Z
UID:4661-1685174400-1685188800@www.skhb.cz
SUMMARY:Rezervace Šmíd
DESCRIPTION:
URL:https://www.skhb.cz/kalendar-akci/rezervace-smid-12/
END:VEVENT
BEGIN:VEVENT
DTSTART;TZID=Europe/Prague:20230527T120000
DTEND;TZID=Europe/Prague:20230527T180000
DTSTAMP:20260422T061407
CREATED:20230501T074119Z
LAST-MODIFIED:20230501T074119Z
UID:4672-1685188800-1685210400@www.skhb.cz
SUMMARY:rezervace Bruza
DESCRIPTION:
URL:https://www.skhb.cz/kalendar-akci/rezervace-bruza-6/
END:VEVENT
END:VCALENDAR