BEGIN:VCALENDAR
VERSION:2.0
PRODID:-//Střelecký Klub Horní Beřkovice - ECPv6.15.17.1//NONSGML v1.0//EN
CALSCALE:GREGORIAN
METHOD:PUBLISH
X-WR-CALNAME:Střelecký Klub Horní Beřkovice
X-ORIGINAL-URL:https://www.skhb.cz
X-WR-CALDESC:Akce na Střelecký Klub Horní Beřkovice
REFRESH-INTERVAL;VALUE=DURATION:PT1H
X-Robots-Tag:noindex
X-PUBLISHED-TTL:PT1H
BEGIN:VTIMEZONE
TZID:Europe/Prague
BEGIN:DAYLIGHT
TZOFFSETFROM:+0100
TZOFFSETTO:+0200
TZNAME:CEST
DTSTART:20220327T010000
END:DAYLIGHT
BEGIN:STANDARD
TZOFFSETFROM:+0200
TZOFFSETTO:+0100
TZNAME:CET
DTSTART:20221030T010000
END:STANDARD
BEGIN:DAYLIGHT
TZOFFSETFROM:+0100
TZOFFSETTO:+0200
TZNAME:CEST
DTSTART:20230326T010000
END:DAYLIGHT
BEGIN:STANDARD
TZOFFSETFROM:+0200
TZOFFSETTO:+0100
TZNAME:CET
DTSTART:20231029T010000
END:STANDARD
BEGIN:DAYLIGHT
TZOFFSETFROM:+0100
TZOFFSETTO:+0200
TZNAME:CEST
DTSTART:20240331T010000
END:DAYLIGHT
BEGIN:STANDARD
TZOFFSETFROM:+0200
TZOFFSETTO:+0100
TZNAME:CET
DTSTART:20241027T010000
END:STANDARD
END:VTIMEZONE
BEGIN:VEVENT
DTSTART;TZID=Europe/Prague:20230314T120000
DTEND;TZID=Europe/Prague:20230314T180000
DTSTAMP:20260422T101250
CREATED:20230210T133436Z
LAST-MODIFIED:20230210T133436Z
UID:4602-1678795200-1678816800@www.skhb.cz
SUMMARY:rezervace Hajný
DESCRIPTION:
URL:https://www.skhb.cz/kalendar-akci/rezervace-hajny-9/
END:VEVENT
BEGIN:VEVENT
DTSTART;TZID=Europe/Prague:20230321T150000
DTEND;TZID=Europe/Prague:20230321T200000
DTSTAMP:20260422T101250
CREATED:20230306T103850Z
LAST-MODIFIED:20230311T092835Z
UID:4628-1679410800-1679428800@www.skhb.cz
SUMMARY:rezervace David
DESCRIPTION:
URL:https://www.skhb.cz/kalendar-akci/zidovska-obec-55/
END:VEVENT
BEGIN:VEVENT
DTSTART;TZID=Europe/Prague:20230324T150000
DTEND;TZID=Europe/Prague:20230324T190000
DTSTAMP:20260422T101250
CREATED:20230315T204648Z
LAST-MODIFIED:20230315T204648Z
UID:4635-1679670000-1679684400@www.skhb.cz
SUMMARY:Zidovska obec
DESCRIPTION:
URL:https://www.skhb.cz/kalendar-akci/zidovska-obec-57/
END:VEVENT
BEGIN:VEVENT
DTSTART;TZID=Europe/Prague:20230328T150000
DTEND;TZID=Europe/Prague:20230328T200000
DTSTAMP:20260422T101250
CREATED:20230306T103926Z
LAST-MODIFIED:20230306T103926Z
UID:4630-1680015600-1680033600@www.skhb.cz
SUMMARY:židovská obec
DESCRIPTION:
URL:https://www.skhb.cz/kalendar-akci/zidovska-obec-56/
END:VEVENT
BEGIN:VEVENT
DTSTART;TZID=Europe/Prague:20230329T160000
DTEND;TZID=Europe/Prague:20230329T190000
DTSTAMP:20260422T101250
CREATED:20230311T092737Z
LAST-MODIFIED:20230311T092737Z
UID:4632-1680105600-1680116400@www.skhb.cz
SUMMARY:rezervace David
DESCRIPTION:
URL:https://www.skhb.cz/kalendar-akci/rezervace-david-162/
END:VEVENT
END:VCALENDAR