BEGIN:VCALENDAR
VERSION:2.0
PRODID:-//Střelecký Klub Horní Beřkovice - ECPv6.15.17.1//NONSGML v1.0//EN
CALSCALE:GREGORIAN
METHOD:PUBLISH
X-ORIGINAL-URL:https://www.skhb.cz
X-WR-CALDESC:Akce na Střelecký Klub Horní Beřkovice
REFRESH-INTERVAL;VALUE=DURATION:PT1H
X-Robots-Tag:noindex
X-PUBLISHED-TTL:PT1H
BEGIN:VTIMEZONE
TZID:Europe/Prague
BEGIN:DAYLIGHT
TZOFFSETFROM:+0100
TZOFFSETTO:+0200
TZNAME:CEST
DTSTART:20200329T010000
END:DAYLIGHT
BEGIN:STANDARD
TZOFFSETFROM:+0200
TZOFFSETTO:+0100
TZNAME:CET
DTSTART:20201025T010000
END:STANDARD
BEGIN:DAYLIGHT
TZOFFSETFROM:+0100
TZOFFSETTO:+0200
TZNAME:CEST
DTSTART:20210328T010000
END:DAYLIGHT
BEGIN:STANDARD
TZOFFSETFROM:+0200
TZOFFSETTO:+0100
TZNAME:CET
DTSTART:20211031T010000
END:STANDARD
BEGIN:DAYLIGHT
TZOFFSETFROM:+0100
TZOFFSETTO:+0200
TZNAME:CEST
DTSTART:20220327T010000
END:DAYLIGHT
BEGIN:STANDARD
TZOFFSETFROM:+0200
TZOFFSETTO:+0100
TZNAME:CET
DTSTART:20221030T010000
END:STANDARD
END:VTIMEZONE
BEGIN:VEVENT
DTSTART;TZID=Europe/Prague:20211103T150000
DTEND;TZID=Europe/Prague:20211103T190000
DTSTAMP:20260423T135859
CREATED:20211023T182043Z
LAST-MODIFIED:20211023T182043Z
UID:4167-1635951600-1635966000@www.skhb.cz
SUMMARY:rezervace David
DESCRIPTION:
URL:https://www.skhb.cz/kalendar-akci/rezervace-david-102/
END:VEVENT
BEGIN:VEVENT
DTSTART;TZID=Europe/Prague:20211105T090000
DTEND;TZID=Europe/Prague:20211105T130000
DTSTAMP:20260423T135859
CREATED:20211031T214653Z
LAST-MODIFIED:20211031T214653Z
UID:4169-1636102800-1636117200@www.skhb.cz
SUMMARY:Rezervace Hajný
DESCRIPTION:
URL:https://www.skhb.cz/kalendar-akci/rezervace-hajny-3/
END:VEVENT
BEGIN:VEVENT
DTSTART;TZID=Europe/Prague:20211106T130000
DTEND;TZID=Europe/Prague:20211106T170000
DTSTAMP:20260423T135859
CREATED:20211101T152924Z
LAST-MODIFIED:20211101T152924Z
UID:4171-1636203600-1636218000@www.skhb.cz
SUMMARY:Rezervace Bejček
DESCRIPTION:
URL:https://www.skhb.cz/kalendar-akci/rezervace-bejcek-14/
END:VEVENT
BEGIN:VEVENT
DTSTART;TZID=Europe/Prague:20211114T080000
DTEND;TZID=Europe/Prague:20211114T130000
DTSTAMP:20260423T135859
CREATED:20211107T111312Z
LAST-MODIFIED:20211107T111312Z
UID:4196-1636876800-1636894800@www.skhb.cz
SUMMARY:Rezervace Václav Šmíd
DESCRIPTION:
URL:https://www.skhb.cz/kalendar-akci/rezervace-vaclav-smid-3/
END:VEVENT
BEGIN:VEVENT
DTSTART;TZID=Europe/Prague:20211117T080000
DTEND;TZID=Europe/Prague:20211117T140000
DTSTAMP:20260423T135859
CREATED:20211014T153611Z
LAST-MODIFIED:20211014T153611Z
UID:4163-1637136000-1637157600@www.skhb.cz
SUMMARY:Rezervace - LOMIS
DESCRIPTION:Rezervace – LOMIS
URL:https://www.skhb.cz/kalendar-akci/rezervace-lomis/
END:VEVENT
BEGIN:VEVENT
DTSTART;TZID=Europe/Prague:20211117T153000
DTEND;TZID=Europe/Prague:20211117T190000
DTSTAMP:20260423T135859
CREATED:20211111T183918Z
LAST-MODIFIED:20211111T183918Z
UID:4200-1637163000-1637175600@www.skhb.cz
SUMMARY:rezervace David
DESCRIPTION:
URL:https://www.skhb.cz/kalendar-akci/rezervace-david-103/
END:VEVENT
BEGIN:VEVENT
DTSTART;TZID=Europe/Prague:20211120T090000
DTEND;TZID=Europe/Prague:20211120T140000
DTSTAMP:20260423T135859
CREATED:20211118T083501Z
LAST-MODIFIED:20211118T083501Z
UID:4208-1637398800-1637416800@www.skhb.cz
SUMMARY:Rezervace Hajný
DESCRIPTION:
URL:https://www.skhb.cz/kalendar-akci/rezervace-hajny-4/
END:VEVENT
BEGIN:VEVENT
DTSTART;TZID=Europe/Prague:20211121T100000
DTEND;TZID=Europe/Prague:20211121T120000
DTSTAMP:20260423T135859
CREATED:20211111T183951Z
LAST-MODIFIED:20211111T183951Z
UID:4202-1637488800-1637496000@www.skhb.cz
SUMMARY:rezervace David
DESCRIPTION:
URL:https://www.skhb.cz/kalendar-akci/rezervace-david-104/
END:VEVENT
BEGIN:VEVENT
DTSTART;TZID=Europe/Prague:20211121T130000
DTEND;TZID=Europe/Prague:20211121T170000
DTSTAMP:20260423T135859
CREATED:20211115T081606Z
LAST-MODIFIED:20211115T081606Z
UID:4206-1637499600-1637514000@www.skhb.cz
SUMMARY:Rezervace Bejček
DESCRIPTION:
URL:https://www.skhb.cz/kalendar-akci/rezervace-bejcek-15/
END:VEVENT
BEGIN:VEVENT
DTSTART;TZID=Europe/Prague:20211123T150000
DTEND;TZID=Europe/Prague:20211123T190000
DTSTAMP:20260423T135859
CREATED:20211101T202234Z
LAST-MODIFIED:20211101T202234Z
UID:4175-1637679600-1637694000@www.skhb.cz
SUMMARY:židovská obec
DESCRIPTION:
URL:https://www.skhb.cz/kalendar-akci/zidovska-obec-16/
END:VEVENT
BEGIN:VEVENT
DTSTART;TZID=Europe/Prague:20211128T100000
DTEND;TZID=Europe/Prague:20211128T120000
DTSTAMP:20260423T135859
CREATED:20211111T184032Z
LAST-MODIFIED:20211111T184032Z
UID:4204-1638093600-1638100800@www.skhb.cz
SUMMARY:rezervace David
DESCRIPTION:
URL:https://www.skhb.cz/kalendar-akci/rezervace-david-105/
END:VEVENT
BEGIN:VEVENT
DTSTART;TZID=Europe/Prague:20211130T150000
DTEND;TZID=Europe/Prague:20211130T190000
DTSTAMP:20260423T135859
CREATED:20211101T202332Z
LAST-MODIFIED:20211101T202332Z
UID:4177-1638284400-1638298800@www.skhb.cz
SUMMARY:židovská obec
DESCRIPTION:
URL:https://www.skhb.cz/kalendar-akci/zidovska-obec-17/
END:VEVENT
END:VCALENDAR