BEGIN:VCALENDAR
VERSION:2.0
PRODID:-//Střelecký Klub Horní Beřkovice - ECPv6.15.17.1//NONSGML v1.0//EN
CALSCALE:GREGORIAN
METHOD:PUBLISH
X-ORIGINAL-URL:https://www.skhb.cz
X-WR-CALDESC:Akce na Střelecký Klub Horní Beřkovice
REFRESH-INTERVAL;VALUE=DURATION:PT1H
X-Robots-Tag:noindex
X-PUBLISHED-TTL:PT1H
BEGIN:VTIMEZONE
TZID:Europe/Prague
BEGIN:DAYLIGHT
TZOFFSETFROM:+0100
TZOFFSETTO:+0200
TZNAME:CEST
DTSTART:20200329T010000
END:DAYLIGHT
BEGIN:STANDARD
TZOFFSETFROM:+0200
TZOFFSETTO:+0100
TZNAME:CET
DTSTART:20201025T010000
END:STANDARD
BEGIN:DAYLIGHT
TZOFFSETFROM:+0100
TZOFFSETTO:+0200
TZNAME:CEST
DTSTART:20210328T010000
END:DAYLIGHT
BEGIN:STANDARD
TZOFFSETFROM:+0200
TZOFFSETTO:+0100
TZNAME:CET
DTSTART:20211031T010000
END:STANDARD
BEGIN:DAYLIGHT
TZOFFSETFROM:+0100
TZOFFSETTO:+0200
TZNAME:CEST
DTSTART:20220327T010000
END:DAYLIGHT
BEGIN:STANDARD
TZOFFSETFROM:+0200
TZOFFSETTO:+0100
TZNAME:CET
DTSTART:20221030T010000
END:STANDARD
END:VTIMEZONE
BEGIN:VEVENT
DTSTART;TZID=Europe/Prague:20210412T080000
DTEND;TZID=Europe/Prague:20210412T120000
DTSTAMP:20260424T024500
CREATED:20210412T172413Z
LAST-MODIFIED:20210412T172413Z
UID:3843-1618214400-1618228800@www.skhb.cz
SUMMARY:PČR
DESCRIPTION:
URL:https://www.skhb.cz/kalendar-akci/pcr-28/
END:VEVENT
BEGIN:VEVENT
DTSTART;TZID=Europe/Prague:20210413T080000
DTEND;TZID=Europe/Prague:20210413T120000
DTSTAMP:20260424T024500
CREATED:20210412T172513Z
LAST-MODIFIED:20210412T172513Z
UID:3845-1618300800-1618315200@www.skhb.cz
SUMMARY:PČR
DESCRIPTION:
URL:https://www.skhb.cz/kalendar-akci/pcr-29/
END:VEVENT
BEGIN:VEVENT
DTSTART;TZID=Europe/Prague:20210414T080000
DTEND;TZID=Europe/Prague:20210414T120000
DTSTAMP:20260424T024500
CREATED:20210412T172531Z
LAST-MODIFIED:20210412T172531Z
UID:3847-1618387200-1618401600@www.skhb.cz
SUMMARY:PČR
DESCRIPTION:
URL:https://www.skhb.cz/kalendar-akci/pcr-30/
END:VEVENT
BEGIN:VEVENT
DTSTART;TZID=Europe/Prague:20210415T080000
DTEND;TZID=Europe/Prague:20210415T120000
DTSTAMP:20260424T024500
CREATED:20210412T172552Z
LAST-MODIFIED:20210412T172552Z
UID:3849-1618473600-1618488000@www.skhb.cz
SUMMARY:PČR
DESCRIPTION:
URL:https://www.skhb.cz/kalendar-akci/pcr-31/
END:VEVENT
BEGIN:VEVENT
DTSTART;TZID=Europe/Prague:20210417T090000
DTEND;TZID=Europe/Prague:20210417T120000
DTSTAMP:20260424T024500
CREATED:20210414T130304Z
LAST-MODIFIED:20210416T164741Z
UID:3868-1618650000-1618660800@www.skhb.cz
SUMMARY:Rezervace Bělaška
DESCRIPTION:
URL:https://www.skhb.cz/kalendar-akci/rezervace-belaska-3/
CATEGORIES:Akce člena
END:VEVENT
BEGIN:VEVENT
DTSTART;TZID=Europe/Prague:20210418T080000
DTEND;TZID=Europe/Prague:20210418T120000
DTSTAMP:20260424T024500
CREATED:20210410T100833Z
LAST-MODIFIED:20210410T100833Z
UID:3841-1618732800-1618747200@www.skhb.cz
SUMMARY:Rezervace Šmíd 9:00 - 12:00 hod
DESCRIPTION:
URL:https://www.skhb.cz/kalendar-akci/rezervace-smid-900-1200-hod/
END:VEVENT
BEGIN:VEVENT
DTSTART;TZID=Europe/Prague:20210419T080000
DTEND;TZID=Europe/Prague:20210419T120000
DTSTAMP:20260424T024500
CREATED:20210412T172637Z
LAST-MODIFIED:20210412T172637Z
UID:3851-1618819200-1618833600@www.skhb.cz
SUMMARY:PČR
DESCRIPTION:
URL:https://www.skhb.cz/kalendar-akci/pcr-32/
END:VEVENT
BEGIN:VEVENT
DTSTART;TZID=Europe/Prague:20210420T080000
DTEND;TZID=Europe/Prague:20210420T120000
DTSTAMP:20260424T024500
CREATED:20210412T172657Z
LAST-MODIFIED:20210412T172657Z
UID:3853-1618905600-1618920000@www.skhb.cz
SUMMARY:PČR
DESCRIPTION:
URL:https://www.skhb.cz/kalendar-akci/pcr-33/
END:VEVENT
BEGIN:VEVENT
DTSTART;TZID=Europe/Prague:20210421T080000
DTEND;TZID=Europe/Prague:20210421T120000
DTSTAMP:20260424T024500
CREATED:20210412T172714Z
LAST-MODIFIED:20210412T172714Z
UID:3855-1618992000-1619006400@www.skhb.cz
SUMMARY:PČR
DESCRIPTION:
URL:https://www.skhb.cz/kalendar-akci/pcr-34/
END:VEVENT
BEGIN:VEVENT
DTSTART;TZID=Europe/Prague:20210422T080000
DTEND;TZID=Europe/Prague:20210422T120000
DTSTAMP:20260424T024500
CREATED:20210412T172733Z
LAST-MODIFIED:20210412T172733Z
UID:3857-1619078400-1619092800@www.skhb.cz
SUMMARY:PČR
DESCRIPTION:
URL:https://www.skhb.cz/kalendar-akci/pcr-35/
END:VEVENT
BEGIN:VEVENT
DTSTART;TZID=Europe/Prague:20210426T080000
DTEND;TZID=Europe/Prague:20210426T120000
DTSTAMP:20260424T024500
CREATED:20210412T172753Z
LAST-MODIFIED:20210412T172753Z
UID:3859-1619424000-1619438400@www.skhb.cz
SUMMARY:PČR
DESCRIPTION:
URL:https://www.skhb.cz/kalendar-akci/pcr-36/
END:VEVENT
BEGIN:VEVENT
DTSTART;TZID=Europe/Prague:20210427T080000
DTEND;TZID=Europe/Prague:20210427T120000
DTSTAMP:20260424T024500
CREATED:20210412T172811Z
LAST-MODIFIED:20210412T172811Z
UID:3861-1619510400-1619524800@www.skhb.cz
SUMMARY:PČR
DESCRIPTION:
URL:https://www.skhb.cz/kalendar-akci/pcr-37/
END:VEVENT
BEGIN:VEVENT
DTSTART;TZID=Europe/Prague:20210428T080000
DTEND;TZID=Europe/Prague:20210428T120000
DTSTAMP:20260424T024500
CREATED:20210412T172838Z
LAST-MODIFIED:20210412T172838Z
UID:3863-1619596800-1619611200@www.skhb.cz
SUMMARY:PČR
DESCRIPTION:
URL:https://www.skhb.cz/kalendar-akci/pcr-38/
END:VEVENT
BEGIN:VEVENT
DTSTART;TZID=Europe/Prague:20210428T150000
DTEND;TZID=Europe/Prague:20210428T190000
DTSTAMP:20260424T024500
CREATED:20210405T165216Z
LAST-MODIFIED:20210420T190919Z
UID:3836-1619622000-1619636400@www.skhb.cz
SUMMARY:rezervace David
DESCRIPTION:
URL:https://www.skhb.cz/kalendar-akci/rezervace-david-70/
END:VEVENT
BEGIN:VEVENT
DTSTART;TZID=Europe/Prague:20210429T080000
DTEND;TZID=Europe/Prague:20210429T120000
DTSTAMP:20260424T024500
CREATED:20210412T172856Z
LAST-MODIFIED:20210412T172856Z
UID:3865-1619683200-1619697600@www.skhb.cz
SUMMARY:PČR
DESCRIPTION:
URL:https://www.skhb.cz/kalendar-akci/pcr-39/
END:VEVENT
END:VCALENDAR