BEGIN:VCALENDAR
VERSION:2.0
PRODID:-//Střelecký Klub Horní Beřkovice - ECPv6.15.17.1//NONSGML v1.0//EN
CALSCALE:GREGORIAN
METHOD:PUBLISH
X-ORIGINAL-URL:https://www.skhb.cz
X-WR-CALDESC:Akce na Střelecký Klub Horní Beřkovice
REFRESH-INTERVAL;VALUE=DURATION:PT1H
X-Robots-Tag:noindex
X-PUBLISHED-TTL:PT1H
BEGIN:VTIMEZONE
TZID:Europe/Prague
BEGIN:DAYLIGHT
TZOFFSETFROM:+0100
TZOFFSETTO:+0200
TZNAME:CEST
DTSTART:20200329T010000
END:DAYLIGHT
BEGIN:STANDARD
TZOFFSETFROM:+0200
TZOFFSETTO:+0100
TZNAME:CET
DTSTART:20201025T010000
END:STANDARD
BEGIN:DAYLIGHT
TZOFFSETFROM:+0100
TZOFFSETTO:+0200
TZNAME:CEST
DTSTART:20210328T010000
END:DAYLIGHT
BEGIN:STANDARD
TZOFFSETFROM:+0200
TZOFFSETTO:+0100
TZNAME:CET
DTSTART:20211031T010000
END:STANDARD
BEGIN:DAYLIGHT
TZOFFSETFROM:+0100
TZOFFSETTO:+0200
TZNAME:CEST
DTSTART:20220327T010000
END:DAYLIGHT
BEGIN:STANDARD
TZOFFSETFROM:+0200
TZOFFSETTO:+0100
TZNAME:CET
DTSTART:20221030T010000
END:STANDARD
END:VTIMEZONE
BEGIN:VEVENT
DTSTART;TZID=Europe/Prague:20210305T150000
DTEND;TZID=Europe/Prague:20210305T180000
DTSTAMP:20260424T050916
CREATED:20210223T154411Z
LAST-MODIFIED:20210223T154411Z
UID:3826-1614956400-1614967200@www.skhb.cz
SUMMARY:rezervace David
DESCRIPTION:
URL:https://www.skhb.cz/kalendar-akci/rezervace-david-72/
END:VEVENT
BEGIN:VEVENT
DTSTART;TZID=Europe/Prague:20210324T150000
DTEND;TZID=Europe/Prague:20210324T180000
DTSTAMP:20260424T050916
CREATED:20210322T190733Z
LAST-MODIFIED:20210322T190733Z
UID:3833-1616598000-1616608800@www.skhb.cz
SUMMARY:rezervace David
DESCRIPTION:
URL:https://www.skhb.cz/kalendar-akci/rezervace-david-69/
END:VEVENT
BEGIN:VEVENT
DTSTART;TZID=Europe/Prague:20210331T150000
DTEND;TZID=Europe/Prague:20210331T190000
DTSTAMP:20260424T050916
CREATED:20210221T220455Z
LAST-MODIFIED:20210221T220455Z
UID:3824-1617202800-1617217200@www.skhb.cz
SUMMARY:rezervace David
DESCRIPTION:
URL:https://www.skhb.cz/kalendar-akci/rezervace-david-71/
END:VEVENT
END:VCALENDAR