BEGIN:VCALENDAR
VERSION:2.0
PRODID:-//Střelecký Klub Horní Beřkovice - ECPv6.15.17.1//NONSGML v1.0//EN
CALSCALE:GREGORIAN
METHOD:PUBLISH
X-WR-CALNAME:Střelecký Klub Horní Beřkovice
X-ORIGINAL-URL:https://www.skhb.cz
X-WR-CALDESC:Akce na Střelecký Klub Horní Beřkovice
REFRESH-INTERVAL;VALUE=DURATION:PT1H
X-Robots-Tag:noindex
X-PUBLISHED-TTL:PT1H
BEGIN:VTIMEZONE
TZID:Europe/Prague
BEGIN:DAYLIGHT
TZOFFSETFROM:+0100
TZOFFSETTO:+0200
TZNAME:CEST
DTSTART:20200329T010000
END:DAYLIGHT
BEGIN:STANDARD
TZOFFSETFROM:+0200
TZOFFSETTO:+0100
TZNAME:CET
DTSTART:20201025T010000
END:STANDARD
BEGIN:DAYLIGHT
TZOFFSETFROM:+0100
TZOFFSETTO:+0200
TZNAME:CEST
DTSTART:20210328T010000
END:DAYLIGHT
BEGIN:STANDARD
TZOFFSETFROM:+0200
TZOFFSETTO:+0100
TZNAME:CET
DTSTART:20211031T010000
END:STANDARD
BEGIN:DAYLIGHT
TZOFFSETFROM:+0100
TZOFFSETTO:+0200
TZNAME:CEST
DTSTART:20220327T010000
END:DAYLIGHT
BEGIN:STANDARD
TZOFFSETFROM:+0200
TZOFFSETTO:+0100
TZNAME:CET
DTSTART:20221030T010000
END:STANDARD
END:VTIMEZONE
BEGIN:VEVENT
DTSTART;TZID=Europe/Prague:20210102T090000
DTEND;TZID=Europe/Prague:20210102T120000
DTSTAMP:20260424T095805
CREATED:20201227T104507Z
LAST-MODIFIED:20201227T104507Z
UID:3773-1609578000-1609588800@www.skhb.cz
SUMMARY:Rezervace Bělaška
DESCRIPTION:
URL:https://www.skhb.cz/kalendar-akci/rezervace-belaska/
END:VEVENT
BEGIN:VEVENT
DTSTART;TZID=Europe/Prague:20210112T130000
DTEND;TZID=Europe/Prague:20210112T170000
DTSTAMP:20260424T095805
CREATED:20210109T081044Z
LAST-MODIFIED:20210109T081044Z
UID:3777-1610456400-1610470800@www.skhb.cz
SUMMARY:rezervace David
DESCRIPTION:
URL:https://www.skhb.cz/kalendar-akci/rezervace-david-62/
END:VEVENT
BEGIN:VEVENT
DTSTART;TZID=Europe/Prague:20210114T150000
DTEND;TZID=Europe/Prague:20210114T190000
DTSTAMP:20260424T095805
CREATED:20210109T081149Z
LAST-MODIFIED:20210109T081149Z
UID:3779-1610636400-1610650800@www.skhb.cz
SUMMARY:židovská obec
DESCRIPTION:
URL:https://www.skhb.cz/kalendar-akci/zidovska-obec-4/
END:VEVENT
BEGIN:VEVENT
DTSTART;TZID=Europe/Prague:20210120T140000
DTEND;TZID=Europe/Prague:20210120T170000
DTSTAMP:20260424T095805
CREATED:20210116T084157Z
LAST-MODIFIED:20210116T084157Z
UID:3785-1611151200-1611162000@www.skhb.cz
SUMMARY:rezervace David
DESCRIPTION:
URL:https://www.skhb.cz/kalendar-akci/rezervace-david-64/
END:VEVENT
BEGIN:VEVENT
DTSTART;TZID=Europe/Prague:20210121T150000
DTEND;TZID=Europe/Prague:20210121T190000
DTSTAMP:20260424T095805
CREATED:20210109T081241Z
LAST-MODIFIED:20210109T081241Z
UID:3781-1611241200-1611255600@www.skhb.cz
SUMMARY:židovská obec
DESCRIPTION:
URL:https://www.skhb.cz/kalendar-akci/zidovska-obec-5/
END:VEVENT
BEGIN:VEVENT
DTSTART;TZID=Europe/Prague:20210124T130000
DTEND;TZID=Europe/Prague:20210124T160000
DTSTAMP:20260424T095805
CREATED:20210119T171637Z
LAST-MODIFIED:20210119T171650Z
UID:3789-1611493200-1611504000@www.skhb.cz
SUMMARY:rezervace David
DESCRIPTION:
URL:https://www.skhb.cz/kalendar-akci/rezervace-david-66/
END:VEVENT
BEGIN:VEVENT
DTSTART;TZID=Europe/Prague:20210131T080000
DTEND;TZID=Europe/Prague:20210131T120000
DTSTAMP:20260424T095805
CREATED:20210124T204449Z
LAST-MODIFIED:20210124T204449Z
UID:3792-1612080000-1612094400@www.skhb.cz
SUMMARY:Rezervace Šmíd
DESCRIPTION:
URL:https://www.skhb.cz/kalendar-akci/rezervace-smid-5/
END:VEVENT
END:VCALENDAR