BEGIN:VCALENDAR
VERSION:2.0
PRODID:-//Střelecký Klub Horní Beřkovice - ECPv6.15.17.1//NONSGML v1.0//EN
CALSCALE:GREGORIAN
METHOD:PUBLISH
X-WR-CALNAME:Střelecký Klub Horní Beřkovice
X-ORIGINAL-URL:https://www.skhb.cz
X-WR-CALDESC:Akce na Střelecký Klub Horní Beřkovice
REFRESH-INTERVAL;VALUE=DURATION:PT1H
X-Robots-Tag:noindex
X-PUBLISHED-TTL:PT1H
BEGIN:VTIMEZONE
TZID:Europe/Prague
BEGIN:DAYLIGHT
TZOFFSETFROM:+0100
TZOFFSETTO:+0200
TZNAME:CEST
DTSTART:20190331T010000
END:DAYLIGHT
BEGIN:STANDARD
TZOFFSETFROM:+0200
TZOFFSETTO:+0100
TZNAME:CET
DTSTART:20191027T010000
END:STANDARD
BEGIN:DAYLIGHT
TZOFFSETFROM:+0100
TZOFFSETTO:+0200
TZNAME:CEST
DTSTART:20200329T010000
END:DAYLIGHT
BEGIN:STANDARD
TZOFFSETFROM:+0200
TZOFFSETTO:+0100
TZNAME:CET
DTSTART:20201025T010000
END:STANDARD
BEGIN:DAYLIGHT
TZOFFSETFROM:+0100
TZOFFSETTO:+0200
TZNAME:CEST
DTSTART:20210328T010000
END:DAYLIGHT
BEGIN:STANDARD
TZOFFSETFROM:+0200
TZOFFSETTO:+0100
TZNAME:CET
DTSTART:20211031T010000
END:STANDARD
END:VTIMEZONE
BEGIN:VEVENT
DTSTART;TZID=Europe/Prague:20200905T130000
DTEND;TZID=Europe/Prague:20200905T160000
DTSTAMP:20260424T180450
CREATED:20200828T091115Z
LAST-MODIFIED:20200828T091115Z
UID:3598-1599310800-1599321600@www.skhb.cz
SUMMARY:Rezervace M. Brůža
DESCRIPTION:
URL:https://www.skhb.cz/kalendar-akci/rezervace-m-bruza/
END:VEVENT
BEGIN:VEVENT
DTSTART;TZID=Europe/Prague:20200906T090000
DTEND;TZID=Europe/Prague:20200906T150000
DTSTAMP:20260424T180450
CREATED:20200809T203301Z
LAST-MODIFIED:20200809T203301Z
UID:3592-1599382800-1599404400@www.skhb.cz
SUMMARY:rezervace David
DESCRIPTION:
URL:https://www.skhb.cz/kalendar-akci/rezervace-david-47/
END:VEVENT
BEGIN:VEVENT
DTSTART;TZID=Europe/Prague:20200909T160000
DTEND;TZID=Europe/Prague:20200909T190000
DTSTAMP:20260424T180450
CREATED:20200826T100201Z
LAST-MODIFIED:20200826T100201Z
UID:3596-1599667200-1599678000@www.skhb.cz
SUMMARY:rezervace David
DESCRIPTION:
URL:https://www.skhb.cz/kalendar-akci/rezervace-david-48/
END:VEVENT
BEGIN:VEVENT
DTSTART;TZID=Europe/Prague:20200910T090000
DTEND;TZID=Europe/Prague:20200910T110000
DTSTAMP:20260424T180450
CREATED:20200908T175517Z
LAST-MODIFIED:20200908T175748Z
UID:3604-1599728400-1599735600@www.skhb.cz
SUMMARY:Zamrzla sekání střelnice 9-11 h
DESCRIPTION:
URL:https://www.skhb.cz/kalendar-akci/3604/
LOCATION:Střelnice – Horní Beřkovice
END:VEVENT
BEGIN:VEVENT
DTSTART;TZID=Europe/Prague:20200911T150000
DTEND;TZID=Europe/Prague:20200911T190000
DTSTAMP:20260424T180450
CREATED:20200909T063833Z
LAST-MODIFIED:20200909T063833Z
UID:3611-1599836400-1599850800@www.skhb.cz
SUMMARY:Rezervace Bejček
DESCRIPTION:
URL:https://www.skhb.cz/kalendar-akci/rezervace-bejcek/
END:VEVENT
BEGIN:VEVENT
DTSTART;TZID=Europe/Prague:20200912T140000
DTEND;TZID=Europe/Prague:20200912T170000
DTSTAMP:20260424T180450
CREATED:20200806T153752Z
LAST-MODIFIED:20200806T153752Z
UID:3586-1599919200-1599930000@www.skhb.cz
SUMMARY:Brůža - myslivci
DESCRIPTION:Brůža – myslivci
URL:https://www.skhb.cz/kalendar-akci/bruza-myslivci-2/
CATEGORIES:Akce veřejnosti
END:VEVENT
BEGIN:VEVENT
DTSTART;TZID=Europe/Prague:20200923T160000
DTEND;TZID=Europe/Prague:20200923T190000
DTSTAMP:20260424T180450
CREATED:20200914T181825Z
LAST-MODIFIED:20200914T181825Z
UID:3613-1600876800-1600887600@www.skhb.cz
SUMMARY:rezervace David
DESCRIPTION:
URL:https://www.skhb.cz/kalendar-akci/rezervace-david-49/
END:VEVENT
BEGIN:VEVENT
DTSTART;TZID=Europe/Prague:20200926T140000
DTEND;TZID=Europe/Prague:20200926T170000
DTSTAMP:20260424T180450
CREATED:20200919T164423Z
LAST-MODIFIED:20200919T165406Z
UID:3617-1601128800-1601139600@www.skhb.cz
SUMMARY:Hajný
DESCRIPTION:
URL:https://www.skhb.cz/kalendar-akci/hajny-2/
END:VEVENT
BEGIN:VEVENT
DTSTART;TZID=Europe/Prague:20200927T090000
DTEND;TZID=Europe/Prague:20200927T140000
DTSTAMP:20260424T180450
CREATED:20200922T091733Z
LAST-MODIFIED:20200922T091733Z
UID:3619-1601197200-1601215200@www.skhb.cz
SUMMARY:rezervace David
DESCRIPTION:
URL:https://www.skhb.cz/kalendar-akci/rezervace-david-50/
END:VEVENT
BEGIN:VEVENT
DTSTART;TZID=Europe/Prague:20200928T150000
DTEND;TZID=Europe/Prague:20200928T190000
DTSTAMP:20260424T180450
CREATED:20200928T150406Z
LAST-MODIFIED:20200928T150406Z
UID:3628-1601305200-1601319600@www.skhb.cz
SUMMARY:rezervace David
DESCRIPTION:
URL:https://www.skhb.cz/kalendar-akci/rezervace-david-51/
END:VEVENT
END:VCALENDAR