BEGIN:VCALENDAR
VERSION:2.0
PRODID:-//Střelecký Klub Horní Beřkovice - ECPv6.15.17.1//NONSGML v1.0//EN
CALSCALE:GREGORIAN
METHOD:PUBLISH
X-ORIGINAL-URL:https://www.skhb.cz
X-WR-CALDESC:Akce na Střelecký Klub Horní Beřkovice
REFRESH-INTERVAL;VALUE=DURATION:PT1H
X-Robots-Tag:noindex
X-PUBLISHED-TTL:PT1H
BEGIN:VTIMEZONE
TZID:Europe/Prague
BEGIN:DAYLIGHT
TZOFFSETFROM:+0100
TZOFFSETTO:+0200
TZNAME:CEST
DTSTART:20190331T010000
END:DAYLIGHT
BEGIN:STANDARD
TZOFFSETFROM:+0200
TZOFFSETTO:+0100
TZNAME:CET
DTSTART:20191027T010000
END:STANDARD
BEGIN:DAYLIGHT
TZOFFSETFROM:+0100
TZOFFSETTO:+0200
TZNAME:CEST
DTSTART:20200329T010000
END:DAYLIGHT
BEGIN:STANDARD
TZOFFSETFROM:+0200
TZOFFSETTO:+0100
TZNAME:CET
DTSTART:20201025T010000
END:STANDARD
BEGIN:DAYLIGHT
TZOFFSETFROM:+0100
TZOFFSETTO:+0200
TZNAME:CEST
DTSTART:20210328T010000
END:DAYLIGHT
BEGIN:STANDARD
TZOFFSETFROM:+0200
TZOFFSETTO:+0100
TZNAME:CET
DTSTART:20211031T010000
END:STANDARD
END:VTIMEZONE
BEGIN:VEVENT
DTSTART;TZID=Europe/Prague:20200801T100000
DTEND;TZID=Europe/Prague:20200801T130000
DTSTAMP:20260424T194353
CREATED:20200727T190347Z
LAST-MODIFIED:20200727T190347Z
UID:3578-1596276000-1596286800@www.skhb.cz
SUMMARY:Členská schůze
DESCRIPTION:
URL:https://www.skhb.cz/kalendar-akci/clenska-schuze/
END:VEVENT
BEGIN:VEVENT
DTSTART;TZID=Europe/Prague:20200820T080000
DTEND;TZID=Europe/Prague:20200820T120000
DTSTAMP:20260424T194353
CREATED:20200818T153705Z
LAST-MODIFIED:20200818T153705Z
UID:3594-1597910400-1597924800@www.skhb.cz
SUMMARY:Hajný
DESCRIPTION:
URL:https://www.skhb.cz/kalendar-akci/hajny/
LOCATION:Střelnice – Horní Beřkovice
END:VEVENT
BEGIN:VEVENT
DTSTART;TZID=Europe/Prague:20200822T093000
DTEND;TZID=Europe/Prague:20200822T160000
DTSTAMP:20260424T194353
CREATED:20200715T070818Z
LAST-MODIFIED:20200715T070818Z
UID:3568-1598088600-1598112000@www.skhb.cz
SUMMARY:Rezervace Šmíd
DESCRIPTION:
URL:https://www.skhb.cz/kalendar-akci/rezervace-smid/
END:VEVENT
BEGIN:VEVENT
DTSTART;TZID=Europe/Prague:20200825T150000
DTEND;TZID=Europe/Prague:20200825T190000
DTSTAMP:20260424T194353
CREATED:20200809T203045Z
LAST-MODIFIED:20200809T203045Z
UID:3588-1598367600-1598382000@www.skhb.cz
SUMMARY:rezervace David
DESCRIPTION:
URL:https://www.skhb.cz/kalendar-akci/rezervace-david-45/
END:VEVENT
BEGIN:VEVENT
DTSTART;TZID=Europe/Prague:20200826T150000
DTEND;TZID=Europe/Prague:20200826T200000
DTSTAMP:20260424T194353
CREATED:20200809T203114Z
LAST-MODIFIED:20200809T203114Z
UID:3590-1598454000-1598472000@www.skhb.cz
SUMMARY:rezervace David
DESCRIPTION:
URL:https://www.skhb.cz/kalendar-akci/rezervace-david-46/
END:VEVENT
BEGIN:VEVENT
DTSTART;TZID=Europe/Prague:20200829T100000
DTEND;TZID=Europe/Prague:20200829T130000
DTSTAMP:20260424T194353
CREATED:20200727T190247Z
LAST-MODIFIED:20200727T190247Z
UID:3576-1598695200-1598706000@www.skhb.cz
SUMMARY:Lomis
DESCRIPTION:
URL:https://www.skhb.cz/kalendar-akci/lomis-11/
END:VEVENT
END:VCALENDAR