BEGIN:VCALENDAR
VERSION:2.0
PRODID:-//Střelecký Klub Horní Beřkovice - ECPv6.15.17.1//NONSGML v1.0//EN
CALSCALE:GREGORIAN
METHOD:PUBLISH
X-WR-CALNAME:Střelecký Klub Horní Beřkovice
X-ORIGINAL-URL:https://www.skhb.cz
X-WR-CALDESC:Akce na Střelecký Klub Horní Beřkovice
REFRESH-INTERVAL;VALUE=DURATION:PT1H
X-Robots-Tag:noindex
X-PUBLISHED-TTL:PT1H
BEGIN:VTIMEZONE
TZID:Europe/Prague
BEGIN:DAYLIGHT
TZOFFSETFROM:+0100
TZOFFSETTO:+0200
TZNAME:CEST
DTSTART:20180325T010000
END:DAYLIGHT
BEGIN:STANDARD
TZOFFSETFROM:+0200
TZOFFSETTO:+0100
TZNAME:CET
DTSTART:20181028T010000
END:STANDARD
BEGIN:DAYLIGHT
TZOFFSETFROM:+0100
TZOFFSETTO:+0200
TZNAME:CEST
DTSTART:20190331T010000
END:DAYLIGHT
BEGIN:STANDARD
TZOFFSETFROM:+0200
TZOFFSETTO:+0100
TZNAME:CET
DTSTART:20191027T010000
END:STANDARD
BEGIN:DAYLIGHT
TZOFFSETFROM:+0100
TZOFFSETTO:+0200
TZNAME:CEST
DTSTART:20200329T010000
END:DAYLIGHT
BEGIN:STANDARD
TZOFFSETFROM:+0200
TZOFFSETTO:+0100
TZNAME:CET
DTSTART:20201025T010000
END:STANDARD
END:VTIMEZONE
BEGIN:VEVENT
DTSTART;TZID=Europe/Prague:20190803T080000
DTEND;TZID=Europe/Prague:20190803T180000
DTSTAMP:20260425T163537
CREATED:20190729T203834Z
LAST-MODIFIED:20190805T092021Z
UID:3263-1564819200-1564855200@www.skhb.cz
SUMMARY:rezervace David
DESCRIPTION:
URL:https://www.skhb.cz/kalendar-akci/rezervace-david-5/
END:VEVENT
BEGIN:VEVENT
DTSTART;TZID=Europe/Prague:20190817T080000
DTEND;TZID=Europe/Prague:20190817T140000
DTSTAMP:20260425T163537
CREATED:20190722T084128Z
LAST-MODIFIED:20190722T084128Z
UID:3258-1566028800-1566050400@www.skhb.cz
SUMMARY:LOMIS
DESCRIPTION:Akce firmy LOMIS
URL:https://www.skhb.cz/kalendar-akci/lomis-4/
CATEGORIES:Akce veřejnosti
END:VEVENT
BEGIN:VEVENT
DTSTART;TZID=Europe/Prague:20190823T120000
DTEND;TZID=Europe/Prague:20190823T170000
DTSTAMP:20260425T163537
CREATED:20190808T154101Z
LAST-MODIFIED:20190809T095905Z
UID:3269-1566561600-1566579600@www.skhb.cz
SUMMARY:Zamrzla rezervace
DESCRIPTION:
URL:https://www.skhb.cz/kalendar-akci/zamrzla-rezervace/
LOCATION:Střelnice – Horní Beřkovice
END:VEVENT
BEGIN:VEVENT
DTSTART;TZID=Europe/Prague:20190827T090000
DTEND;TZID=Europe/Prague:20190829T180000
DTSTAMP:20260425T163537
CREATED:20190729T204120Z
LAST-MODIFIED:20190805T092007Z
UID:3265-1566896400-1567101600@www.skhb.cz
SUMMARY:rezervace David
DESCRIPTION:
URL:https://www.skhb.cz/kalendar-akci/rezervace-david-4/
END:VEVENT
BEGIN:VEVENT
DTSTART;TZID=Europe/Prague:20190830T150000
DTEND;TZID=Europe/Prague:20190830T180000
DTSTAMP:20260425T163537
CREATED:20190821T075634Z
LAST-MODIFIED:20190822T084304Z
UID:3276-1567177200-1567188000@www.skhb.cz
SUMMARY:Rezervace David
DESCRIPTION:
URL:https://www.skhb.cz/kalendar-akci/rezervace-david-7/
END:VEVENT
BEGIN:VEVENT
DTSTART;TZID=Europe/Prague:20190831T130000
DTEND;TZID=Europe/Prague:20190831T160000
DTSTAMP:20260425T163537
CREATED:20190814T120301Z
LAST-MODIFIED:20190814T120301Z
UID:3272-1567256400-1567267200@www.skhb.cz
SUMMARY:Rezervace Brůža - MS xxx
DESCRIPTION:Nějaké Myslivecké sdružení
URL:https://www.skhb.cz/kalendar-akci/rezervace-bruza-ms-xxx/
END:VEVENT
END:VCALENDAR